PDS_VERSION_ID = PDS3
/* FILE DATA ELEMENTS */
RECORD_TYPE = STREAM
/* POINTERS TO DATA OBJECTS */
^COMPRESSED_FILE = "H2230_0000_IR3.JP2"
/* IDENTIFICATION DATA ELEMENTS */
DATA_SET_ID = "MEX-M-HRSC-5-REFDR-MAPPROJECTED-V3.0"
DATA_SET_NAME = "MARS EXPRESS HRSC MAP PROJECTED REFDR V3.0"
DETECTOR_ID = MEX_HRSC_IR
EVENT_TYPE = "MARS-REGIONAL-MAPPING-Vo-Gl"
INSTRUMENT_HOST_ID = MEX
INSTRUMENT_HOST_NAME = "MARS EXPRESS"
INSTRUMENT_ID = HRSC
INSTRUMENT_NAME = "HIGH RESOLUTION STEREO CAMERA"
MISSION_NAME = "MARS EXPRESS"
MISSION_PHASE_NAME = MR_Phase_8
PROCESSING_LEVEL_ID = 3
PRODUCT_CREATION_TIME = 2016-03-14T22:12:55.000Z
PRODUCT_ID = "H2230_0000_IR3.JP2"
RELEASE_ID = 0028
REVISION_ID = 0000
/* QUALITY DATA ELEMENTS */
DATA_QUALITY_ID = 1
DATA_QUALITY_DESC = "Data calculated based on original SPICE kernels"
/* TIME DATA ELEMENTS */
SPACECRAFT_CLOCK_START_COUNT = "1/0076909654.57154"
SPACECRAFT_CLOCK_STOP_COUNT = "1/0076909982.47417"
START_TIME = 2005-10-09T03:49:02.748Z
STOP_TIME = 2005-10-09T03:52:52.046Z
/* ORBITAL DATA ELEMENTS */
ASCENDING_NODE_LONGITUDE = 181.45
MAXIMUM_RESOLUTION = 81.8
FOOTPRINT_POINT_LATITUDE = (-3.5103,-3.50979,-3.5095,-3.50952, -3.50986,-3.51038,-3.3373,-3.08512, -2.83358,-2.58277,-2.33258,-2.08302, -1.83388,-1.58564,-1.33824,-1.09163, -0.845604,-0.600526,-0.356182,-0.112742 ,0.129559,0.371247,0.7331,0.973466, 1.21252,1.56984,1.80747,2.16342,2.39953 ,2.63418,2.98569,3.21984,3.45376, 3.68619,3.91809,4.14906,4.37954,4.60962 ,4.83884,5.06751,5.29527,5.52258, 5.74894,5.97439,6.1994,6.64728,7.09196, 7.53324,7.97153,8.32214,8.326,8.32952, 8.33323,8.33626,8.33744,8.33774,8.33658 ,7.89903,7.45837,7.01524,6.5688,6.12026 ,5.66946,5.44255,5.21497,4.98664,4.7577 ,4.52778,4.29662,3.94839,3.71608, 3.48519,3.25381,3.02061,2.78825,2.55464 ,2.20226,1.9672,1.73012,1.37416,1.13643 ,0.898941,0.65875,0.41689,0.172738, -0.0736127,-0.317415,-0.562172, -0.808107,-1.05471,-1.30226,-1.55061, -1.80001,-2.04981,-2.30048,-2.55232, -2.80456,-3.05748,-3.31073,-3.5103)
FOOTPRINT_POINT_LONGITUDE = (244.783,244.522,244.261,244.001, 243.742,243.515,243.227,243.219,243.21, 243.201,243.192,243.182,243.173,243.164 ,243.155,243.145,243.135,243.126, 243.116,243.106,243.096,243.085,243.07, 243.059,243.049,243.033,243.022,243.006 ,242.995,242.984,242.967,242.956, 242.945,242.934,242.923,242.911,242.9, 242.889,242.877,242.865,242.854,242.842 ,242.83,242.818,242.806,242.782,242.757 ,242.732,242.707,242.85,243.111,243.372 ,243.751,244.226,244.583,244.965, 245.236,245.222,245.208,245.194,245.181 ,245.168,245.154,245.148,245.142, 245.135,245.129,245.123,245.117,245.109 ,245.103,245.096,245.089,245.082, 245.075,245.069,245.059,245.052,245.046 ,245.036,245.03,245.023,245.017,245.012 ,245.007,245.003,244.998,244.992, 244.987,244.983,244.978,244.973,244.969 ,244.964,244.96,244.956,244.951,244.947 ,244.943,244.783)
ORBIT_NUMBER = 2230
ORBITAL_ECCENTRICITY = 0.573
ORBITAL_INCLINATION = 86.63
ORBITAL_SEMIMAJOR_AXIS = 8598.69
PERIAPSIS_ALTITUDE = 278.77
PERIAPSIS_ARGUMENT_ANGLE = 326.15
PERIAPSIS_TIME = 2005-10-09T03:40:35.000Z
SPACECRAFT_ORIENTATION = (0.0,1.0,0.0)
^MEX_ORIENTATION_DESC = "MEX_ORIENTATION_DESC.TXT"
SPACECRAFT_POINTING_MODE = ACROSSTRACK
^MEX_POINTING_DESC = "MEX_POINTING_DESC.TXT"
RIGHT_ASCENSION = -1e+32
DECLINATION = -1e+32
OFFSET_ANGLE = -0.229
SPACECRAFT_SOLAR_DISTANCE = 2.13611e+08
TARGET_NAME = MARS
/* CAMERA DATA ELEMENTS */
DETECTOR_TEMPERATURE = 17.5549
FOCAL_PLANE_TEMPERATURE = 8.9911
INST_CMPRS_NAME = "DISCRETE COSINE TRANSFORMATION (DCT)"
INST_CMPRS_RATIO = 17.7776
INST_CMPRS_QUALITY = 0
INST_CMPRS_QUANTZ_TBL_ID = 0
INSTRUMENT_TEMPERATURE = 11.4379
LENS_TEMPERATURE = 9.3989
MACROPIXEL_SIZE = 4
MISSING_FRAMES = 0
PIXEL_SUBSAMPLING_FLAG = N
SIGNAL_CHAIN_ID = 2
/* RADIOMETRIC DATA ELEMENTS */
BANDWIDTH = 81.0
CENTER_FILTER_WAVELENGTH = 955.5
RADIANCE_OFFSET = 2.62513
RADIANCE_SCALING_FACTOR = 0.00634601
REFLECTANCE_SCALING_FACTOR = 0.000624709
MEX:REFLECTANCE_OFFSET = 0.258421
/* IMAGE OBJECT DEFINITIONS */
OBJECT = IMAGE
  INTERCHANGE_FORMAT = BINARY
  LINES = 14064
  LINE_SAMPLES = 2791
  SAMPLE_TYPE = UNSIGNED_INTEGER
  SAMPLE_BITS = 8
  BANDS = 1
  BAND_STORAGE_TYPE = BAND_SEQUENTIAL
  MAXIMUM = 124
  MEAN = 102.518
  MINIMUM = 58
  STANDARD_DEVIATION = 4.55982
END_OBJECT = IMAGE
/* MAP OBJECT DEFINITIONS */
OBJECT = IMAGE_MAP_PROJECTION
  ^DATA_SET_MAP_PROJECTION_CATALOG= "DSMAP.CAT"
  A_AXIS_RADIUS = 3396.0
  B_AXIS_RADIUS = 3396.0
  C_AXIS_RADIUS = 3396.0
  CENTER_LATITUDE = 0.0
  CENTER_LONGITUDE = 244.0
  COORDINATE_SYSTEM_NAME = PLANETOGRAPHIC
  COORDINATE_SYSTEM_TYPE = "BODY-FIXED ROTATING"
  EASTERNMOST_LONGITUDE = 245.236
  FIRST_STANDARD_PARALLEL = "N/A"
  LINE_FIRST_PIXEL = 1
  LINE_LAST_PIXEL = 14064
  LINE_PROJECTION_OFFSET = 9924.625
  MAP_PROJECTION_ROTATION = 0.0
  MAP_PROJECTION_TYPE = SINUSOIDAL
  MAP_RESOLUTION = 1185.42760773333
  MAP_SCALE = 0.05
  MAXIMUM_LATITUDE = 8.33774
  MINIMUM_LATITUDE = -3.51038
  POSITIVE_LONGITUDE_DIRECTION = EAST
  REFERENCE_LATITUDE = "N/A"
  REFERENCE_LONGITUDE = "N/A"
  SAMPLE_FIRST_PIXEL = 1
  SAMPLE_LAST_PIXEL = 2791
  SAMPLE_PROJECTION_OFFSET = 1432.625
  SECOND_STANDARD_PARALLEL = "N/A"
  WESTERNMOST_LONGITUDE = 242.707
END_OBJECT = IMAGE_MAP_PROJECTION
/* The JPEG2000 image data file associated with this label. */
OBJECT = COMPRESSED_FILE
  FILE_NAME = "H2230_0000_IR3.JP2"
  RECORD_TYPE = UNDEFINED
  FILE_RECORDS = UNK
  ENCODING_TYPE = "JP2"
  INTERCHANGE_FORMAT = BINARY
  UNCOMPRESSED_FILE_NAME = "H2230_0000_IR3.IMG"
  REQUIRED_STORAGE_BYTES = "39274952"
  ^DESCRIPTION = "JP2INFO.TXT"
END_OBJECT = COMPRESSED_FILE
END
