PDS_VERSION_ID = PDS3
/* FILE DATA ELEMENTS */
RECORD_TYPE = STREAM
/* POINTERS TO DATA OBJECTS */
^COMPRESSED_FILE = "H2230_0000_S13.JP2"
/* IDENTIFICATION DATA ELEMENTS */
DATA_SET_ID = "MEX-M-HRSC-5-REFDR-MAPPROJECTED-V3.0"
DATA_SET_NAME = "MARS EXPRESS HRSC MAP PROJECTED REFDR V3.0"
DETECTOR_ID = MEX_HRSC_S1
EVENT_TYPE = "MARS-REGIONAL-MAPPING-Vo-Gl"
INSTRUMENT_HOST_ID = MEX
INSTRUMENT_HOST_NAME = "MARS EXPRESS"
INSTRUMENT_ID = HRSC
INSTRUMENT_NAME = "HIGH RESOLUTION STEREO CAMERA"
MISSION_NAME = "MARS EXPRESS"
MISSION_PHASE_NAME = MR_Phase_8
PROCESSING_LEVEL_ID = 3
PRODUCT_CREATION_TIME = 2016-03-14T22:12:55.000Z
PRODUCT_ID = "H2230_0000_S13.JP2"
RELEASE_ID = 0028
REVISION_ID = 0000
/* QUALITY DATA ELEMENTS */
DATA_QUALITY_ID = 1
DATA_QUALITY_DESC = "Data calculated based on original SPICE kernels"
/* TIME DATA ELEMENTS */
SPACECRAFT_CLOCK_START_COUNT = "1/0076909654.57154"
SPACECRAFT_CLOCK_STOP_COUNT = "1/0076909982.47417"
START_TIME = 2005-10-09T03:49:11.693Z
STOP_TIME = 2005-10-09T03:53:07.823Z
/* ORBITAL DATA ELEMENTS */
ASCENDING_NODE_LONGITUDE = 181.45
MAXIMUM_RESOLUTION = 42.3
FOOTPRINT_POINT_LATITUDE = (-3.52171,-3.52045,-3.51948,-3.51895, -3.51902,-3.51964,-3.2081,-2.94604, -2.6934,-2.44124,-2.19004,-1.93934, -1.68923,-1.4402,-1.19207,-0.944788, -0.698335,-0.452764,-0.208227,0.0354693 ,0.277968,0.519883,0.761122,1.00132, 1.24057,1.47932,1.71716,1.95488,2.19204 ,2.42775,2.66241,2.89683,3.1304,3.48129 ,3.71307,3.94437,4.17499,4.405,4.63437, 4.86296,5.09083,5.31767,5.54416,5.76945 ,5.99395,6.21778,6.66324,7.10492, 7.54295,7.97777,8.32682,8.33035,8.3346, 8.33908,8.3407,8.3421,8.3422,8.34143, 8.12332,7.68781,7.24888,6.80726,6.47327 ,6.02662,5.57766,5.35135,5.12453, 4.89658,4.66786,4.43803,4.2073,3.97468, 3.62773,3.28131,3.04972,2.81814,2.58431 ,2.35078,2.11666,1.88193,1.64568, 1.40791,1.05208,0.811255,0.569978, 0.326733,0.0810296,-0.287808,-0.533664, -0.780582,-1.02872,-1.27748,-1.52697, -1.77733,-2.02878,-2.28096,-2.66205, -2.91634,-3.17987,-3.52171)
FOOTPRINT_POINT_LONGITUDE = (244.911,244.634,244.358,244.082, 243.584,243.292,243.204,243.195,243.186 ,243.176,243.167,243.157,243.147, 243.138,243.128,243.118,243.108,243.097 ,243.087,243.077,243.066,243.055, 243.044,243.034,243.023,243.011,243.0, 242.989,242.978,242.967,242.955,242.944 ,242.932,242.915,242.903,242.891, 242.879,242.868,242.856,242.844,242.832 ,242.819,242.807,242.795,242.782,242.77 ,242.745,242.719,242.693,242.666, 242.745,242.974,243.278,243.735,244.014 ,244.447,244.702,245.06,245.266,245.251 ,245.237,245.222,245.212,245.197, 245.183,245.176,245.169,245.163,245.156 ,245.15,245.143,245.137,245.127,245.117 ,245.109,245.102,245.095,245.088, 245.081,245.073,245.066,245.06,245.049, 245.043,245.037,245.031,245.026,245.019 ,245.013,245.008,245.003,244.998, 244.993,244.988,244.983,244.978,244.972 ,244.967,244.962,244.911)
ORBIT_NUMBER = 2230
ORBITAL_ECCENTRICITY = 0.573
ORBITAL_INCLINATION = 86.63
ORBITAL_SEMIMAJOR_AXIS = 8598.69
PERIAPSIS_ALTITUDE = 278.77
PERIAPSIS_ARGUMENT_ANGLE = 326.15
PERIAPSIS_TIME = 2005-10-09T03:40:35.000Z
SPACECRAFT_ORIENTATION = (0.0,1.0,0.0)
^MEX_ORIENTATION_DESC = "MEX_ORIENTATION_DESC.TXT"
SPACECRAFT_POINTING_MODE = ACROSSTRACK
^MEX_POINTING_DESC = "MEX_POINTING_DESC.TXT"
RIGHT_ASCENSION = -1e+32
DECLINATION = -1e+32
OFFSET_ANGLE = -0.229
SPACECRAFT_SOLAR_DISTANCE = 2.13611e+08
TARGET_NAME = MARS
/* CAMERA DATA ELEMENTS */
DETECTOR_TEMPERATURE = 17.5549
FOCAL_PLANE_TEMPERATURE = 8.9911
INST_CMPRS_NAME = "DISCRETE COSINE TRANSFORMATION (DCT)"
INST_CMPRS_RATIO = 11.3409
INST_CMPRS_QUALITY = 0
INST_CMPRS_QUANTZ_TBL_ID = 0
INSTRUMENT_TEMPERATURE = 11.4379
LENS_TEMPERATURE = 9.3989
MACROPIXEL_SIZE = 2
MISSING_FRAMES = 3
PIXEL_SUBSAMPLING_FLAG = N
SIGNAL_CHAIN_ID = 1
/* RADIOMETRIC DATA ELEMENTS */
BANDWIDTH = 180.0
CENTER_FILTER_WAVELENGTH = 677.0
RADIANCE_OFFSET = 9.76755
RADIANCE_SCALING_FACTOR = 0.0246615
REFLECTANCE_SCALING_FACTOR = 0.000587098
MEX:REFLECTANCE_OFFSET = 0.232528
/* IMAGE OBJECT DEFINITIONS */
OBJECT = IMAGE
  INTERCHANGE_FORMAT = BINARY
  LINES = 28127
  LINE_SAMPLES = 5582
  SAMPLE_TYPE = UNSIGNED_INTEGER
  SAMPLE_BITS = 8
  BANDS = 1
  BAND_STORAGE_TYPE = BAND_SEQUENTIAL
  MAXIMUM = 127
  MEAN = 103.889
  MINIMUM = 55
  STANDARD_DEVIATION = 4.65312
END_OBJECT = IMAGE
/* MAP OBJECT DEFINITIONS */
OBJECT = IMAGE_MAP_PROJECTION
  ^DATA_SET_MAP_PROJECTION_CATALOG= "DSMAP.CAT"
  A_AXIS_RADIUS = 3396.0
  B_AXIS_RADIUS = 3396.0
  C_AXIS_RADIUS = 3396.0
  CENTER_LATITUDE = 0.0
  CENTER_LONGITUDE = 244.0
  COORDINATE_SYSTEM_NAME = PLANETOGRAPHIC
  COORDINATE_SYSTEM_TYPE = "BODY-FIXED ROTATING"
  EASTERNMOST_LONGITUDE = 245.266
  FIRST_STANDARD_PARALLEL = "N/A"
  LINE_FIRST_PIXEL = 1
  LINE_LAST_PIXEL = 28127
  LINE_PROJECTION_OFFSET = 19849.75
  MAP_PROJECTION_ROTATION = 0.0
  MAP_PROJECTION_TYPE = SINUSOIDAL
  MAP_RESOLUTION = 2370.85521546667
  MAP_SCALE = 0.025
  MAXIMUM_LATITUDE = 8.3422
  MINIMUM_LATITUDE = -3.52171
  POSITIVE_LONGITUDE_DIRECTION = EAST
  REFERENCE_LATITUDE = "N/A"
  REFERENCE_LONGITUDE = "N/A"
  SAMPLE_FIRST_PIXEL = 1
  SAMPLE_LAST_PIXEL = 5582
  SAMPLE_PROJECTION_OFFSET = 2865.75
  SECOND_STANDARD_PARALLEL = "N/A"
  WESTERNMOST_LONGITUDE = 242.666
END_OBJECT = IMAGE_MAP_PROJECTION
/* The JPEG2000 image data file associated with this label. */
OBJECT = COMPRESSED_FILE
  FILE_NAME = "H2230_0000_S13.JP2"
  RECORD_TYPE = UNDEFINED
  FILE_RECORDS = UNK
  ENCODING_TYPE = "JP2"
  INTERCHANGE_FORMAT = BINARY
  UNCOMPRESSED_FILE_NAME = "H2230_0000_S13.IMG"
  REQUIRED_STORAGE_BYTES = "157032824"
  ^DESCRIPTION = "JP2INFO.TXT"
END_OBJECT = COMPRESSED_FILE
END
