PDS_VERSION_ID = PDS3
/* FILE DATA ELEMENTS */
RECORD_TYPE = STREAM
/* POINTERS TO DATA OBJECTS */
^COMPRESSED_FILE = "H2234_0000_GR3.JP2"
/* IDENTIFICATION DATA ELEMENTS */
DATA_SET_ID = "MEX-M-HRSC-5-REFDR-MAPPROJECTED-V3.0"
DATA_SET_NAME = "MARS EXPRESS HRSC MAP PROJECTED REFDR V3.0"
DETECTOR_ID = MEX_HRSC_GREEN
EVENT_TYPE = "MARS-REGIONAL-MAPPING-Vo-Im"
INSTRUMENT_HOST_ID = MEX
INSTRUMENT_HOST_NAME = "MARS EXPRESS"
INSTRUMENT_ID = HRSC
INSTRUMENT_NAME = "HIGH RESOLUTION STEREO CAMERA"
MISSION_NAME = "MARS EXPRESS"
MISSION_PHASE_NAME = MR_Phase_8
PROCESSING_LEVEL_ID = 3
PRODUCT_CREATION_TIME = 2016-03-14T22:12:55.000Z
PRODUCT_ID = "H2234_0000_GR3.JP2"
RELEASE_ID = 0028
REVISION_ID = 0000
/* QUALITY DATA ELEMENTS */
DATA_QUALITY_ID = 1
DATA_QUALITY_DESC = "Data calculated based on original SPICE kernels"
/* TIME DATA ELEMENTS */
SPACECRAFT_CLOCK_START_COUNT = "1/0077005444.57941"
SPACECRAFT_CLOCK_STOP_COUNT = "1/0077005673.23804"
START_TIME = 2005-10-10T06:25:11.926Z
STOP_TIME = 2005-10-10T06:27:30.974Z
/* ORBITAL DATA ELEMENTS */
ASCENDING_NODE_LONGITUDE = 181.36
MAXIMUM_RESOLUTION = 60.4
FOOTPRINT_POINT_LATITUDE = (-64.7398,-64.7201,-64.6955,-64.6715, -64.6472,-64.6028,-64.4921,-64.3065, -64.1206,-63.9344,-63.7497,-63.5672, -63.3845,-63.2015,-63.02,-62.8409, -62.6614,-62.4817,-62.2132,-62.0371, -61.8608,-61.6845,-61.4203,-61.2478, -60.989,-60.8162,-60.5573,-60.3879, -60.2187,-60.0491,-59.8794,-59.7103, -59.5447,-59.3787,-59.2127,-58.9641, -58.798,-58.5547,-58.2296,-58.0667, -57.9035,-57.6587,-57.4139,-57.2507, -57.0054,-56.8417,-56.6779,-56.5138, -56.3497,-56.1853,-55.9666,-55.9823, -56.0018,-56.0284,-56.0472,-56.139, -56.3044,-56.4699,-56.6351,-56.8001, -56.9651,-57.13,-57.2948,-57.4594, -57.7063,-57.8706,-58.0345,-58.1989, -58.3635,-58.5275,-58.6912,-58.8546, -59.1067,-59.2747,-59.442,-59.6931, -59.8595,-60.029,-60.1999,-60.3712, -60.5421,-60.7128,-60.9744,-61.237, -61.4118,-61.5865,-61.7642,-61.9416, -62.1203,-62.3875,-62.5689,-62.7508, -63.0235,-63.2049,-63.482,-63.667, -63.9445,-64.2267,-64.4152,-64.7398)
FOOTPRINT_POINT_LONGITUDE = (209.833,209.274,208.647,208.09,207.571 ,206.708,206.194,206.261,206.328, 206.393,206.457,206.518,206.579,206.639 ,206.698,206.755,206.811,206.867, 206.948,207.001,207.053,207.103,207.179 ,207.226,207.295,207.34,207.41,207.454, 207.496,207.538,207.58,207.621,207.661, 207.7,207.739,207.793,207.83,207.883, 207.953,207.989,208.024,208.075,208.124 ,208.155,208.203,208.233,208.264, 208.295,208.325,208.355,208.394,208.74, 209.197,209.896,210.467,210.733,210.723 ,210.713,210.703,210.692,210.681, 210.671,210.66,210.65,210.634,210.623, 210.61,210.6,210.592,210.581,210.569, 210.556,210.546,210.535,210.521,210.502 ,210.487,210.466,210.451,210.438, 210.424,210.41,210.387,210.367,210.353, 210.339,210.321,210.301,210.286,210.262 ,210.245,210.227,210.202,210.184, 210.155,210.134,210.105,210.073,210.052 ,209.833)
ORBIT_NUMBER = 2234
ORBITAL_ECCENTRICITY = 0.573
ORBITAL_INCLINATION = 86.64
ORBITAL_SEMIMAJOR_AXIS = 8591.31
PERIAPSIS_ALTITUDE = 279.1
PERIAPSIS_ARGUMENT_ANGLE = 325.47
PERIAPSIS_TIME = 2005-10-10T06:32:55.000Z
SPACECRAFT_ORIENTATION = (0.0,1.0,0.0)
^MEX_ORIENTATION_DESC = "MEX_ORIENTATION_DESC.TXT"
SPACECRAFT_POINTING_MODE = ACROSSTRACK
^MEX_POINTING_DESC = "MEX_POINTING_DESC.TXT"
RIGHT_ASCENSION = -1e+32
DECLINATION = -1e+32
OFFSET_ANGLE = -0.12
SPACECRAFT_SOLAR_DISTANCE = 2.13784e+08
TARGET_NAME = MARS
/* CAMERA DATA ELEMENTS */
DETECTOR_TEMPERATURE = 18.3705
FOCAL_PLANE_TEMPERATURE = 8.9911
INST_CMPRS_NAME = "DISCRETE COSINE TRANSFORMATION (DCT)"
INST_CMPRS_RATIO = 17.4934
INST_CMPRS_QUALITY = 0
INST_CMPRS_QUANTZ_TBL_ID = 0
INSTRUMENT_TEMPERATURE = 11.4379
LENS_TEMPERATURE = 10.2145
MACROPIXEL_SIZE = 4
MISSING_FRAMES = 0
PIXEL_SUBSAMPLING_FLAG = N
SIGNAL_CHAIN_ID = 2
/* RADIOMETRIC DATA ELEMENTS */
BANDWIDTH = 88.0
CENTER_FILTER_WAVELENGTH = 538.0
RADIANCE_OFFSET = 1.39787
RADIANCE_SCALING_FACTOR = 0.00522488
REFLECTANCE_SCALING_FACTOR = 0.000205594
MEX:REFLECTANCE_OFFSET = 0.0550049
/* IMAGE OBJECT DEFINITIONS */
OBJECT = IMAGE
  INTERCHANGE_FORMAT = BINARY
  LINES = 10423
  LINE_SAMPLES = 2622
  SAMPLE_TYPE = UNSIGNED_INTEGER
  SAMPLE_BITS = 8
  BANDS = 1
  BAND_STORAGE_TYPE = BAND_SEQUENTIAL
  MAXIMUM = 129
  MEAN = 102.316
  MINIMUM = 61
  STANDARD_DEVIATION = 8.0442
END_OBJECT = IMAGE
/* MAP OBJECT DEFINITIONS */
OBJECT = IMAGE_MAP_PROJECTION
  ^DATA_SET_MAP_PROJECTION_CATALOG= "DSMAP.CAT"
  A_AXIS_RADIUS = 3396.0
  B_AXIS_RADIUS = 3396.0
  C_AXIS_RADIUS = 3396.0
  CENTER_LATITUDE = 0.0
  CENTER_LONGITUDE = 209.0
  COORDINATE_SYSTEM_NAME = PLANETOGRAPHIC
  COORDINATE_SYSTEM_TYPE = "BODY-FIXED ROTATING"
  EASTERNMOST_LONGITUDE = 210.733
  FIRST_STANDARD_PARALLEL = "N/A"
  LINE_FIRST_PIXEL = 1
  LINE_LAST_PIXEL = 10423
  LINE_PROJECTION_OFFSET = -66345.875
  MAP_PROJECTION_ROTATION = 0.0
  MAP_PROJECTION_TYPE = SINUSOIDAL
  MAP_RESOLUTION = 1185.42760773333
  MAP_SCALE = 0.05
  MAXIMUM_LATITUDE = -55.9666
  MINIMUM_LATITUDE = -64.7398
  POSITIVE_LONGITUDE_DIRECTION = EAST
  REFERENCE_LATITUDE = "N/A"
  REFERENCE_LONGITUDE = "N/A"
  SAMPLE_FIRST_PIXEL = 1
  SAMPLE_LAST_PIXEL = 2622
  SAMPLE_PROJECTION_OFFSET = 1468.625
  SECOND_STANDARD_PARALLEL = "N/A"
  WESTERNMOST_LONGITUDE = 206.194
END_OBJECT = IMAGE_MAP_PROJECTION
/* The JPEG2000 image data file associated with this label. */
OBJECT = COMPRESSED_FILE
  FILE_NAME = "H2234_0000_GR3.JP2"
  RECORD_TYPE = UNDEFINED
  FILE_RECORDS = UNK
  ENCODING_TYPE = "JP2"
  INTERCHANGE_FORMAT = BINARY
  UNCOMPRESSED_FILE_NAME = "H2234_0000_GR3.IMG"
  REQUIRED_STORAGE_BYTES = "27350082"
  ^DESCRIPTION = "JP2INFO.TXT"
END_OBJECT = COMPRESSED_FILE
END
