PDS_VERSION_ID = PDS3
/* FILE DATA ELEMENTS */
RECORD_TYPE = STREAM
/* POINTERS TO DATA OBJECTS */
^COMPRESSED_FILE = "H2238_0000_S23.JP2"
/* IDENTIFICATION DATA ELEMENTS */
DATA_SET_ID = "MEX-M-HRSC-5-REFDR-MAPPROJECTED-V3.0"
DATA_SET_NAME = "MARS EXPRESS HRSC MAP PROJECTED REFDR V3.0"
DETECTOR_ID = MEX_HRSC_S2
EVENT_TYPE = "MARS-LOCAL-STEREO-Fl"
INSTRUMENT_HOST_ID = MEX
INSTRUMENT_HOST_NAME = "MARS EXPRESS"
INSTRUMENT_ID = HRSC
INSTRUMENT_NAME = "HIGH RESOLUTION STEREO CAMERA"
MISSION_NAME = "MARS EXPRESS"
MISSION_PHASE_NAME = MR_Phase_8
PROCESSING_LEVEL_ID = 3
PRODUCT_CREATION_TIME = 2016-03-14T22:12:55.000Z
PRODUCT_ID = "H2238_0000_S23.JP2"
RELEASE_ID = 0028
REVISION_ID = 0000
/* QUALITY DATA ELEMENTS */
DATA_QUALITY_ID = 1
DATA_QUALITY_DESC = "Data calculated based on original SPICE kernels"
/* TIME DATA ELEMENTS */
SPACECRAFT_CLOCK_START_COUNT = "1/0077102861.57312"
SPACECRAFT_CLOCK_STOP_COUNT = "1/0077103033.24148"
START_TIME = 2005-10-11T09:27:48.948Z
STOP_TIME = 2005-10-11T09:29:35.076Z
/* ORBITAL DATA ELEMENTS */
ASCENDING_NODE_LONGITUDE = 181.27
MAXIMUM_RESOLUTION = 25.2
FOOTPRINT_POINT_LATITUDE = (-23.5855,-23.5782,-23.5704,-23.5622, -23.5535,-23.5444,-23.5348,-23.303, -23.1644,-22.8936,-22.7569,-22.5548, -22.4196,-22.2835,-22.1481,-22.0111, -21.8745,-21.7383,-21.6014,-21.3937, -21.2515,-21.1096,-20.9678,-20.8259, -20.6841,-20.5406,-20.401,-20.2591, -20.1151,-19.9042,-19.6907,-19.5475, -19.4061,-19.2599,-19.0415,-18.8951, -18.7474,-18.5268,-18.3812,-18.2353, -18.0864,-17.8642,-17.7159,-17.5686, -17.4182,-17.2651,-17.1138,-16.9585, -16.8037,-16.5862,-16.4356,-16.3648, -16.3719,-16.3785,-16.3893,-16.3955, -16.402,-16.634,-16.7862,-16.938, -17.0896,-17.2402,-17.3919,-17.5404, -17.7561,-17.9844,-18.1391,-18.2828, -18.4297,-18.6501,-18.7983,-18.9461, -19.0936,-19.2411,-19.3875,-19.5303, -19.6723,-19.8129,-19.9546,-20.097, -20.3095,-20.4489,-20.659,-20.8029, -20.946,-21.161,-21.3029,-21.4454, -21.584,-21.7886,-21.9253,-22.0622, -22.1993,-22.3365,-22.5421,-22.6798, -23.0128,-23.2228,-23.3614,-23.5855)
FOOTPRINT_POINT_LONGITUDE = (177.78,177.607,177.433,177.258,177.081 ,176.904,176.724,176.674,176.674, 176.679,176.68,176.684,176.686,176.687, 176.689,176.69,176.691,176.692,176.693, 176.694,176.695,176.695,176.696,176.697 ,176.697,176.697,176.699,176.699, 176.698,176.7,176.7,176.699,176.7, 176.699,176.7,176.7,176.7,176.699,176.7 ,176.7,176.699,176.697,176.696,176.695, 176.694,176.693,176.693,176.69,176.688, 176.692,176.692,176.862,177.054,177.234 ,177.472,177.626,177.825,177.92,177.918 ,177.916,177.914,177.912,177.911, 177.909,177.906,177.903,177.901,177.899 ,177.897,177.894,177.892,177.89,177.888 ,177.886,177.884,177.882,177.88,177.878 ,177.876,177.874,177.871,177.869, 177.866,177.864,177.862,177.859,177.857 ,177.855,177.853,177.85,177.848,177.846 ,177.844,177.842,177.839,177.837, 177.832,177.828,177.826,177.78)
ORBIT_NUMBER = 2238
ORBITAL_ECCENTRICITY = 0.573
ORBITAL_INCLINATION = 86.63
ORBITAL_SEMIMAJOR_AXIS = 8588.91
PERIAPSIS_ALTITUDE = 279.48
PERIAPSIS_ARGUMENT_ANGLE = 324.77
PERIAPSIS_TIME = 2005-10-11T09:25:21.000Z
SPACECRAFT_ORIENTATION = (0.0,1.0,0.0)
^MEX_ORIENTATION_DESC = "MEX_ORIENTATION_DESC.TXT"
SPACECRAFT_POINTING_MODE = ACROSSTRACK
^MEX_POINTING_DESC = "MEX_POINTING_DESC.TXT"
RIGHT_ASCENSION = -1e+32
DECLINATION = -1e+32
OFFSET_ANGLE = 0.5
SPACECRAFT_SOLAR_DISTANCE = 2.13958e+08
TARGET_NAME = MARS
/* CAMERA DATA ELEMENTS */
DETECTOR_TEMPERATURE = 18.5744
FOCAL_PLANE_TEMPERATURE = 8.7872
INST_CMPRS_NAME = "DISCRETE COSINE TRANSFORMATION (DCT)"
INST_CMPRS_RATIO = 12.1442
INST_CMPRS_QUALITY = 0
INST_CMPRS_QUANTZ_TBL_ID = 0
INSTRUMENT_TEMPERATURE = 11.234
LENS_TEMPERATURE = 8.9911
MACROPIXEL_SIZE = 2
MISSING_FRAMES = 0
PIXEL_SUBSAMPLING_FLAG = N
SIGNAL_CHAIN_ID = 1
/* RADIOMETRIC DATA ELEMENTS */
BANDWIDTH = 178.0
CENTER_FILTER_WAVELENGTH = 679.0
RADIANCE_OFFSET = 7.04578
RADIANCE_SCALING_FACTOR = 0.0276305
REFLECTANCE_SCALING_FACTOR = 0.000669848
MEX:REFLECTANCE_OFFSET = 0.170811
/* IMAGE OBJECT DEFINITIONS */
OBJECT = IMAGE
  INTERCHANGE_FORMAT = BINARY
  LINES = 16991
  LINE_SAMPLES = 3078
  SAMPLE_TYPE = UNSIGNED_INTEGER
  SAMPLE_BITS = 8
  BANDS = 1
  BAND_STORAGE_TYPE = BAND_SEQUENTIAL
  MAXIMUM = 145
  MEAN = 120.428
  MINIMUM = 65
  STANDARD_DEVIATION = 6.58488
END_OBJECT = IMAGE
/* MAP OBJECT DEFINITIONS */
OBJECT = IMAGE_MAP_PROJECTION
  ^DATA_SET_MAP_PROJECTION_CATALOG= "DSMAP.CAT"
  A_AXIS_RADIUS = 3396.0
  B_AXIS_RADIUS = 3396.0
  C_AXIS_RADIUS = 3396.0
  CENTER_LATITUDE = 0.0
  CENTER_LONGITUDE = 177.0
  COORDINATE_SYSTEM_NAME = PLANETOGRAPHIC
  COORDINATE_SYSTEM_TYPE = "BODY-FIXED ROTATING"
  EASTERNMOST_LONGITUDE = 177.92
  FIRST_STANDARD_PARALLEL = "N/A"
  LINE_FIRST_PIXEL = 1
  LINE_LAST_PIXEL = 16991
  LINE_PROJECTION_OFFSET = -38856.75
  MAP_PROJECTION_ROTATION = 0.0
  MAP_PROJECTION_TYPE = SINUSOIDAL
  MAP_RESOLUTION = 2370.85521546667
  MAP_SCALE = 0.025
  MAXIMUM_LATITUDE = -16.3648
  MINIMUM_LATITUDE = -23.5855
  POSITIVE_LONGITUDE_DIRECTION = EAST
  REFERENCE_LATITUDE = "N/A"
  REFERENCE_LONGITUDE = "N/A"
  SAMPLE_FIRST_PIXEL = 1
  SAMPLE_LAST_PIXEL = 3078
  SAMPLE_PROJECTION_OFFSET = 910.75
  SECOND_STANDARD_PARALLEL = "N/A"
  WESTERNMOST_LONGITUDE = 176.674
END_OBJECT = IMAGE_MAP_PROJECTION
/* The JPEG2000 image data file associated with this label. */
OBJECT = COMPRESSED_FILE
  FILE_NAME = "H2238_0000_S23.JP2"
  RECORD_TYPE = UNDEFINED
  FILE_RECORDS = UNK
  ENCODING_TYPE = "JP2"
  INTERCHANGE_FORMAT = BINARY
  UNCOMPRESSED_FILE_NAME = "H2238_0000_S23.IMG"
  REQUIRED_STORAGE_BYTES = "52322922"
  ^DESCRIPTION = "JP2INFO.TXT"
END_OBJECT = COMPRESSED_FILE
END
