PDS_VERSION_ID = PDS3
/* FILE DATA ELEMENTS */
RECORD_TYPE = STREAM
/* POINTERS TO DATA OBJECTS */
^COMPRESSED_FILE = "H2238_0001_GR3.JP2"
/* IDENTIFICATION DATA ELEMENTS */
DATA_SET_ID = "MEX-M-HRSC-5-REFDR-MAPPROJECTED-V3.0"
DATA_SET_NAME = "MARS EXPRESS HRSC MAP PROJECTED REFDR V3.0"
DETECTOR_ID = MEX_HRSC_GREEN
EVENT_TYPE = "MARS-REGIONAL-MAPPING-Vo-Im-Fl"
INSTRUMENT_HOST_ID = MEX
INSTRUMENT_HOST_NAME = "MARS EXPRESS"
INSTRUMENT_ID = HRSC
INSTRUMENT_NAME = "HIGH RESOLUTION STEREO CAMERA"
MISSION_NAME = "MARS EXPRESS"
MISSION_PHASE_NAME = MR_Phase_8
PROCESSING_LEVEL_ID = 3
PRODUCT_CREATION_TIME = 2016-03-14T22:12:55.000Z
PRODUCT_ID = "H2238_0001_GR3.JP2"
RELEASE_ID = 0028
REVISION_ID = 0000
/* QUALITY DATA ELEMENTS */
DATA_QUALITY_ID = 1
DATA_QUALITY_DESC = "Data calculated based on original SPICE kernels"
/* TIME DATA ELEMENTS */
SPACECRAFT_CLOCK_START_COUNT = "1/0077103356.57967"
SPACECRAFT_CLOCK_STOP_COUNT = "1/0077103887.49542"
START_TIME = 2005-10-11T09:37:23.488Z
STOP_TIME = 2005-10-11T09:42:20.878Z
/* ORBITAL DATA ELEMENTS */
ASCENDING_NODE_LONGITUDE = 181.27
MAXIMUM_RESOLUTION = 113.8
FOOTPRINT_POINT_LATITUDE = (8.9247,8.91905,8.91208,8.90666,8.89949 ,8.8918,9.03287,9.34199,9.65004,9.95705 ,10.2631,10.5683,10.8724,11.1753, 11.4769,11.7774,12.0774,12.376,12.6738, 12.9703,13.2654,13.5598,13.8531,14.1455 ,14.4368,14.7272,15.0164,15.3049, 15.5919,15.8783,16.1633,16.5892,16.8716 ,17.1531,17.4336,17.7131,17.9915, 18.2689,18.5453,19.0951,19.6408,20.1825 ,20.7203,21.2539,21.7836,22.3095, 22.8312,23.1467,23.157,23.1734,23.1827, 23.1971,23.2075,23.2142,23.2181,23.2215 ,23.2243,22.9645,22.4416,21.9147, 21.3839,20.8493,20.3105,19.7674,19.2208 ,18.9456,18.6697,18.3925,18.1145, 17.8355,17.5555,17.2744,16.9919,16.7083 ,16.4241,16.1388,15.8526,15.5654, 15.2771,14.9877,14.6973,14.4058,14.1133 ,13.8198,13.5253,13.2297,12.9331, 12.6354,12.3366,12.0373,11.7378,11.4358 ,11.1323,10.828,10.5229,10.2169,9.90992 ,9.60169,9.2925,8.9247)
FOOTPRINT_POINT_LONGITUDE = (178.16,177.791,177.375,177.073,176.701 ,176.327,175.853,175.835,175.817, 175.799,175.781,175.763,175.745,175.726 ,175.706,175.687,175.668,175.649, 175.629,175.609,175.588,175.568,175.548 ,175.527,175.506,175.486,175.465, 175.444,175.423,175.402,175.38,175.348, 175.326,175.304,175.281,175.259,175.237 ,175.214,175.191,175.145,175.099, 175.051,175.004,174.956,174.907,174.857 ,174.807,174.967,175.276,175.814, 176.159,176.77,177.304,177.761,178.066, 178.37,178.712,178.864,178.838,178.813, 178.788,178.764,178.74,178.718,178.695, 178.684,178.673,178.662,178.652,178.641 ,178.63,178.62,178.61,178.601,178.591, 178.581,178.571,178.562,178.552,178.543 ,178.533,178.524,178.515,178.506, 178.497,178.488,178.48,178.471,178.463, 178.454,178.444,178.436,178.428,178.421 ,178.413,178.405,178.397,178.39,178.382 ,178.16)
ORBIT_NUMBER = 2238
ORBITAL_ECCENTRICITY = 0.573
ORBITAL_INCLINATION = 86.63
ORBITAL_SEMIMAJOR_AXIS = 8588.91
PERIAPSIS_ALTITUDE = 279.48
PERIAPSIS_ARGUMENT_ANGLE = 324.77
PERIAPSIS_TIME = 2005-10-11T09:25:21.000Z
SPACECRAFT_ORIENTATION = (0.0,1.0,0.0)
^MEX_ORIENTATION_DESC = "MEX_ORIENTATION_DESC.TXT"
SPACECRAFT_POINTING_MODE = ACROSSTRACK
^MEX_POINTING_DESC = "MEX_POINTING_DESC.TXT"
RIGHT_ASCENSION = -1e+32
DECLINATION = -1e+32
OFFSET_ANGLE = 0.5
SPACECRAFT_SOLAR_DISTANCE = 2.13958e+08
TARGET_NAME = MARS
/* CAMERA DATA ELEMENTS */
DETECTOR_TEMPERATURE = 19.39
FOCAL_PLANE_TEMPERATURE = 8.9911
INST_CMPRS_NAME = "DISCRETE COSINE TRANSFORMATION (DCT)"
INST_CMPRS_RATIO = 14.361
INST_CMPRS_QUALITY = 0
INST_CMPRS_QUANTZ_TBL_ID = 0
INSTRUMENT_TEMPERATURE = 14.0886
LENS_TEMPERATURE = 9.195
MACROPIXEL_SIZE = 4
MISSING_FRAMES = 0
PIXEL_SUBSAMPLING_FLAG = N
SIGNAL_CHAIN_ID = 2
/* RADIOMETRIC DATA ELEMENTS */
BANDWIDTH = 88.0
CENTER_FILTER_WAVELENGTH = 538.0
RADIANCE_OFFSET = 2.37242
RADIANCE_SCALING_FACTOR = 0.00661802
REFLECTANCE_SCALING_FACTOR = 0.000260844
MEX:REFLECTANCE_OFFSET = 0.093507
/* IMAGE OBJECT DEFINITIONS */
OBJECT = IMAGE
  INTERCHANGE_FORMAT = BINARY
  LINES = 8502
  LINE_SAMPLES = 2211
  SAMPLE_TYPE = UNSIGNED_INTEGER
  SAMPLE_BITS = 8
  BANDS = 1
  BAND_STORAGE_TYPE = BAND_SEQUENTIAL
  MAXIMUM = 169
  MEAN = 128.632
  MINIMUM = 93
  STANDARD_DEVIATION = 7.47842
END_OBJECT = IMAGE
/* MAP OBJECT DEFINITIONS */
OBJECT = IMAGE_MAP_PROJECTION
  ^DATA_SET_MAP_PROJECTION_CATALOG= "DSMAP.CAT"
  A_AXIS_RADIUS = 3396.0
  B_AXIS_RADIUS = 3396.0
  C_AXIS_RADIUS = 3396.0
  CENTER_LATITUDE = 0.0
  CENTER_LONGITUDE = 177.0
  COORDINATE_SYSTEM_NAME = PLANETOGRAPHIC
  COORDINATE_SYSTEM_TYPE = "BODY-FIXED ROTATING"
  EASTERNMOST_LONGITUDE = 178.864
  FIRST_STANDARD_PARALLEL = "N/A"
  LINE_FIRST_PIXEL = 1
  LINE_LAST_PIXEL = 8502
  LINE_PROJECTION_OFFSET = 13768.875
  MAP_PROJECTION_ROTATION = 0.0
  MAP_PROJECTION_TYPE = SINUSOIDAL
  MAP_RESOLUTION = 592.713803866667
  MAP_SCALE = 0.1
  MAXIMUM_LATITUDE = 23.2243
  MINIMUM_LATITUDE = 8.8918
  POSITIVE_LONGITUDE_DIRECTION = EAST
  REFERENCE_LATITUDE = "N/A"
  REFERENCE_LONGITUDE = "N/A"
  SAMPLE_FIRST_PIXEL = 1
  SAMPLE_LAST_PIXEL = 2211
  SAMPLE_PROJECTION_OFFSET = 1210.375
  SECOND_STANDARD_PARALLEL = "N/A"
  WESTERNMOST_LONGITUDE = 174.807
END_OBJECT = IMAGE_MAP_PROJECTION
/* The JPEG2000 image data file associated with this label. */
OBJECT = COMPRESSED_FILE
  FILE_NAME = "H2238_0001_GR3.JP2"
  RECORD_TYPE = UNDEFINED
  FILE_RECORDS = UNK
  ENCODING_TYPE = "JP2"
  INTERCHANGE_FORMAT = BINARY
  UNCOMPRESSED_FILE_NAME = "H2238_0001_GR3.IMG"
  REQUIRED_STORAGE_BYTES = "18820032"
  ^DESCRIPTION = "JP2INFO.TXT"
END_OBJECT = COMPRESSED_FILE
END
