PDS_VERSION_ID = PDS3
/* FILE DATA ELEMENTS */
RECORD_TYPE = STREAM
/* POINTERS TO DATA OBJECTS */
^COMPRESSED_FILE = "H2247_0008_SR3.JP2"
/* IDENTIFICATION DATA ELEMENTS */
DATA_SET_ID = "MEX-M-HRSC-5-REFDR-MAPPROJECTED-V3.0"
DATA_SET_NAME = "MARS EXPRESS HRSC MAP PROJECTED REFDR V3.0"
DETECTOR_ID = MEX_HRSC_SRC
EVENT_TYPE = "MARS-LOCAL-STEREO-Im-Fl-Eo"
INSTRUMENT_HOST_ID = MEX
INSTRUMENT_HOST_NAME = "MARS EXPRESS"
INSTRUMENT_ID = HRSC
INSTRUMENT_NAME = "HIGH RESOLUTION STEREO CAMERA"
MISSION_NAME = "MARS EXPRESS"
MISSION_PHASE_NAME = MR_Phase_8
PROCESSING_LEVEL_ID = 3
PRODUCT_CREATION_TIME = 2016-03-14T22:12:55.000Z
PRODUCT_ID = "H2247_0008_SR3.JP2"
RELEASE_ID = 0028
REVISION_ID = 0000
/* QUALITY DATA ELEMENTS */
DATA_QUALITY_ID = 1
DATA_QUALITY_DESC = "Data calculated based on original SPICE kernels"
/* TIME DATA ELEMENTS */
SPACECRAFT_CLOCK_START_COUNT = "1/0077319994.57142"
SPACECRAFT_CLOCK_STOP_COUNT = "1/0077320235.06056"
IMAGE_TIME = 2005-10-13T21:48:36.097Z
START_TIME = 2005-10-13T21:48:36.095Z
STOP_TIME = 2005-10-13T21:48:36.100Z
/* ORBITAL DATA ELEMENTS */
ASCENDING_NODE_LONGITUDE = 181.09
MAXIMUM_RESOLUTION = 3.171
FOOTPRINT_POINT_LATITUDE = (-54.3056,-54.3034,-54.3016,-54.2999, -54.2979,-54.2954,-54.2937,-54.2912, -54.2893,-54.2866,-54.2849,-54.282, -54.2793,-54.2775,-54.2757,-54.2742, -54.2717,-54.2702,-54.2685,-54.2665, -54.2637,-54.2616,-54.2601,-54.2581, -54.2555,-54.2525,-54.2526,-54.2527, -54.2529,-54.253,-54.2531,-54.2533, -54.2534,-54.2535,-54.2536,-54.2538, -54.2539,-54.254,-54.2542,-54.2543, -54.2544,-54.2545,-54.2547,-54.2548, -54.2549,-54.255,-54.2552,-54.2553, -54.2554,-54.2555,-54.2557,-54.2578, -54.2593,-54.2627,-54.2649,-54.2671, -54.2699,-54.2718,-54.2749,-54.277, -54.2789,-54.282,-54.2845,-54.2868, -54.2885,-54.2905,-54.293,-54.2947, -54.2974,-54.2993,-54.3013,-54.3034, -54.305,-54.3084,-54.3096,-54.3094, -54.3093,-54.3092,-54.3091,-54.3089, -54.3088,-54.3087,-54.3086,-54.3084, -54.3083,-54.3082,-54.3081,-54.3079, -54.3078,-54.3077,-54.3075,-54.3074, -54.3073,-54.3072,-54.307,-54.3069, -54.3068,-54.3066,-54.3065,-54.3056)
FOOTPRINT_POINT_LONGITUDE = (12.4359,12.4361,12.4363,12.4365, 12.4367,12.4369,12.4371,12.4374,12.4375 ,12.4378,12.438,12.4383,12.4386,12.4388 ,12.439,12.4391,12.4394,12.4395,12.4397 ,12.4399,12.4402,12.4404,12.4406, 12.4408,12.441,12.4414,12.4451,12.4488, 12.4525,12.4561,12.4598,12.4635,12.4671 ,12.4708,12.4745,12.4781,12.4818, 12.4855,12.4892,12.4929,12.4966,12.5002 ,12.5039,12.5076,12.5112,12.5149, 12.5186,12.5223,12.5259,12.5296,12.5333 ,12.5345,12.5344,12.534,12.5338,12.5336 ,12.5333,12.5331,12.5328,12.5326, 12.5324,12.5321,12.5318,12.5316,12.5314 ,12.5312,12.531,12.5308,12.5305,12.5304 ,12.5301,12.5299,12.5298,12.5294, 12.5255,12.5219,12.5182,12.5145,12.5108 ,12.5071,12.5035,12.4998,12.4961, 12.4924,12.4888,12.4851,12.4823,12.4786 ,12.4749,12.4712,12.4676,12.4639, 12.4602,12.4565,12.4529,12.4492,12.4455 ,12.4418,12.4382,12.4359)
ORBIT_NUMBER = 2247
ORBITAL_ECCENTRICITY = 0.573
ORBITAL_INCLINATION = 86.63
ORBITAL_SEMIMAJOR_AXIS = 8590.35
PERIAPSIS_ALTITUDE = 279.04
PERIAPSIS_ARGUMENT_ANGLE = 323.17
PERIAPSIS_TIME = 2005-10-13T21:53:02.000Z
SPACECRAFT_ORIENTATION = (0.0,1.0,0.0)
^MEX_ORIENTATION_DESC = "MEX_ORIENTATION_DESC.TXT"
SPACECRAFT_POINTING_MODE = ACROSSTRACK
^MEX_POINTING_DESC = "MEX_POINTING_DESC.TXT"
RIGHT_ASCENSION = -1e+32
DECLINATION = -1e+32
OFFSET_ANGLE = -0.15
SPACECRAFT_SOLAR_DISTANCE = 2.14357e+08
TARGET_NAME = MARS
/* CAMERA DATA ELEMENTS */
BUFFER_MODE_ID = BUFFER_8
EXPOSURE_DURATION = 5.04
INST_CMPRS_NAME = NONE
INST_CMPRS_RATIO = 1.0
INST_CMPRS_QUALITY = -2147483648
INST_CMPRS_QUANTZ_TBL_ID = -2147483648
INSTRUMENT_TEMPERATURE = 8.18182
MISSING_FRAMES = 0
START_BIT = 0
/* RADIOMETRIC DATA ELEMENTS */
BANDWIDTH = 250.0
CENTER_FILTER_WAVELENGTH = 600.0
RADIANCE_OFFSET = -9.99e+31
RADIANCE_SCALING_FACTOR = -9.99e+31
REFLECTANCE_SCALING_FACTOR = -9.99e+31
MEX:REFLECTANCE_OFFSET = -9.99e+31
/* IMAGE OBJECT DEFINITIONS */
OBJECT = IMAGE
  INTERCHANGE_FORMAT = BINARY
  LINES = 1449
  LINE_SAMPLES = 1470
  SAMPLE_TYPE = UNSIGNED_INTEGER
  SAMPLE_BITS = 8
  BANDS = 1
  BAND_STORAGE_TYPE = BAND_SEQUENTIAL
  MAXIMUM = 5783
  MEAN = 4670.95
  MINIMUM = 3752
  STANDARD_DEVIATION = 306.086
END_OBJECT = IMAGE
/* MAP OBJECT DEFINITIONS */
OBJECT = IMAGE_MAP_PROJECTION
  ^DATA_SET_MAP_PROJECTION_CATALOG= "DSMAP.CAT"
  A_AXIS_RADIUS = 3396.19
  B_AXIS_RADIUS = 3396.19
  C_AXIS_RADIUS = 3396.19
  CENTER_LATITUDE = 0.0
  CENTER_LONGITUDE = 12.0
  COORDINATE_SYSTEM_NAME = PLANETOGRAPHIC
  COORDINATE_SYSTEM_TYPE = "BODY-FIXED ROTATING"
  EASTERNMOST_LONGITUDE = 12.5345
  FIRST_STANDARD_PARALLEL = "N/A"
  LINE_FIRST_PIXEL = 1
  LINE_LAST_PIXEL = 1449
  LINE_PROJECTION_OFFSET = -1284403.0
  MAP_PROJECTION_ROTATION = 0.0
  MAP_PROJECTION_TYPE = SINUSOIDAL
  MAP_RESOLUTION = 23709.8786048756
  MAP_SCALE = 0.0025
  MAXIMUM_LATITUDE = -54.2525
  MINIMUM_LATITUDE = -54.3096
  POSITIVE_LONGITUDE_DIRECTION = EAST
  REFERENCE_LATITUDE = "N/A"
  REFERENCE_LONGITUDE = "N/A"
  SAMPLE_FIRST_PIXEL = 1
  SAMPLE_LAST_PIXEL = 1470
  SAMPLE_PROJECTION_OFFSET = -6114.0
  SECOND_STANDARD_PARALLEL = "N/A"
  WESTERNMOST_LONGITUDE = 12.4359
END_OBJECT = IMAGE_MAP_PROJECTION
/* The JPEG2000 image data file associated with this label. */
OBJECT = COMPRESSED_FILE
  FILE_NAME = "H2247_0008_SR3.JP2"
  RECORD_TYPE = UNDEFINED
  FILE_RECORDS = UNK
  ENCODING_TYPE = "JP2"
  INTERCHANGE_FORMAT = BINARY
  UNCOMPRESSED_FILE_NAME = "H2247_0008_SR3.IMG"
  REQUIRED_STORAGE_BYTES = "2150610"
  ^DESCRIPTION = "JP2INFO.TXT"
END_OBJECT = COMPRESSED_FILE
END
