PDS_VERSION_ID = PDS3
/* FILE DATA ELEMENTS */
RECORD_TYPE = STREAM
/* POINTERS TO DATA OBJECTS */
^COMPRESSED_FILE = "H2249_0001_S13.JP2"
/* IDENTIFICATION DATA ELEMENTS */
DATA_SET_ID = "MEX-M-HRSC-5-REFDR-MAPPROJECTED-V3.0"
DATA_SET_NAME = "MARS EXPRESS HRSC MAP PROJECTED REFDR V3.0"
DETECTOR_ID = MEX_HRSC_S1
EVENT_TYPE = "MARS-LOCAL-STEREO-Vo-Fl-Eo"
INSTRUMENT_HOST_ID = MEX
INSTRUMENT_HOST_NAME = "MARS EXPRESS"
INSTRUMENT_ID = HRSC
INSTRUMENT_NAME = "HIGH RESOLUTION STEREO CAMERA"
MISSION_NAME = "MARS EXPRESS"
MISSION_PHASE_NAME = MR_Phase_8
PROCESSING_LEVEL_ID = 3
PRODUCT_CREATION_TIME = 2016-03-14T22:12:55.000Z
PRODUCT_ID = "H2249_0001_S13.JP2"
RELEASE_ID = 0028
REVISION_ID = 0000
/* QUALITY DATA ELEMENTS */
DATA_QUALITY_ID = 1
DATA_QUALITY_DESC = "Data calculated based on original SPICE kernels"
/* TIME DATA ELEMENTS */
SPACECRAFT_CLOCK_START_COUNT = "1/0077369016.57964"
SPACECRAFT_CLOCK_STOP_COUNT = "1/0077369175.31180"
START_TIME = 2005-10-14T11:24:48.934Z
STOP_TIME = 2005-10-14T11:26:20.550Z
/* ORBITAL DATA ELEMENTS */
ASCENDING_NODE_LONGITUDE = 181.04
MAXIMUM_RESOLUTION = 31.8
FOOTPRINT_POINT_LATITUDE = (-17.1937,-17.2016,-17.2096,-17.2177, -17.2259,-17.2341,-17.2383,-17.1489, -17.0418,-16.8765,-16.7674,-16.6059, -16.4438,-16.3359,-16.1279,-16.0213, -15.914,-15.7085,-15.6033,-15.4964, -15.3913,-15.2849,-15.1797,-15.0734, -14.9155,-14.8099,-14.7043,-14.5988, -14.4935,-14.3354,-14.1777,-14.0727, -13.9677,-13.8597,-13.752,-13.6444, -13.483,-13.32,-13.2111,-12.9976, -12.886,-12.7764,-12.6108,-12.4509, -12.3424,-12.232,-12.1204,-11.9535, -11.895,-11.891,-11.8864,-11.8797, -11.8741,-11.8693,-11.8638,-11.8542, -11.848,-11.8418,-11.8367,-12.0027, -12.1148,-12.2822,-12.4459,-12.5555, -12.6671,-12.7774,-12.8867,-12.9956, -13.1044,-13.2118,-13.3188,-13.476, -13.5815,-13.6886,-13.8492,-14.0071, -14.1636,-14.269,-14.4267,-14.5804, -14.8414,-15.0009,-15.1073,-15.2654, -15.4267,-15.5342,-15.6407,-15.7473, -15.8537,-15.9609,-16.069,-16.2311, -16.3384,-16.4456,-16.6057,-16.7135, -16.8253,-16.9376,-17.1509,-17.1937)
FOOTPRINT_POINT_LONGITUDE = (176.849,176.638,176.425,176.21,175.994 ,175.775,175.665,175.607,175.605, 175.606,175.606,175.605,175.604,175.604 ,175.598,175.596,175.595,175.588, 175.586,175.585,175.583,175.581,175.58, 175.578,175.576,175.574,175.573,175.571 ,175.57,175.567,175.565,175.563,175.562 ,175.56,175.559,175.557,175.555,175.553 ,175.553,175.547,175.546,175.544, 175.542,175.537,175.534,175.532,175.53, 175.527,175.634,175.743,175.898,176.068 ,176.192,176.299,176.422,176.65,176.801 ,176.937,177.057,177.104,177.102, 177.099,177.096,177.094,177.092,177.09, 177.088,177.085,177.083,177.081,177.079 ,177.076,177.074,177.072,177.069, 177.066,177.063,177.061,177.058,177.055 ,177.051,177.048,177.046,177.043,177.04 ,177.038,177.036,177.034,177.032,177.03 ,177.028,177.025,177.023,177.02,177.017 ,177.015,177.013,177.011,177.007, 176.849)
ORBIT_NUMBER = 2249
ORBITAL_ECCENTRICITY = 0.573
ORBITAL_INCLINATION = 86.64
ORBITAL_SEMIMAJOR_AXIS = 8585.82
PERIAPSIS_ALTITUDE = 279.04
PERIAPSIS_ARGUMENT_ANGLE = 322.84
PERIAPSIS_TIME = 2005-10-14T11:19:14.000Z
SPACECRAFT_ORIENTATION = (0.0,1.0,0.0)
^MEX_ORIENTATION_DESC = "MEX_ORIENTATION_DESC.TXT"
SPACECRAFT_POINTING_MODE = ACROSSTRACK
^MEX_POINTING_DESC = "MEX_POINTING_DESC.TXT"
RIGHT_ASCENSION = -1e+32
DECLINATION = -1e+32
OFFSET_ANGLE = 0.7
SPACECRAFT_SOLAR_DISTANCE = 2.14446e+08
TARGET_NAME = MARS
/* CAMERA DATA ELEMENTS */
DETECTOR_TEMPERATURE = 19.5939
FOCAL_PLANE_TEMPERATURE = 9.3989
INST_CMPRS_NAME = "DISCRETE COSINE TRANSFORMATION (DCT)"
INST_CMPRS_RATIO = 10.9574
INST_CMPRS_QUALITY = 0
INST_CMPRS_QUANTZ_TBL_ID = 0
INSTRUMENT_TEMPERATURE = 14.9042
LENS_TEMPERATURE = 10.4184
MACROPIXEL_SIZE = 2
MISSING_FRAMES = 0
PIXEL_SUBSAMPLING_FLAG = N
SIGNAL_CHAIN_ID = 1
/* RADIOMETRIC DATA ELEMENTS */
BANDWIDTH = 180.0
CENTER_FILTER_WAVELENGTH = 677.0
RADIANCE_OFFSET = 8.79212
RADIANCE_SCALING_FACTOR = 0.0239178
REFLECTANCE_SCALING_FACTOR = 0.000573855
MEX:REFLECTANCE_OFFSET = 0.210948
/* IMAGE OBJECT DEFINITIONS */
OBJECT = IMAGE
  INTERCHANGE_FORMAT = BINARY
  LINES = 12740
  LINE_SAMPLES = 3578
  SAMPLE_TYPE = UNSIGNED_INTEGER
  SAMPLE_BITS = 8
  BANDS = 1
  BAND_STORAGE_TYPE = BAND_SEQUENTIAL
  MAXIMUM = 190
  MEAN = 166.229
  MINIMUM = 98
  STANDARD_DEVIATION = 8.4105
END_OBJECT = IMAGE
/* MAP OBJECT DEFINITIONS */
OBJECT = IMAGE_MAP_PROJECTION
  ^DATA_SET_MAP_PROJECTION_CATALOG= "DSMAP.CAT"
  A_AXIS_RADIUS = 3396.0
  B_AXIS_RADIUS = 3396.0
  C_AXIS_RADIUS = 3396.0
  CENTER_LATITUDE = 0.0
  CENTER_LONGITUDE = 176.0
  COORDINATE_SYSTEM_NAME = PLANETOGRAPHIC
  COORDINATE_SYSTEM_TYPE = "BODY-FIXED ROTATING"
  EASTERNMOST_LONGITUDE = 177.104
  FIRST_STANDARD_PARALLEL = "N/A"
  LINE_FIRST_PIXEL = 1
  LINE_LAST_PIXEL = 12740
  LINE_PROJECTION_OFFSET = -28061.75
  MAP_PROJECTION_ROTATION = 0.0
  MAP_PROJECTION_TYPE = SINUSOIDAL
  MAP_RESOLUTION = 2370.85521546667
  MAP_SCALE = 0.025
  MAXIMUM_LATITUDE = -11.8367
  MINIMUM_LATITUDE = -17.2383
  POSITIVE_LONGITUDE_DIRECTION = EAST
  REFERENCE_LATITUDE = "N/A"
  REFERENCE_LONGITUDE = "N/A"
  SAMPLE_FIRST_PIXEL = 1
  SAMPLE_LAST_PIXEL = 3578
  SAMPLE_PROJECTION_OFFSET = 1129.25
  SECOND_STANDARD_PARALLEL = "N/A"
  WESTERNMOST_LONGITUDE = 175.527
END_OBJECT = IMAGE_MAP_PROJECTION
/* The JPEG2000 image data file associated with this label. */
OBJECT = COMPRESSED_FILE
  FILE_NAME = "H2249_0001_S13.JP2"
  RECORD_TYPE = UNDEFINED
  FILE_RECORDS = UNK
  ENCODING_TYPE = "JP2"
  INTERCHANGE_FORMAT = BINARY
  UNCOMPRESSED_FILE_NAME = "H2249_0001_S13.IMG"
  REQUIRED_STORAGE_BYTES = "45605188"
  ^DESCRIPTION = "JP2INFO.TXT"
END_OBJECT = COMPRESSED_FILE
END
