PDS_VERSION_ID = PDS3
/* FILE DATA ELEMENTS */
RECORD_TYPE = STREAM
/* POINTERS TO DATA OBJECTS */
^COMPRESSED_FILE = "H2252_0000_GR3.JP2"
/* IDENTIFICATION DATA ELEMENTS */
DATA_SET_ID = "MEX-M-HRSC-5-REFDR-MAPPROJECTED-V3.0"
DATA_SET_NAME = "MARS EXPRESS HRSC MAP PROJECTED REFDR V3.0"
DETECTOR_ID = MEX_HRSC_GREEN
EVENT_TYPE = "MARS-REGIONAL-MAPPING-Im-Fl"
INSTRUMENT_HOST_ID = MEX
INSTRUMENT_HOST_NAME = "MARS EXPRESS"
INSTRUMENT_ID = HRSC
INSTRUMENT_NAME = "HIGH RESOLUTION STEREO CAMERA"
MISSION_NAME = "MARS EXPRESS"
MISSION_PHASE_NAME = MR_Phase_8
PROCESSING_LEVEL_ID = 3
PRODUCT_CREATION_TIME = 2016-03-14T22:12:55.000Z
PRODUCT_ID = "H2252_0000_GR3.JP2"
RELEASE_ID = 0028
REVISION_ID = 0000
/* QUALITY DATA ELEMENTS */
DATA_QUALITY_ID = 1
DATA_QUALITY_DESC = "Data calculated based on original SPICE kernels"
/* TIME DATA ELEMENTS */
SPACECRAFT_CLOCK_START_COUNT = "1/0077440631.56180"
SPACECRAFT_CLOCK_STOP_COUNT = "1/0077441019.13552"
START_TIME = 2005-10-15T07:18:39.150Z
STOP_TIME = 2005-10-15T07:23:17.646Z
/* ORBITAL DATA ELEMENTS */
ASCENDING_NODE_LONGITUDE = 180.98
MAXIMUM_RESOLUTION = 58.3
FOOTPRINT_POINT_LATITUDE = (-74.9378,-74.8192,-74.7411,-74.6268, -74.2922,-73.9558,-73.618,-73.2785, -72.9374,-72.5949,-72.2509,-71.9055, -71.5585,-71.2103,-70.8608,-70.5098, -70.1575,-69.804,-69.4494,-69.0933, -68.7362,-68.3778,-68.0182,-67.6579, -67.304,-66.9492,-66.4283,-66.0805, -65.7385,-65.2268,-64.8911,-64.5551, -64.2257,-63.8956,-63.4078,-63.0841, -62.7541,-62.4375,-62.1201,-61.8056, -61.1849,-60.562,-59.9366,-59.6232, -59.3094,-58.837,-58.5217,-58.2058, -57.8795,-57.9125,-57.9366,-57.9628, -58.2814,-58.5996,-58.9175,-59.2349, -59.5522,-59.8686,-60.1847,-60.5002, -60.815,-61.1304,-61.7569,-62.2305, -62.5512,-62.8713,-63.2043,-63.5318, -63.8586,-64.1922,-64.6928,-65.2035, -65.5439,-65.8914,-66.2385,-66.7679, -67.1217,-67.4828,-67.8432,-68.2096, -68.5762,-68.9421,-69.3067,-69.6709, -70.0341,-70.3962,-70.7572,-71.1173, -71.4766,-71.8353,-72.1925,-72.549, -72.9039,-73.2582,-73.6115,-73.9638, -74.3151,-74.6653,-75.0145,-74.9378)
FOOTPRINT_POINT_LONGITUDE = (236.209,233.951,232.669,230.789,231.17 ,231.537,231.885,232.22,232.541,232.85, 233.146,233.431,233.706,233.97,234.224, 234.469,234.705,234.933,235.151,235.363 ,235.567,235.764,235.956,236.14,236.315 ,236.483,236.707,236.861,237.005, 237.218,237.346,237.472,237.592,237.708 ,237.872,237.979,238.084,238.181, 238.276,238.368,238.542,238.706,238.864 ,238.939,239.013,239.122,239.192, 239.261,239.664,240.395,240.994,241.714 ,241.687,241.66,241.632,241.604,241.576 ,241.546,241.516,241.484,241.451, 241.421,241.349,241.294,241.256,241.217 ,241.176,241.134,241.09,241.045,240.974 ,240.9,240.848,240.793,240.736,240.647, 240.584,240.519,240.452,240.38,240.305, 240.229,240.148,240.066,239.981,239.892 ,239.799,239.702,239.603,239.501, 239.393,239.281,239.162,239.04,238.912, 238.779,238.64,238.495,238.343,236.209)
ORBIT_NUMBER = 2252
ORBITAL_ECCENTRICITY = 0.573
ORBITAL_INCLINATION = 86.63
ORBITAL_SEMIMAJOR_AXIS = 8590.82
PERIAPSIS_ALTITUDE = 277.99
PERIAPSIS_ARGUMENT_ANGLE = 322.27
PERIAPSIS_TIME = 2005-10-15T07:28:21.000Z
SPACECRAFT_ORIENTATION = (0.0,1.0,0.0)
^MEX_ORIENTATION_DESC = "MEX_ORIENTATION_DESC.TXT"
SPACECRAFT_POINTING_MODE = NADIR
^MEX_POINTING_DESC = "MEX_POINTING_DESC.TXT"
RIGHT_ASCENSION = -1e+32
DECLINATION = -1e+32
OFFSET_ANGLE = -1e+32
SPACECRAFT_SOLAR_DISTANCE = 2.14581e+08
TARGET_NAME = MARS
/* CAMERA DATA ELEMENTS */
DETECTOR_TEMPERATURE = 18.1666
FOCAL_PLANE_TEMPERATURE = 8.5833
INST_CMPRS_NAME = "DISCRETE COSINE TRANSFORMATION (DCT)"
INST_CMPRS_RATIO = 18.6026
INST_CMPRS_QUALITY = 0
INST_CMPRS_QUANTZ_TBL_ID = 0
INSTRUMENT_TEMPERATURE = 11.234
LENS_TEMPERATURE = 8.7872
MACROPIXEL_SIZE = 4
MISSING_FRAMES = 1
PIXEL_SUBSAMPLING_FLAG = N
SIGNAL_CHAIN_ID = 2
/* RADIOMETRIC DATA ELEMENTS */
BANDWIDTH = 88.0
CENTER_FILTER_WAVELENGTH = 538.0
RADIANCE_OFFSET = 1.18289
RADIANCE_SCALING_FACTOR = 0.00577481
REFLECTANCE_SCALING_FACTOR = 0.000228931
MEX:REFLECTANCE_OFFSET = 0.0468934
/* IMAGE OBJECT DEFINITIONS */
OBJECT = IMAGE
  INTERCHANGE_FORMAT = BINARY
  LINES = 20372
  LINE_SAMPLES = 4328
  SAMPLE_TYPE = UNSIGNED_INTEGER
  SAMPLE_BITS = 8
  BANDS = 1
  BAND_STORAGE_TYPE = BAND_SEQUENTIAL
  MAXIMUM = 112
  MEAN = 79.7744
  MINIMUM = 47
  STANDARD_DEVIATION = 6.08157
END_OBJECT = IMAGE
/* MAP OBJECT DEFINITIONS */
OBJECT = IMAGE_MAP_PROJECTION
  ^DATA_SET_MAP_PROJECTION_CATALOG= "DSMAP.CAT"
  A_AXIS_RADIUS = 3396.0
  B_AXIS_RADIUS = 3396.0
  C_AXIS_RADIUS = 3396.0
  CENTER_LATITUDE = 0.0
  CENTER_LONGITUDE = 239.0
  COORDINATE_SYSTEM_NAME = PLANETOGRAPHIC
  COORDINATE_SYSTEM_TYPE = "BODY-FIXED ROTATING"
  EASTERNMOST_LONGITUDE = 241.714
  FIRST_STANDARD_PARALLEL = "N/A"
  LINE_FIRST_PIXEL = 1
  LINE_LAST_PIXEL = 20372
  LINE_PROJECTION_OFFSET = -68595.375
  MAP_PROJECTION_ROTATION = 0.0
  MAP_PROJECTION_TYPE = SINUSOIDAL
  MAP_RESOLUTION = 1185.42760773333
  MAP_SCALE = 0.05
  MAXIMUM_LATITUDE = -57.8795
  MINIMUM_LATITUDE = -75.0145
  POSITIVE_LONGITUDE_DIRECTION = EAST
  REFERENCE_LATITUDE = "N/A"
  REFERENCE_LONGITUDE = "N/A"
  SAMPLE_FIRST_PIXEL = 1
  SAMPLE_LAST_PIXEL = 4328
  SAMPLE_PROJECTION_OFFSET = 2598.375
  SECOND_STANDARD_PARALLEL = "N/A"
  WESTERNMOST_LONGITUDE = 230.789
END_OBJECT = IMAGE_MAP_PROJECTION
/* The JPEG2000 image data file associated with this label. */
OBJECT = COMPRESSED_FILE
  FILE_NAME = "H2252_0000_GR3.JP2"
  RECORD_TYPE = UNDEFINED
  FILE_RECORDS = UNK
  ENCODING_TYPE = "JP2"
  INTERCHANGE_FORMAT = BINARY
  UNCOMPRESSED_FILE_NAME = "H2252_0000_GR3.IMG"
  REQUIRED_STORAGE_BYTES = "88195984"
  ^DESCRIPTION = "JP2INFO.TXT"
END_OBJECT = COMPRESSED_FILE
END
