PDS_VERSION_ID = PDS3
/* FILE DATA ELEMENTS */
RECORD_TYPE = STREAM
/* POINTERS TO DATA OBJECTS */
^COMPRESSED_FILE = "H2256_0000_P23.JP2"
/* IDENTIFICATION DATA ELEMENTS */
DATA_SET_ID = "MEX-M-HRSC-5-REFDR-MAPPROJECTED-V3.0"
DATA_SET_NAME = "MARS EXPRESS HRSC MAP PROJECTED REFDR V3.0"
DETECTOR_ID = MEX_HRSC_P2
EVENT_TYPE = "MARS-REGIONAL-MAPPING-Vo-Im"
INSTRUMENT_HOST_ID = MEX
INSTRUMENT_HOST_NAME = "MARS EXPRESS"
INSTRUMENT_ID = HRSC
INSTRUMENT_NAME = "HIGH RESOLUTION STEREO CAMERA"
MISSION_NAME = "MARS EXPRESS"
MISSION_PHASE_NAME = MR_Phase_8
PROCESSING_LEVEL_ID = 3
PRODUCT_CREATION_TIME = 2016-03-14T22:12:55.000Z
PRODUCT_ID = "H2256_0000_P23.JP2"
RELEASE_ID = 0028
REVISION_ID = 0000
/* QUALITY DATA ELEMENTS */
DATA_QUALITY_ID = 1
DATA_QUALITY_DESC = "Data calculated based on original SPICE kernels"
/* TIME DATA ELEMENTS */
SPACECRAFT_CLOCK_START_COUNT = "1/0077537460.57944"
SPACECRAFT_CLOCK_STOP_COUNT = "1/0077537794.56969"
START_TIME = 2005-10-16T10:11:29.460Z
STOP_TIME = 2005-10-16T10:15:47.923Z
/* ORBITAL DATA ELEMENTS */
ASCENDING_NODE_LONGITUDE = 180.9
MAXIMUM_RESOLUTION = 29.5
FOOTPRINT_POINT_LATITUDE = (-71.1635,-71.1231,-71.0425,-70.9917, -70.8463,-70.5422,-70.082,-69.7753, -69.465,-68.9984,-68.5285,-68.2139, -67.8977,-67.5804,-67.2622,-66.9426, -66.622,-66.3006,-65.8223,-65.347, -65.0352,-64.569,-64.2619,-63.9542, -63.5031,-63.1996,-62.903,-62.6059, -62.1647,-61.8738,-61.4392,-61.1561, -60.8644,-60.4353,-60.1603,-59.8812, -59.5988,-59.3142,-58.8887,-58.6041, -58.3191,-58.0333,-57.7452,-57.4579, -57.17,-56.8808,-56.6123,-56.3695, -56.1264,-55.9823,-56.0044,-56.0203, -56.0385,-56.2939,-56.5384,-56.7831, -57.0702,-57.3614,-57.6523,-58.08, -58.3683,-58.6588,-58.9433,-59.2304, -59.5195,-59.8063,-60.0889,-60.3666, -60.6493,-60.9375,-61.2229,-61.512, -61.8078,-62.1096,-62.4018,-62.6991, -63.0,-63.3003,-63.7585,-64.0642, -64.5311,-64.8421,-65.1594,-65.634, -65.9588,-66.4453,-66.7729,-67.263, -67.5886,-67.9097,-68.3984,-68.8793, -69.2013,-69.5198,-69.838,-70.1549, -70.471,-70.7864,-71.1002,-71.1635)
FOOTPRINT_POINT_LONGITUDE = (205.992,205.05,203.454,202.581,201.442 ,201.656,201.963,202.161,202.352, 202.628,202.891,203.061,203.225,203.385 ,203.54,203.69,203.837,203.979,204.182, 204.375,204.496,204.672,204.783,204.892 ,205.047,205.146,205.24,205.333,205.466 ,205.551,205.675,205.755,205.829, 205.937,206.011,206.081,206.149,206.214 ,206.311,206.374,206.435,206.495, 206.553,206.611,206.667,206.722,206.772 ,206.817,206.86,207.211,207.752,208.185 ,208.75,209.114,209.098,209.081,209.062 ,209.041,209.02,208.996,208.975,208.95, 208.931,208.908,208.882,208.857,208.836 ,208.82,208.797,208.77,208.749,208.723, 208.691,208.654,208.628,208.599,208.568 ,208.536,208.486,208.452,208.397, 208.359,208.319,208.259,208.213,208.144 ,208.096,208.022,207.97,207.923,207.834 ,207.751,207.689,207.629,207.566, 207.501,207.435,207.365,207.294, 205.992)
ORBIT_NUMBER = 2256
ORBITAL_ECCENTRICITY = 0.573
ORBITAL_INCLINATION = 86.64
ORBITAL_SEMIMAJOR_AXIS = 8584.48
PERIAPSIS_ALTITUDE = 278.29
PERIAPSIS_ARGUMENT_ANGLE = 321.59
PERIAPSIS_TIME = 2005-10-16T10:20:38.000Z
SPACECRAFT_ORIENTATION = (0.0,1.0,0.0)
^MEX_ORIENTATION_DESC = "MEX_ORIENTATION_DESC.TXT"
SPACECRAFT_POINTING_MODE = ACROSSTRACK
^MEX_POINTING_DESC = "MEX_POINTING_DESC.TXT"
RIGHT_ASCENSION = -1e+32
DECLINATION = -1e+32
OFFSET_ANGLE = -0.12
SPACECRAFT_SOLAR_DISTANCE = 2.14762e+08
TARGET_NAME = MARS
/* CAMERA DATA ELEMENTS */
DETECTOR_TEMPERATURE = 18.7783
FOCAL_PLANE_TEMPERATURE = 8.5833
INST_CMPRS_NAME = "DISCRETE COSINE TRANSFORMATION (DCT)"
INST_CMPRS_RATIO = 10.4203
INST_CMPRS_QUALITY = 0
INST_CMPRS_QUANTZ_TBL_ID = 0
INSTRUMENT_TEMPERATURE = 11.0301
LENS_TEMPERATURE = 8.7872
MACROPIXEL_SIZE = 2
MISSING_FRAMES = 0
PIXEL_SUBSAMPLING_FLAG = N
SIGNAL_CHAIN_ID = 3
/* RADIOMETRIC DATA ELEMENTS */
BANDWIDTH = 177.0
CENTER_FILTER_WAVELENGTH = 676.5
RADIANCE_OFFSET = 3.36146
RADIANCE_SCALING_FACTOR = 0.019644
REFLECTANCE_SCALING_FACTOR = 0.000480398
MEX:REFLECTANCE_OFFSET = 0.0822049
/* IMAGE OBJECT DEFINITIONS */
OBJECT = IMAGE
  INTERCHANGE_FORMAT = BINARY
  LINES = 35975
  LINE_SAMPLES = 6901
  SAMPLE_TYPE = UNSIGNED_INTEGER
  SAMPLE_BITS = 8
  BANDS = 1
  BAND_STORAGE_TYPE = BAND_SEQUENTIAL
  MAXIMUM = 133
  MEAN = 92.3759
  MINIMUM = 48
  STANDARD_DEVIATION = 8.01048
END_OBJECT = IMAGE
/* MAP OBJECT DEFINITIONS */
OBJECT = IMAGE_MAP_PROJECTION
  ^DATA_SET_MAP_PROJECTION_CATALOG= "DSMAP.CAT"
  A_AXIS_RADIUS = 3396.0
  B_AXIS_RADIUS = 3396.0
  C_AXIS_RADIUS = 3396.0
  CENTER_LATITUDE = 0.0
  CENTER_LONGITUDE = 207.0
  COORDINATE_SYSTEM_NAME = PLANETOGRAPHIC
  COORDINATE_SYSTEM_TYPE = "BODY-FIXED ROTATING"
  EASTERNMOST_LONGITUDE = 209.114
  FIRST_STANDARD_PARALLEL = "N/A"
  LINE_FIRST_PIXEL = 1
  LINE_LAST_PIXEL = 35975
  LINE_PROJECTION_OFFSET = -132660.25
  MAP_PROJECTION_ROTATION = 0.0
  MAP_PROJECTION_TYPE = SINUSOIDAL
  MAP_RESOLUTION = 2370.85521546667
  MAP_SCALE = 0.025
  MAXIMUM_LATITUDE = -55.9823
  MINIMUM_LATITUDE = -71.1635
  POSITIVE_LONGITUDE_DIRECTION = EAST
  REFERENCE_LATITUDE = "N/A"
  REFERENCE_LONGITUDE = "N/A"
  SAMPLE_FIRST_PIXEL = 1
  SAMPLE_LAST_PIXEL = 6901
  SAMPLE_PROJECTION_OFFSET = 4126.75
  SECOND_STANDARD_PARALLEL = "N/A"
  WESTERNMOST_LONGITUDE = 201.442
END_OBJECT = IMAGE_MAP_PROJECTION
/* The JPEG2000 image data file associated with this label. */
OBJECT = COMPRESSED_FILE
  FILE_NAME = "H2256_0000_P23.JP2"
  RECORD_TYPE = UNDEFINED
  FILE_RECORDS = UNK
  ENCODING_TYPE = "JP2"
  INTERCHANGE_FORMAT = BINARY
  UNCOMPRESSED_FILE_NAME = "H2256_0000_P23.IMG"
  REQUIRED_STORAGE_BYTES = "248297980"
  ^DESCRIPTION = "JP2INFO.TXT"
END_OBJECT = COMPRESSED_FILE
END
