PDS_VERSION_ID = PDS3
/* FILE DATA ELEMENTS */
RECORD_TYPE = STREAM
/* POINTERS TO DATA OBJECTS */
^COMPRESSED_FILE = "H2258_0000_S23.JP2"
/* IDENTIFICATION DATA ELEMENTS */
DATA_SET_ID = "MEX-M-HRSC-5-REFDR-MAPPROJECTED-V3.0"
DATA_SET_NAME = "MARS EXPRESS HRSC MAP PROJECTED REFDR V3.0"
DETECTOR_ID = MEX_HRSC_S2
EVENT_TYPE = "MARS-LOCAL-STEREO-Im-Fl-Eo"
INSTRUMENT_HOST_ID = MEX
INSTRUMENT_HOST_NAME = "MARS EXPRESS"
INSTRUMENT_ID = HRSC
INSTRUMENT_NAME = "HIGH RESOLUTION STEREO CAMERA"
MISSION_NAME = "MARS EXPRESS"
MISSION_PHASE_NAME = MR_Phase_8
PROCESSING_LEVEL_ID = 3
PRODUCT_CREATION_TIME = 2016-03-14T22:12:55.000Z
PRODUCT_ID = "H2258_0000_S23.JP2"
RELEASE_ID = 0028
REVISION_ID = 0000
/* QUALITY DATA ELEMENTS */
DATA_QUALITY_ID = 1
DATA_QUALITY_DESC = "Data calculated based on original SPICE kernels"
/* TIME DATA ELEMENTS */
SPACECRAFT_CLOCK_START_COUNT = "1/0077586016.57970"
SPACECRAFT_CLOCK_STOP_COUNT = "1/0077586294.58972"
START_TIME = 2005-10-16T23:40:23.922Z
STOP_TIME = 2005-10-16T23:44:06.954Z
/* ORBITAL DATA ELEMENTS */
ASCENDING_NODE_LONGITUDE = 180.86
MAXIMUM_RESOLUTION = 25.8
FOOTPRINT_POINT_LATITUDE = (-61.3837,-61.3637,-61.3418,-61.318, -61.2922,-61.2645,-61.2349,-60.9789, -60.5247,-60.2216,-59.9226,-59.4769, -59.023,-58.721,-58.4241,-57.9794, -57.523,-57.0653,-56.7586,-56.4546, -56.1612,-55.9033,-55.6397,-55.3797, -55.1244,-54.8643,-54.6029,-54.3414, -54.0802,-53.82,-53.5588,-53.2931, -53.0275,-52.764,-52.5042,-52.2481, -51.9907,-51.7309,-51.3412,-51.0839, -50.8349,-50.5845,-50.3338,-50.075, -49.6933,-49.3167,-49.0817,-48.8377, -48.5923,-48.3471,-48.1011,-47.8552, -47.5906,-47.6158,-47.6363,-47.6455, -47.7763,-48.1475,-48.3953,-48.6422, -48.8896,-49.1356,-49.3819,-49.6328, -49.8865,-50.2671,-50.6392,-50.895, -51.1461,-51.406,-51.7956,-52.1836, -52.5705,-52.8351,-53.1032,-53.4987, -53.7562,-54.0184,-54.4129,-54.6758, -54.9384,-55.2002,-55.4655,-55.8626, -56.1227,-56.3888,-56.6993,-57.1614, -57.6222,-57.9267,-58.232,-58.5354, -58.9903,-59.2928,-59.5939,-60.0456, -60.5014,-60.8069,-61.112,-61.3837)
FOOTPRINT_POINT_LONGITUDE = (11.4752,11.0209,10.5663,10.1113, 9.65653,9.20145,8.74542,8.53856,8.66841 ,8.75301,8.8337,8.95126,9.06182,9.13438 ,9.20832,9.31755,9.41839,9.51628, 9.57952,9.64315,9.70099,9.75128,9.79797 ,9.84596,9.89573,9.94249,9.98797, 10.0329,10.0774,10.1219,10.1654,10.2061 ,10.2463,10.2871,10.3287,10.3667, 10.4037,10.439,10.4913,10.5268,10.5614, 10.5942,10.6265,10.6544,10.6989,10.7437 ,10.7769,10.8053,10.8326,10.8598, 10.8863,10.9125,11.1096,11.631,12.1045, 12.3483,12.5151,12.4975,12.4854,12.4732 ,12.4607,12.4483,12.4356,12.4226, 12.4093,12.3887,12.3705,12.3552,12.3412 ,12.3264,12.3035,12.2803,12.2568, 12.2401,12.2223,12.1974,12.1829,12.166, 12.1392,12.1208,12.1019,12.083,12.062, 12.0297,12.0096,11.9881,11.9627,11.9248 ,11.8857,11.8599,11.8328,11.8057, 11.7636,11.7347,11.7056,11.66,11.6122, 11.5802,11.5472,11.4752)
ORBIT_NUMBER = 2258
ORBITAL_ECCENTRICITY = 0.573
ORBITAL_INCLINATION = 86.63
ORBITAL_SEMIMAJOR_AXIS = 8586.88
PERIAPSIS_ALTITUDE = 278.61
PERIAPSIS_ARGUMENT_ANGLE = 321.23
PERIAPSIS_TIME = 2005-10-16T23:46:49.000Z
SPACECRAFT_ORIENTATION = (0.0,1.0,0.0)
^MEX_ORIENTATION_DESC = "MEX_ORIENTATION_DESC.TXT"
SPACECRAFT_POINTING_MODE = ACROSSTRACK
^MEX_POINTING_DESC = "MEX_POINTING_DESC.TXT"
RIGHT_ASCENSION = -1e+32
DECLINATION = -1e+32
OFFSET_ANGLE = 0.2
SPACECRAFT_SOLAR_DISTANCE = 2.14854e+08
TARGET_NAME = MARS
/* CAMERA DATA ELEMENTS */
DETECTOR_TEMPERATURE = 18.7783
FOCAL_PLANE_TEMPERATURE = 8.5833
INST_CMPRS_NAME = "DISCRETE COSINE TRANSFORMATION (DCT)"
INST_CMPRS_RATIO = 10.887
INST_CMPRS_QUALITY = 0
INST_CMPRS_QUANTZ_TBL_ID = 0
INSTRUMENT_TEMPERATURE = 11.4379
LENS_TEMPERATURE = 8.5833
MACROPIXEL_SIZE = 2
MISSING_FRAMES = 0
PIXEL_SUBSAMPLING_FLAG = N
SIGNAL_CHAIN_ID = 1
/* RADIOMETRIC DATA ELEMENTS */
BANDWIDTH = 178.0
CENTER_FILTER_WAVELENGTH = 679.0
RADIANCE_OFFSET = 3.57069
RADIANCE_SCALING_FACTOR = 0.0230367
REFLECTANCE_SCALING_FACTOR = 0.00056316
MEX:REFLECTANCE_OFFSET = 0.0872898
/* IMAGE OBJECT DEFINITIONS */
OBJECT = IMAGE
  INTERCHANGE_FORMAT = BINARY
  LINES = 32490
  LINE_SAMPLES = 5148
  SAMPLE_TYPE = UNSIGNED_INTEGER
  SAMPLE_BITS = 8
  BANDS = 1
  BAND_STORAGE_TYPE = BAND_SEQUENTIAL
  MAXIMUM = 170
  MEAN = 116.457
  MINIMUM = 59
  STANDARD_DEVIATION = 13.9471
END_OBJECT = IMAGE
/* MAP OBJECT DEFINITIONS */
OBJECT = IMAGE_MAP_PROJECTION
  ^DATA_SET_MAP_PROJECTION_CATALOG= "DSMAP.CAT"
  A_AXIS_RADIUS = 3396.0
  B_AXIS_RADIUS = 3396.0
  C_AXIS_RADIUS = 3396.0
  CENTER_LATITUDE = 0.0
  CENTER_LONGITUDE = 11.0
  COORDINATE_SYSTEM_NAME = PLANETOGRAPHIC
  COORDINATE_SYSTEM_TYPE = "BODY-FIXED ROTATING"
  EASTERNMOST_LONGITUDE = 12.5151
  FIRST_STANDARD_PARALLEL = "N/A"
  LINE_FIRST_PIXEL = 1
  LINE_LAST_PIXEL = 32490
  LINE_PROJECTION_OFFSET = -112776.25
  MAP_PROJECTION_ROTATION = 0.0
  MAP_PROJECTION_TYPE = SINUSOIDAL
  MAP_RESOLUTION = 2370.85521546667
  MAP_SCALE = 0.025
  MAXIMUM_LATITUDE = -47.5906
  MINIMUM_LATITUDE = -61.3837
  POSITIVE_LONGITUDE_DIRECTION = EAST
  REFERENCE_LATITUDE = "N/A"
  REFERENCE_LONGITUDE = "N/A"
  SAMPLE_FIRST_PIXEL = 1
  SAMPLE_LAST_PIXEL = 5148
  SAMPLE_PROJECTION_OFFSET = 2767.75
  SECOND_STANDARD_PARALLEL = "N/A"
  WESTERNMOST_LONGITUDE = 8.53856
END_OBJECT = IMAGE_MAP_PROJECTION
/* The JPEG2000 image data file associated with this label. */
OBJECT = COMPRESSED_FILE
  FILE_NAME = "H2258_0000_S23.JP2"
  RECORD_TYPE = UNDEFINED
  FILE_RECORDS = UNK
  ENCODING_TYPE = "JP2"
  INTERCHANGE_FORMAT = BINARY
  UNCOMPRESSED_FILE_NAME = "H2258_0000_S23.IMG"
  REQUIRED_STORAGE_BYTES = "167284260"
  ^DESCRIPTION = "JP2INFO.TXT"
END_OBJECT = COMPRESSED_FILE
END
