PDS_VERSION_ID = PDS3
/* FILE DATA ELEMENTS */
RECORD_TYPE = STREAM
/* POINTERS TO DATA OBJECTS */
^COMPRESSED_FILE = "H2270_0000_BL3.JP2"
/* IDENTIFICATION DATA ELEMENTS */
DATA_SET_ID = "MEX-M-HRSC-5-REFDR-MAPPROJECTED-V3.0"
DATA_SET_NAME = "MARS EXPRESS HRSC MAP PROJECTED REFDR V3.0"
DETECTOR_ID = MEX_HRSC_BLUE
EVENT_TYPE = "MARS-REGIONAL-MAPPING-Vo-Te-Fl"
INSTRUMENT_HOST_ID = MEX
INSTRUMENT_HOST_NAME = "MARS EXPRESS"
INSTRUMENT_ID = HRSC
INSTRUMENT_NAME = "HIGH RESOLUTION STEREO CAMERA"
MISSION_NAME = "MARS EXPRESS"
MISSION_PHASE_NAME = MR_Phase_8
PROCESSING_LEVEL_ID = 3
PRODUCT_CREATION_TIME = 2016-03-14T22:12:55.000Z
PRODUCT_ID = "H2270_0000_BL3.JP2"
RELEASE_ID = 0028
REVISION_ID = 0000
/* QUALITY DATA ELEMENTS */
DATA_QUALITY_ID = 1
DATA_QUALITY_DESC = "Data calculated based on original SPICE kernels"
/* TIME DATA ELEMENTS */
SPACECRAFT_CLOCK_START_COUNT = "1/0077876167.56191"
SPACECRAFT_CLOCK_STOP_COUNT = "1/0077876403.39183"
START_TIME = 2005-10-20T08:16:51.871Z
STOP_TIME = 2005-10-20T08:19:34.635Z
/* ORBITAL DATA ELEMENTS */
ASCENDING_NODE_LONGITUDE = 180.6
MAXIMUM_RESOLUTION = 53.5
FOOTPRINT_POINT_LATITUDE = (-66.7169,-66.6912,-66.6637,-66.6342, -66.6027,-66.5735,-66.4096,-66.1868, -65.9669,-65.7465,-65.5258,-65.1998, -64.9836,-64.7671,-64.4443,-64.1269, -63.9152,-63.695,-63.4821,-63.269, -63.0557,-62.842,-62.6279,-62.3062, -62.0917,-61.8765,-61.6611,-61.4456, -61.2293,-60.9053,-60.6885,-60.3767, -60.0118,-59.8286,-59.6445,-59.2795, -59.096,-58.9122,-58.7284,-58.5443, -58.36,-58.1756,-57.8992,-57.7144, -57.5293,-57.3443,-57.159,-56.9736, -56.7881,-56.5133,-56.4408,-56.4587, -56.488,-56.506,-56.7033,-56.9829, -57.1697,-57.3562,-57.5426,-57.7289, -58.0082,-58.194,-58.4725,-58.6579, -58.8434,-59.0286,-59.2137,-59.3986, -59.5834,-59.768,-60.1366,-60.5046, -60.7103,-60.9294,-61.1483,-61.3669, -61.5858,-61.8044,-62.0219,-62.239, -62.4559,-62.6726,-62.9973,-63.2135, -63.4294,-63.645,-63.8604,-64.1904, -64.4051,-64.6195,-64.8371,-65.0566, -65.2759,-65.4949,-65.7167,-65.9407, -66.1645,-66.388,-66.6144,-66.7169)
FOOTPRINT_POINT_LONGITUDE = (270.78,270.241,269.702,269.164,268.626 ,268.154,267.679,267.78,267.878,267.974 ,268.068,268.204,268.291,268.376, 268.501,268.621,268.7,268.778,268.853, 268.926,268.999,269.07,269.14,269.242, 269.31,269.376,269.441,269.505,269.567, 269.66,269.72,269.805,269.899,269.944, 269.986,270.08,270.124,270.167,270.21, 270.252,270.293,270.334,270.397,270.436 ,270.475,270.514,270.553,270.591, 270.628,270.682,270.994,271.349,271.976 ,272.405,272.783,272.757,272.739, 272.721,272.703,272.684,272.655,272.637 ,272.607,272.588,272.568,272.547, 272.526,272.506,272.484,272.463,272.419 ,272.374,272.348,272.32,272.291,272.262 ,272.231,272.2,272.17,272.141,272.11, 272.079,272.031,271.998,271.965,271.931 ,271.896,271.843,271.807,271.77,271.732 ,271.693,271.653,271.613,271.571, 271.527,271.483,271.438,271.392,270.78)
ORBIT_NUMBER = 2270
ORBITAL_ECCENTRICITY = 0.573
ORBITAL_INCLINATION = 86.62
ORBITAL_SEMIMAJOR_AXIS = 8585.44
PERIAPSIS_ALTITUDE = 277.85
PERIAPSIS_ARGUMENT_ANGLE = 319.12
PERIAPSIS_TIME = 2005-10-20T08:23:38.000Z
SPACECRAFT_ORIENTATION = (0.0,1.0,0.0)
^MEX_ORIENTATION_DESC = "MEX_ORIENTATION_DESC.TXT"
SPACECRAFT_POINTING_MODE = ACROSSTRACK
^MEX_POINTING_DESC = "MEX_POINTING_DESC.TXT"
RIGHT_ASCENSION = -1e+32
DECLINATION = -1e+32
OFFSET_ANGLE = 0.229
SPACECRAFT_SOLAR_DISTANCE = 2.15408e+08
TARGET_NAME = MARS
/* CAMERA DATA ELEMENTS */
DETECTOR_TEMPERATURE = 18.3705
FOCAL_PLANE_TEMPERATURE = 7.5638
INST_CMPRS_NAME = "DISCRETE COSINE TRANSFORMATION (DCT)"
INST_CMPRS_RATIO = 14.8495
INST_CMPRS_QUALITY = 0
INST_CMPRS_QUANTZ_TBL_ID = 0
INSTRUMENT_TEMPERATURE = 10.4184
LENS_TEMPERATURE = 7.9716
MACROPIXEL_SIZE = 4
MISSING_FRAMES = 1
PIXEL_SUBSAMPLING_FLAG = N
SIGNAL_CHAIN_ID = 2
/* RADIOMETRIC DATA ELEMENTS */
BANDWIDTH = 76.0
CENTER_FILTER_WAVELENGTH = 444.0
RADIANCE_OFFSET = 0.662689
RADIANCE_SCALING_FACTOR = 0.00133033
REFLECTANCE_SCALING_FACTOR = 6.34211e-05
MEX:REFLECTANCE_OFFSET = 0.0315926
/* IMAGE OBJECT DEFINITIONS */
OBJECT = IMAGE
  INTERCHANGE_FORMAT = BINARY
  LINES = 12202
  LINE_SAMPLES = 2791
  SAMPLE_TYPE = UNSIGNED_INTEGER
  SAMPLE_BITS = 8
  BANDS = 1
  BAND_STORAGE_TYPE = BAND_SEQUENTIAL
  MAXIMUM = 159
  MEAN = 107.229
  MINIMUM = 81
  STANDARD_DEVIATION = 3.74012
END_OBJECT = IMAGE
/* MAP OBJECT DEFINITIONS */
OBJECT = IMAGE_MAP_PROJECTION
  ^DATA_SET_MAP_PROJECTION_CATALOG= "DSMAP.CAT"
  A_AXIS_RADIUS = 3396.0
  B_AXIS_RADIUS = 3396.0
  C_AXIS_RADIUS = 3396.0
  CENTER_LATITUDE = 0.0
  CENTER_LONGITUDE = 271.0
  COORDINATE_SYSTEM_NAME = PLANETOGRAPHIC
  COORDINATE_SYSTEM_TYPE = "BODY-FIXED ROTATING"
  EASTERNMOST_LONGITUDE = 272.783
  FIRST_STANDARD_PARALLEL = "N/A"
  LINE_FIRST_PIXEL = 1
  LINE_LAST_PIXEL = 12202
  LINE_PROJECTION_OFFSET = -66892.875
  MAP_PROJECTION_ROTATION = 0.0
  MAP_PROJECTION_TYPE = SINUSOIDAL
  MAP_RESOLUTION = 1185.42760773333
  MAP_SCALE = 0.05
  MAXIMUM_LATITUDE = -56.4408
  MINIMUM_LATITUDE = -66.7169
  POSITIVE_LONGITUDE_DIRECTION = EAST
  REFERENCE_LATITUDE = "N/A"
  REFERENCE_LONGITUDE = "N/A"
  SAMPLE_FIRST_PIXEL = 1
  SAMPLE_LAST_PIXEL = 2791
  SAMPLE_PROJECTION_OFFSET = 1610.125
  SECOND_STANDARD_PARALLEL = "N/A"
  WESTERNMOST_LONGITUDE = 267.679
END_OBJECT = IMAGE_MAP_PROJECTION
/* The JPEG2000 image data file associated with this label. */
OBJECT = COMPRESSED_FILE
  FILE_NAME = "H2270_0000_BL3.JP2"
  RECORD_TYPE = UNDEFINED
  FILE_RECORDS = UNK
  ENCODING_TYPE = "JP2"
  INTERCHANGE_FORMAT = BINARY
  UNCOMPRESSED_FILE_NAME = "H2270_0000_BL3.IMG"
  REQUIRED_STORAGE_BYTES = "34078110"
  ^DESCRIPTION = "JP2INFO.TXT"
END_OBJECT = COMPRESSED_FILE
END
