PDS_VERSION_ID = PDS3
/* FILE DATA ELEMENTS */
RECORD_TYPE = STREAM
/* POINTERS TO DATA OBJECTS */
^COMPRESSED_FILE = "H2270_0000_ND3.JP2"
/* IDENTIFICATION DATA ELEMENTS */
DATA_SET_ID = "MEX-M-HRSC-5-REFDR-MAPPROJECTED-V3.0"
DATA_SET_NAME = "MARS EXPRESS HRSC MAP PROJECTED REFDR V3.0"
DETECTOR_ID = MEX_HRSC_NADIR
EVENT_TYPE = "MARS-REGIONAL-MAPPING-Vo-Te-Fl"
INSTRUMENT_HOST_ID = MEX
INSTRUMENT_HOST_NAME = "MARS EXPRESS"
INSTRUMENT_ID = HRSC
INSTRUMENT_NAME = "HIGH RESOLUTION STEREO CAMERA"
MISSION_NAME = "MARS EXPRESS"
MISSION_PHASE_NAME = MR_Phase_8
PROCESSING_LEVEL_ID = 3
PRODUCT_CREATION_TIME = 2016-03-14T22:12:55.000Z
PRODUCT_ID = "H2270_0000_ND3.JP2"
RELEASE_ID = 0028
REVISION_ID = 0000
/* QUALITY DATA ELEMENTS */
DATA_QUALITY_ID = 1
DATA_QUALITY_DESC = "Data calculated based on original SPICE kernels"
/* TIME DATA ELEMENTS */
SPACECRAFT_CLOCK_START_COUNT = "1/0077876167.56191"
SPACECRAFT_CLOCK_STOP_COUNT = "1/0077876403.39183"
START_TIME = 2005-10-20T08:16:58.769Z
STOP_TIME = 2005-10-20T08:19:39.744Z
/* ORBITAL DATA ELEMENTS */
ASCENDING_NODE_LONGITUDE = 180.6
MAXIMUM_RESOLUTION = 13.2
FOOTPRINT_POINT_LATITUDE = (-66.6937,-66.667,-66.6381,-66.5929, -66.5545,-66.4135,-66.1919,-65.97, -65.7495,-65.5325,-65.3151,-65.0975, -64.7744,-64.4512,-64.2379,-63.9989, -63.7851,-63.5708,-63.3562,-63.1413, -62.9261,-62.7106,-62.4949,-62.2788, -62.0625,-61.8458,-61.6289,-61.4117, -61.1942,-60.9766,-60.7666,-60.4007, -60.0339,-59.8503,-59.666,-59.482, -59.2982,-59.1138,-58.9293,-58.7446, -58.5597,-58.3746,-58.1895,-58.0042, -57.8187,-57.633,-57.4472,-57.2612, -57.0751,-56.8913,-56.5303,-56.4476, -56.4718,-56.5011,-56.6085,-56.9719, -57.344,-57.5313,-57.7184,-57.9055, -58.0923,-58.2791,-58.4657,-58.6521, -58.8384,-59.0246,-59.2106,-59.3964, -59.5821,-59.7677,-59.953,-60.1383, -60.3234,-60.5083,-60.8777,-61.1968, -61.4166,-61.6361,-61.8554,-62.0744, -62.2933,-62.5119,-62.7302,-62.9483, -63.1662,-63.3838,-63.6011,-63.8182, -64.035,-64.3756,-64.6016,-64.9292, -65.2563,-65.4772,-65.6977,-65.918, -66.1415,-66.3669,-66.5921,-66.6937)
FOOTPRINT_POINT_LONGITUDE = (270.665,270.099,269.533,268.719, 268.082,267.674,267.774,267.873,267.968 ,268.061,268.152,268.241,268.369, 268.494,268.574,268.663,268.741,268.817 ,268.891,268.965,269.037,269.108, 269.177,269.245,269.314,269.379,269.444 ,269.509,269.571,269.634,269.693, 269.792,269.887,269.934,269.974,270.02, 270.069,270.113,270.157,270.2,270.242, 270.283,270.325,270.366,270.407,270.447 ,270.486,270.525,270.563,270.601, 270.672,271.131,271.65,272.352,272.785, 272.75,272.714,272.695,272.677,272.657, 272.638,272.619,272.599,272.579,272.559 ,272.538,272.517,272.496,272.474, 272.452,272.43,272.408,272.385,272.362, 272.315,272.273,272.243,272.211,272.18, 272.15,272.119,272.088,272.056,272.024, 271.99,271.957,271.922,271.887,271.852, 271.795,271.756,271.698,271.638,271.597 ,271.554,271.511,271.467,271.421, 271.375,270.665)
ORBIT_NUMBER = 2270
ORBITAL_ECCENTRICITY = 0.573
ORBITAL_INCLINATION = 86.62
ORBITAL_SEMIMAJOR_AXIS = 8585.44
PERIAPSIS_ALTITUDE = 277.85
PERIAPSIS_ARGUMENT_ANGLE = 319.12
PERIAPSIS_TIME = 2005-10-20T08:23:38.000Z
SPACECRAFT_ORIENTATION = (0.0,1.0,0.0)
^MEX_ORIENTATION_DESC = "MEX_ORIENTATION_DESC.TXT"
SPACECRAFT_POINTING_MODE = ACROSSTRACK
^MEX_POINTING_DESC = "MEX_POINTING_DESC.TXT"
RIGHT_ASCENSION = -1e+32
DECLINATION = -1e+32
OFFSET_ANGLE = 0.229
SPACECRAFT_SOLAR_DISTANCE = 2.15408e+08
TARGET_NAME = MARS
/* CAMERA DATA ELEMENTS */
DETECTOR_TEMPERATURE = 18.3705
FOCAL_PLANE_TEMPERATURE = 7.5638
INST_CMPRS_NAME = "DISCRETE COSINE TRANSFORMATION (DCT)"
INST_CMPRS_RATIO = 7.62745
INST_CMPRS_QUALITY = 0
INST_CMPRS_QUANTZ_TBL_ID = 0
INSTRUMENT_TEMPERATURE = 10.4184
LENS_TEMPERATURE = 7.9716
MACROPIXEL_SIZE = 1
MISSING_FRAMES = 15
PIXEL_SUBSAMPLING_FLAG = N
SIGNAL_CHAIN_ID = 0
/* RADIOMETRIC DATA ELEMENTS */
BANDWIDTH = 177.0
CENTER_FILTER_WAVELENGTH = 677.5
RADIANCE_OFFSET = 4.69339
RADIANCE_SCALING_FACTOR = 0.0144943
REFLECTANCE_SCALING_FACTOR = 0.000357272
MEX:REFLECTANCE_OFFSET = 0.115688
/* IMAGE OBJECT DEFINITIONS */
OBJECT = IMAGE
  INTERCHANGE_FORMAT = BINARY
  LINES = 48805
  LINE_SAMPLES = 11163
  SAMPLE_TYPE = UNSIGNED_INTEGER
  SAMPLE_BITS = 8
  BANDS = 1
  BAND_STORAGE_TYPE = BAND_SEQUENTIAL
  MAXIMUM = 226
  MEAN = 112.082
  MINIMUM = 62
  STANDARD_DEVIATION = 5.7005
END_OBJECT = IMAGE
/* MAP OBJECT DEFINITIONS */
OBJECT = IMAGE_MAP_PROJECTION
  ^DATA_SET_MAP_PROJECTION_CATALOG= "DSMAP.CAT"
  A_AXIS_RADIUS = 3396.0
  B_AXIS_RADIUS = 3396.0
  C_AXIS_RADIUS = 3396.0
  CENTER_LATITUDE = 0.0
  CENTER_LONGITUDE = 271.0
  COORDINATE_SYSTEM_NAME = PLANETOGRAPHIC
  COORDINATE_SYSTEM_TYPE = "BODY-FIXED ROTATING"
  EASTERNMOST_LONGITUDE = 272.785
  FIRST_STANDARD_PARALLEL = "N/A"
  LINE_FIRST_PIXEL = 1
  LINE_LAST_PIXEL = 48805
  LINE_PROJECTION_OFFSET = -267570.0
  MAP_PROJECTION_ROTATION = 0.0
  MAP_PROJECTION_TYPE = SINUSOIDAL
  MAP_RESOLUTION = 4741.71043093333
  MAP_SCALE = 0.0125
  MAXIMUM_LATITUDE = -56.4476
  MINIMUM_LATITUDE = -66.69370000000001
  POSITIVE_LONGITUDE_DIRECTION = EAST
  REFERENCE_LATITUDE = "N/A"
  REFERENCE_LONGITUDE = "N/A"
  SAMPLE_FIRST_PIXEL = 1
  SAMPLE_LAST_PIXEL = 11163
  SAMPLE_PROJECTION_OFFSET = 6442.0
  SECOND_STANDARD_PARALLEL = "N/A"
  WESTERNMOST_LONGITUDE = 267.674
END_OBJECT = IMAGE_MAP_PROJECTION
/* The JPEG2000 image data file associated with this label. */
OBJECT = COMPRESSED_FILE
  FILE_NAME = "H2270_0000_ND3.JP2"
  RECORD_TYPE = UNDEFINED
  FILE_RECORDS = UNK
  ENCODING_TYPE = "JP2"
  INTERCHANGE_FORMAT = BINARY
  UNCOMPRESSED_FILE_NAME = "H2270_0000_ND3.IMG"
  REQUIRED_STORAGE_BYTES = "544843704"
  ^DESCRIPTION = "JP2INFO.TXT"
END_OBJECT = COMPRESSED_FILE
END
