PDS_VERSION_ID = PDS3
/* FILE DATA ELEMENTS */
RECORD_TYPE = STREAM
/* POINTERS TO DATA OBJECTS */
^COMPRESSED_FILE = "H2271_0000_ND3.JP2"
/* IDENTIFICATION DATA ELEMENTS */
DATA_SET_ID = "MEX-M-HRSC-5-REFDR-MAPPROJECTED-V3.0"
DATA_SET_NAME = "MARS EXPRESS HRSC MAP PROJECTED REFDR V3.0"
DETECTOR_ID = MEX_HRSC_NADIR
EVENT_TYPE = "MARS-REGIONAL-STEREO-Vo-Fl-Eo"
INSTRUMENT_HOST_ID = MEX
INSTRUMENT_HOST_NAME = "MARS EXPRESS"
INSTRUMENT_ID = HRSC
INSTRUMENT_NAME = "HIGH RESOLUTION STEREO CAMERA"
MISSION_NAME = "MARS EXPRESS"
MISSION_PHASE_NAME = MR_Phase_8
PROCESSING_LEVEL_ID = 3
PRODUCT_CREATION_TIME = 2016-03-14T22:12:55.000Z
PRODUCT_ID = "H2271_0000_ND3.JP2"
RELEASE_ID = 0028
REVISION_ID = 0000
/* QUALITY DATA ELEMENTS */
DATA_QUALITY_ID = 1
DATA_QUALITY_DESC = "Data calculated based on original SPICE kernels"
/* TIME DATA ELEMENTS */
SPACECRAFT_CLOCK_START_COUNT = "1/0077901126.57139"
SPACECRAFT_CLOCK_STOP_COUNT = "1/0077901294.48090"
START_TIME = 2005-10-20T15:12:48.391Z
STOP_TIME = 2005-10-20T15:14:12.406Z
/* ORBITAL DATA ELEMENTS */
ASCENDING_NODE_LONGITUDE = 180.57
MAXIMUM_RESOLUTION = 15.7
FOOTPRINT_POINT_LATITUDE = (-16.789,-16.7894,-16.7896,-16.7896, -16.7896,-16.7896,-16.7894,-16.7892, -16.789,-16.7887,-16.7881,-16.6874, -16.4878,-16.2884,-16.0893,-15.8903, -15.6916,-15.4931,-15.2901,-15.1884, -14.9851,-14.7821,-14.5793,-14.4236, -14.3198,-14.2159,-14.1122,-14.0085, -13.9049,-13.8013,-13.6978,-13.5918, -13.4858,-13.3799,-13.274,-13.1682, -13.0624,-12.9568,-12.8512,-12.7433, -12.6352,-12.5272,-12.4192,-12.3113, -12.2035,-12.0958,-11.9865,-11.8763, -11.7662,-11.6017,-11.6015,-11.6012, -11.6006,-11.6,-11.5996,-11.5989, -11.5981,-11.5974,-11.5967,-11.5959, -11.5951,-11.7604,-11.8707,-11.981, -12.0905,-12.1984,-12.3064,-12.4144, -12.5226,-12.6308,-12.7391,-12.8472, -12.953,-13.0588,-13.1647,-13.2707, -13.3768,-13.4829,-13.589,-13.6952, -13.7988,-13.9026,-14.0064,-14.1102, -14.2141,-14.3181,-14.4222,-14.578, -14.7811,-14.9845,-15.0862,-15.1881, -15.2899,-15.4932,-15.692,-15.891, -16.0903,-16.2898,-16.4895,-16.789)
FOOTPRINT_POINT_LONGITUDE = (175.975,175.766,175.654,175.541, 175.429,175.316,175.161,175.048,174.935 ,174.821,174.664,174.535,174.533,174.53 ,174.526,174.522,174.519,174.514,174.51 ,174.508,174.504,174.501,174.497, 174.494,174.493,174.491,174.489,174.487 ,174.485,174.483,174.481,174.479, 174.477,174.475,174.473,174.47,174.468, 174.465,174.464,174.461,174.459,174.456 ,174.454,174.451,174.449,174.446, 174.443,174.441,174.439,174.483,174.597 ,174.726,174.935,175.095,175.207, 175.367,175.526,175.654,175.765,175.892 ,176.019,176.056,176.054,176.053, 176.051,176.049,176.048,176.046,176.044 ,176.042,176.041,176.039,176.037, 176.035,176.034,176.032,176.03,176.029, 176.028,176.027,176.025,176.024,176.022 ,176.021,176.019,176.018,176.016, 176.014,176.01,176.007,176.006,176.004, 176.003,176.0,175.996,175.993,175.99, 175.985,175.982,175.975)
ORBIT_NUMBER = 2271
ORBITAL_ECCENTRICITY = 0.573
ORBITAL_INCLINATION = 86.64
ORBITAL_SEMIMAJOR_AXIS = 8579.65
PERIAPSIS_ALTITUDE = 278.45
PERIAPSIS_ARGUMENT_ANGLE = 318.96
PERIAPSIS_TIME = 2005-10-20T15:06:39.000Z
SPACECRAFT_ORIENTATION = (0.0,1.0,0.0)
^MEX_ORIENTATION_DESC = "MEX_ORIENTATION_DESC.TXT"
SPACECRAFT_POINTING_MODE = ACROSSTRACK
^MEX_POINTING_DESC = "MEX_POINTING_DESC.TXT"
RIGHT_ASCENSION = -1e+32
DECLINATION = -1e+32
OFFSET_ANGLE = 0.3
SPACECRAFT_SOLAR_DISTANCE = 2.15454e+08
TARGET_NAME = MARS
/* CAMERA DATA ELEMENTS */
DETECTOR_TEMPERATURE = 17.7588
FOCAL_PLANE_TEMPERATURE = 8.3794
INST_CMPRS_NAME = "DISCRETE COSINE TRANSFORMATION (DCT)"
INST_CMPRS_RATIO = 7.33812
INST_CMPRS_QUALITY = 0
INST_CMPRS_QUANTZ_TBL_ID = 0
INSTRUMENT_TEMPERATURE = 11.234
LENS_TEMPERATURE = 8.5833
MACROPIXEL_SIZE = 1
MISSING_FRAMES = 0
PIXEL_SUBSAMPLING_FLAG = N
SIGNAL_CHAIN_ID = 0
/* RADIOMETRIC DATA ELEMENTS */
BANDWIDTH = 177.0
CENTER_FILTER_WAVELENGTH = 677.5
RADIANCE_OFFSET = 8.32932
RADIANCE_SCALING_FACTOR = 0.0275735
REFLECTANCE_SCALING_FACTOR = 0.000679971
MEX:REFLECTANCE_OFFSET = 0.205404
/* IMAGE OBJECT DEFINITIONS */
OBJECT = IMAGE
  INTERCHANGE_FORMAT = BINARY
  LINES = 24631
  LINE_SAMPLES = 7791
  SAMPLE_TYPE = UNSIGNED_INTEGER
  SAMPLE_BITS = 8
  BANDS = 1
  BAND_STORAGE_TYPE = BAND_SEQUENTIAL
  MAXIMUM = 146
  MEAN = 127.994
  MINIMUM = 65
  STANDARD_DEVIATION = 6.02671
END_OBJECT = IMAGE
/* MAP OBJECT DEFINITIONS */
OBJECT = IMAGE_MAP_PROJECTION
  ^DATA_SET_MAP_PROJECTION_CATALOG= "DSMAP.CAT"
  A_AXIS_RADIUS = 3396.0
  B_AXIS_RADIUS = 3396.0
  C_AXIS_RADIUS = 3396.0
  CENTER_LATITUDE = 0.0
  CENTER_LONGITUDE = 175.0
  COORDINATE_SYSTEM_NAME = PLANETOGRAPHIC
  COORDINATE_SYSTEM_TYPE = "BODY-FIXED ROTATING"
  EASTERNMOST_LONGITUDE = 176.056
  FIRST_STANDARD_PARALLEL = "N/A"
  LINE_FIRST_PIXEL = 1
  LINE_LAST_PIXEL = 24631
  LINE_PROJECTION_OFFSET = -54982.0
  MAP_PROJECTION_ROTATION = 0.0
  MAP_PROJECTION_TYPE = SINUSOIDAL
  MAP_RESOLUTION = 4741.71043093333
  MAP_SCALE = 0.0125
  MAXIMUM_LATITUDE = -11.5951
  MINIMUM_LATITUDE = -16.7896
  POSITIVE_LONGITUDE_DIRECTION = EAST
  REFERENCE_LATITUDE = "N/A"
  REFERENCE_LONGITUDE = "N/A"
  SAMPLE_FIRST_PIXEL = 1
  SAMPLE_LAST_PIXEL = 7791
  SAMPLE_PROJECTION_OFFSET = 2802.0
  SECOND_STANDARD_PARALLEL = "N/A"
  WESTERNMOST_LONGITUDE = 174.439
END_OBJECT = IMAGE_MAP_PROJECTION
/* The JPEG2000 image data file associated with this label. */
OBJECT = COMPRESSED_FILE
  FILE_NAME = "H2271_0000_ND3.JP2"
  RECORD_TYPE = UNDEFINED
  FILE_RECORDS = UNK
  ENCODING_TYPE = "JP2"
  INTERCHANGE_FORMAT = BINARY
  UNCOMPRESSED_FILE_NAME = "H2271_0000_ND3.IMG"
  REQUIRED_STORAGE_BYTES = "191931285"
  ^DESCRIPTION = "JP2INFO.TXT"
END_OBJECT = COMPRESSED_FILE
END
