PDS_VERSION_ID = PDS3
/* FILE DATA ELEMENTS */
RECORD_TYPE = STREAM
/* POINTERS TO DATA OBJECTS */
^COMPRESSED_FILE = "H2271_0008_SR3.JP2"
/* IDENTIFICATION DATA ELEMENTS */
DATA_SET_ID = "MEX-M-HRSC-5-REFDR-MAPPROJECTED-V3.0"
DATA_SET_NAME = "MARS EXPRESS HRSC MAP PROJECTED REFDR V3.0"
DETECTOR_ID = MEX_HRSC_SRC
EVENT_TYPE = "MARS-REGIONAL-STEREO-Vo-Fl-Eo"
INSTRUMENT_HOST_ID = MEX
INSTRUMENT_HOST_NAME = "MARS EXPRESS"
INSTRUMENT_ID = HRSC
INSTRUMENT_NAME = "HIGH RESOLUTION STEREO CAMERA"
MISSION_NAME = "MARS EXPRESS"
MISSION_PHASE_NAME = MR_Phase_8
PROCESSING_LEVEL_ID = 3
PRODUCT_CREATION_TIME = 2016-03-14T22:12:55.000Z
PRODUCT_ID = "H2271_0008_SR3.JP2"
RELEASE_ID = 0028
REVISION_ID = 0000
/* QUALITY DATA ELEMENTS */
DATA_QUALITY_ID = 1
DATA_QUALITY_DESC = "Data calculated based on original SPICE kernels"
/* TIME DATA ELEMENTS */
SPACECRAFT_CLOCK_START_COUNT = "1/0077901126.57139"
SPACECRAFT_CLOCK_STOP_COUNT = "1/0077901294.48090"
IMAGE_TIME = 2005-10-20T15:13:12.487Z
START_TIME = 2005-10-20T15:13:12.485Z
STOP_TIME = 2005-10-20T15:13:12.490Z
/* ORBITAL DATA ELEMENTS */
ASCENDING_NODE_LONGITUDE = 180.57
MAXIMUM_RESOLUTION = 3.758
FOOTPRINT_POINT_LATITUDE = (-15.346,-15.343,-15.3394,-15.337, -15.3353,-15.3329,-15.3303,-15.3273, -15.3255,-15.3236,-15.3218,-15.3197, -15.3162,-15.3138,-15.3119,-15.3088, -15.305,-15.3026,-15.2992,-15.2968, -15.294,-15.2918,-15.2892,-15.2858, -15.2832,-15.2831,-15.2831,-15.2831, -15.2831,-15.2831,-15.2831,-15.2831, -15.2831,-15.2831,-15.2831,-15.2831, -15.2831,-15.2831,-15.2831,-15.2831, -15.2831,-15.2831,-15.2831,-15.2831, -15.2831,-15.2831,-15.2831,-15.2831, -15.2831,-15.2831,-15.2848,-15.2876, -15.2904,-15.2929,-15.2956,-15.2977, -15.3012,-15.3041,-15.306,-15.3086, -15.3109,-15.3132,-15.3148,-15.3165, -15.3194,-15.322,-15.3248,-15.3268, -15.3297,-15.3317,-15.3357,-15.3387, -15.3408,-15.3437,-15.347,-15.347, -15.347,-15.347,-15.347,-15.347,-15.347 ,-15.347,-15.347,-15.347,-15.347, -15.347,-15.347,-15.347,-15.347, -15.3471,-15.3471,-15.3471,-15.3471, -15.3471,-15.3471,-15.3471,-15.3471, -15.3471,-15.3471,-15.346)
FOOTPRINT_POINT_LONGITUDE = (175.232,175.232,175.232,175.232, 175.232,175.232,175.232,175.232,175.232 ,175.232,175.232,175.232,175.232, 175.232,175.232,175.232,175.232,175.232 ,175.232,175.232,175.232,175.232, 175.232,175.232,175.233,175.236,175.239 ,175.241,175.244,175.247,175.249, 175.252,175.255,175.257,175.26,175.262, 175.265,175.268,175.27,175.273,175.276, 175.278,175.281,175.284,175.286,175.289 ,175.291,175.294,175.297,175.299, 175.299,175.299,175.299,175.299,175.299 ,175.299,175.299,175.299,175.299, 175.299,175.299,175.299,175.299,175.299 ,175.299,175.299,175.299,175.299, 175.299,175.299,175.299,175.299,175.299 ,175.299,175.298,175.295,175.293,175.29 ,175.287,175.285,175.282,175.279, 175.277,175.274,175.271,175.269,175.266 ,175.264,175.261,175.258,175.256, 175.253,175.25,175.248,175.245,175.242, 175.24,175.237,175.235,175.232)
ORBIT_NUMBER = 2271
ORBITAL_ECCENTRICITY = 0.573
ORBITAL_INCLINATION = 86.64
ORBITAL_SEMIMAJOR_AXIS = 8579.65
PERIAPSIS_ALTITUDE = 278.45
PERIAPSIS_ARGUMENT_ANGLE = 318.96
PERIAPSIS_TIME = 2005-10-20T15:06:39.000Z
SPACECRAFT_ORIENTATION = (0.0,1.0,0.0)
^MEX_ORIENTATION_DESC = "MEX_ORIENTATION_DESC.TXT"
SPACECRAFT_POINTING_MODE = ACROSSTRACK
^MEX_POINTING_DESC = "MEX_POINTING_DESC.TXT"
RIGHT_ASCENSION = -1e+32
DECLINATION = -1e+32
OFFSET_ANGLE = 0.3
SPACECRAFT_SOLAR_DISTANCE = 2.15454e+08
TARGET_NAME = MARS
/* CAMERA DATA ELEMENTS */
BUFFER_MODE_ID = BUFFER_8
EXPOSURE_DURATION = 5.04
INST_CMPRS_NAME = NONE
INST_CMPRS_RATIO = 1.0
INST_CMPRS_QUALITY = -2147483648
INST_CMPRS_QUANTZ_TBL_ID = -2147483648
INSTRUMENT_TEMPERATURE = 7.65487
MISSING_FRAMES = 0
START_BIT = 0
/* RADIOMETRIC DATA ELEMENTS */
BANDWIDTH = 250.0
CENTER_FILTER_WAVELENGTH = 600.0
RADIANCE_OFFSET = -9.99e+31
RADIANCE_SCALING_FACTOR = -9.99e+31
REFLECTANCE_SCALING_FACTOR = -9.99e+31
MEX:REFLECTANCE_OFFSET = -9.99e+31
/* IMAGE OBJECT DEFINITIONS */
OBJECT = IMAGE
  INTERCHANGE_FORMAT = BINARY
  LINES = 802
  LINE_SAMPLES = 809
  SAMPLE_TYPE = UNSIGNED_INTEGER
  SAMPLE_BITS = 8
  BANDS = 1
  BAND_STORAGE_TYPE = BAND_SEQUENTIAL
  MAXIMUM = 11714
  MEAN = 11009.5
  MINIMUM = 9378
  STANDARD_DEVIATION = 132.211
END_OBJECT = IMAGE
/* MAP OBJECT DEFINITIONS */
OBJECT = IMAGE_MAP_PROJECTION
  ^DATA_SET_MAP_PROJECTION_CATALOG= "DSMAP.CAT"
  A_AXIS_RADIUS = 3396.19
  B_AXIS_RADIUS = 3396.19
  C_AXIS_RADIUS = 3396.19
  CENTER_LATITUDE = 0.0
  CENTER_LONGITUDE = 175.0
  COORDINATE_SYSTEM_NAME = PLANETOGRAPHIC
  COORDINATE_SYSTEM_TYPE = "BODY-FIXED ROTATING"
  EASTERNMOST_LONGITUDE = 175.299
  FIRST_STANDARD_PARALLEL = "N/A"
  LINE_FIRST_PIXEL = 1
  LINE_LAST_PIXEL = 802
  LINE_PROJECTION_OFFSET = -181133.0
  MAP_PROJECTION_ROTATION = 0.0
  MAP_PROJECTION_TYPE = SINUSOIDAL
  MAP_RESOLUTION = 11854.9393024378
  MAP_SCALE = 0.005
  MAXIMUM_LATITUDE = -15.2831
  MINIMUM_LATITUDE = -15.3471
  POSITIVE_LONGITUDE_DIRECTION = EAST
  REFERENCE_LATITUDE = "N/A"
  REFERENCE_LONGITUDE = "N/A"
  SAMPLE_FIRST_PIXEL = 1
  SAMPLE_LAST_PIXEL = 809
  SAMPLE_PROJECTION_OFFSET = -2621.0
  SECOND_STANDARD_PARALLEL = "N/A"
  WESTERNMOST_LONGITUDE = 175.232
END_OBJECT = IMAGE_MAP_PROJECTION
/* The JPEG2000 image data file associated with this label. */
OBJECT = COMPRESSED_FILE
  FILE_NAME = "H2271_0008_SR3.JP2"
  RECORD_TYPE = UNDEFINED
  FILE_RECORDS = UNK
  ENCODING_TYPE = "JP2"
  INTERCHANGE_FORMAT = BINARY
  UNCOMPRESSED_FILE_NAME = "H2271_0008_SR3.IMG"
  REQUIRED_STORAGE_BYTES = "667425"
  ^DESCRIPTION = "JP2INFO.TXT"
END_OBJECT = COMPRESSED_FILE
END
