PDS_VERSION_ID = PDS3
/* FILE DATA ELEMENTS */
RECORD_TYPE = STREAM
/* POINTERS TO DATA OBJECTS */
^COMPRESSED_FILE = "H2271_0009_BL3.JP2"
/* IDENTIFICATION DATA ELEMENTS */
DATA_SET_ID = "MEX-M-HRSC-5-REFDR-MAPPROJECTED-V3.0"
DATA_SET_NAME = "MARS EXPRESS HRSC MAP PROJECTED REFDR V3.0"
DETECTOR_ID = MEX_HRSC_BLUE
EVENT_TYPE = "MARS-REGIONAL-MAPPING-Vo-Im-Fl"
INSTRUMENT_HOST_ID = MEX
INSTRUMENT_HOST_NAME = "MARS EXPRESS"
INSTRUMENT_ID = HRSC
INSTRUMENT_NAME = "HIGH RESOLUTION STEREO CAMERA"
MISSION_NAME = "MARS EXPRESS"
MISSION_PHASE_NAME = MR_Phase_8
PROCESSING_LEVEL_ID = 3
PRODUCT_CREATION_TIME = 2016-03-14T22:12:55.000Z
PRODUCT_ID = "H2271_0009_BL3.JP2"
RELEASE_ID = 0028
REVISION_ID = 0000
/* QUALITY DATA ELEMENTS */
DATA_QUALITY_ID = 1
DATA_QUALITY_DESC = "Data calculated based on original SPICE kernels"
/* TIME DATA ELEMENTS */
SPACECRAFT_CLOCK_START_COUNT = "1/0077901527.56193"
SPACECRAFT_CLOCK_STOP_COUNT = "1/0077901954.29012"
START_TIME = 2005-10-20T15:20:01.140Z
STOP_TIME = 2005-10-20T15:22:46.135Z
/* ORBITAL DATA ELEMENTS */
ASCENDING_NODE_LONGITUDE = 180.57
MAXIMUM_RESOLUTION = 128
FOOTPRINT_POINT_LATITUDE = (8.79597,8.79262,8.78918,8.78567, 8.78208,8.77843,8.77471,8.77094,8.76712 ,8.7632,8.75923,8.75252,8.74833,9.01107 ,9.18242,9.35347,9.52423,9.69467, 9.86481,10.0347,10.2042,10.3734,10.5424 ,10.711,10.8794,11.0474,11.2151,11.3826 ,11.5497,11.7165,11.8831,12.0493, 12.2152,12.3807,12.5462,12.7112,12.876, 13.0404,13.3681,13.695,14.0204,14.4259, 14.7487,15.0705,15.3109,15.5509,15.9492 ,16.2666,16.5825,16.8977,17.0156, 17.0239,17.0306,17.0402,17.0467,17.0522 ,17.0598,17.0654,17.0709,17.0755, 17.0803,17.0844,17.0103,16.6943,16.2974 ,15.9789,15.6591,15.418,15.0962,14.8542 ,14.6112,14.2863,13.9601,13.6325, 13.3042,12.9746,12.8092,12.6436,12.4778 ,12.3113,12.145,11.9783,11.8112,11.5604 ,11.3929,11.2249,11.0565,10.8878, 10.7187,10.5489,10.2946,10.125,9.95459, 9.78401,9.61314,9.44188,9.27033,9.09848 ,8.92633,8.79597)
FOOTPRINT_POINT_LONGITUDE = (176.282,176.074,175.866,175.658,175.45 ,175.242,175.034,174.825,174.617, 174.408,174.199,173.858,173.647,173.56, 173.549,173.538,173.527,173.515,173.504 ,173.493,173.481,173.47,173.458,173.446 ,173.435,173.423,173.411,173.399, 173.387,173.376,173.364,173.352,173.34, 173.328,173.315,173.303,173.291,173.278 ,173.254,173.229,173.204,173.172, 173.147,173.121,173.101,173.081,173.049 ,173.022,172.996,172.968,173.162, 173.472,173.712,174.089,174.362,174.601 ,174.943,175.216,175.489,175.727,176.0, 176.239,176.622,176.611,176.598,176.588 ,176.578,176.57,176.56,176.553,176.545, 176.535,176.526,176.516,176.507,176.497 ,176.493,176.488,176.484,176.479, 176.474,176.47,176.465,176.459,176.456, 176.451,176.447,176.443,176.438,176.433 ,176.428,176.424,176.42,176.416,176.412 ,176.408,176.404,176.4,176.396,176.282)
ORBIT_NUMBER = 2271
ORBITAL_ECCENTRICITY = 0.573
ORBITAL_INCLINATION = 86.64
ORBITAL_SEMIMAJOR_AXIS = 8579.65
PERIAPSIS_ALTITUDE = 278.45
PERIAPSIS_ARGUMENT_ANGLE = 318.96
PERIAPSIS_TIME = 2005-10-20T15:06:39.000Z
SPACECRAFT_ORIENTATION = (0.0,1.0,0.0)
^MEX_ORIENTATION_DESC = "MEX_ORIENTATION_DESC.TXT"
SPACECRAFT_POINTING_MODE = ACROSSTRACK
^MEX_POINTING_DESC = "MEX_POINTING_DESC.TXT"
RIGHT_ASCENSION = -1e+32
DECLINATION = -1e+32
OFFSET_ANGLE = 0.3
SPACECRAFT_SOLAR_DISTANCE = 2.15454e+08
TARGET_NAME = MARS
/* CAMERA DATA ELEMENTS */
DETECTOR_TEMPERATURE = 19.1861
FOCAL_PLANE_TEMPERATURE = 8.7872
INST_CMPRS_NAME = "DISCRETE COSINE TRANSFORMATION (DCT)"
INST_CMPRS_RATIO = 21.0977
INST_CMPRS_QUALITY = 0
INST_CMPRS_QUANTZ_TBL_ID = 0
INSTRUMENT_TEMPERATURE = 12.6613
LENS_TEMPERATURE = 8.7872
MACROPIXEL_SIZE = 4
MISSING_FRAMES = 0
PIXEL_SUBSAMPLING_FLAG = N
SIGNAL_CHAIN_ID = 2
/* RADIOMETRIC DATA ELEMENTS */
BANDWIDTH = 76.0
CENTER_FILTER_WAVELENGTH = 444.0
RADIANCE_OFFSET = 1.01016
RADIANCE_SCALING_FACTOR = 0.00172785
REFLECTANCE_SCALING_FACTOR = 8.241e-05
MEX:REFLECTANCE_OFFSET = 0.0481797
/* IMAGE OBJECT DEFINITIONS */
OBJECT = IMAGE
  INTERCHANGE_FORMAT = BINARY
  LINES = 4948
  LINE_SAMPLES = 2192
  SAMPLE_TYPE = UNSIGNED_INTEGER
  SAMPLE_BITS = 8
  BANDS = 1
  BAND_STORAGE_TYPE = BAND_SEQUENTIAL
  MAXIMUM = 168
  MEAN = 114.92
  MINIMUM = 93
  STANDARD_DEVIATION = 4.51001
END_OBJECT = IMAGE
/* MAP OBJECT DEFINITIONS */
OBJECT = IMAGE_MAP_PROJECTION
  ^DATA_SET_MAP_PROJECTION_CATALOG= "DSMAP.CAT"
  A_AXIS_RADIUS = 3396.0
  B_AXIS_RADIUS = 3396.0
  C_AXIS_RADIUS = 3396.0
  CENTER_LATITUDE = 0.0
  CENTER_LONGITUDE = 175.0
  COORDINATE_SYSTEM_NAME = PLANETOGRAPHIC
  COORDINATE_SYSTEM_TYPE = "BODY-FIXED ROTATING"
  EASTERNMOST_LONGITUDE = 176.622
  FIRST_STANDARD_PARALLEL = "N/A"
  LINE_FIRST_PIXEL = 1
  LINE_LAST_PIXEL = 4948
  LINE_PROJECTION_OFFSET = 10128.375
  MAP_PROJECTION_ROTATION = 0.0
  MAP_PROJECTION_TYPE = SINUSOIDAL
  MAP_RESOLUTION = 592.713803866667
  MAP_SCALE = 0.1
  MAXIMUM_LATITUDE = 17.0844
  MINIMUM_LATITUDE = 8.748329999999999
  POSITIVE_LONGITUDE_DIRECTION = EAST
  REFERENCE_LATITUDE = "N/A"
  REFERENCE_LONGITUDE = "N/A"
  SAMPLE_FIRST_PIXEL = 1
  SAMPLE_LAST_PIXEL = 2192
  SAMPLE_PROJECTION_OFFSET = 1224.375
  SECOND_STANDARD_PARALLEL = "N/A"
  WESTERNMOST_LONGITUDE = 172.968
END_OBJECT = IMAGE_MAP_PROJECTION
/* The JPEG2000 image data file associated with this label. */
OBJECT = COMPRESSED_FILE
  FILE_NAME = "H2271_0009_BL3.JP2"
  RECORD_TYPE = UNDEFINED
  FILE_RECORDS = UNK
  ENCODING_TYPE = "JP2"
  INTERCHANGE_FORMAT = BINARY
  UNCOMPRESSED_FILE_NAME = "H2271_0009_BL3.IMG"
  REQUIRED_STORAGE_BYTES = "10867936"
  ^DESCRIPTION = "JP2INFO.TXT"
END_OBJECT = COMPRESSED_FILE
END
