PDS_VERSION_ID = PDS3
/* FILE DATA ELEMENTS */
RECORD_TYPE = STREAM
/* POINTERS TO DATA OBJECTS */
^COMPRESSED_FILE = "H2271_0009_S13.JP2"
/* IDENTIFICATION DATA ELEMENTS */
DATA_SET_ID = "MEX-M-HRSC-5-REFDR-MAPPROJECTED-V3.0"
DATA_SET_NAME = "MARS EXPRESS HRSC MAP PROJECTED REFDR V3.0"
DETECTOR_ID = MEX_HRSC_S1
EVENT_TYPE = "MARS-REGIONAL-MAPPING-Vo-Im-Fl"
INSTRUMENT_HOST_ID = MEX
INSTRUMENT_HOST_NAME = "MARS EXPRESS"
INSTRUMENT_ID = HRSC
INSTRUMENT_NAME = "HIGH RESOLUTION STEREO CAMERA"
MISSION_NAME = "MARS EXPRESS"
MISSION_PHASE_NAME = MR_Phase_8
PROCESSING_LEVEL_ID = 3
PRODUCT_CREATION_TIME = 2016-03-14T22:12:55.000Z
PRODUCT_ID = "H2271_0009_S13.JP2"
RELEASE_ID = 0028
REVISION_ID = 0000
/* QUALITY DATA ELEMENTS */
DATA_QUALITY_ID = 1
DATA_QUALITY_DESC = "Data calculated based on original SPICE kernels"
/* TIME DATA ELEMENTS */
SPACECRAFT_CLOCK_START_COUNT = "1/0077901527.56193"
SPACECRAFT_CLOCK_STOP_COUNT = "1/0077901954.29012"
START_TIME = 2005-10-20T15:22:10.776Z
STOP_TIME = 2005-10-20T15:25:59.518Z
/* ORBITAL DATA ELEMENTS */
ASCENDING_NODE_LONGITUDE = 180.57
MAXIMUM_RESOLUTION = 82.5
FOOTPRINT_POINT_LATITUDE = (8.80978,8.80473,8.80024,8.7953,8.78893 ,8.78188,8.77198,8.76331,8.7539,8.74376 ,8.73283,8.72125,8.7646,8.94375,9.21222 ,9.39045,9.568,9.74485,9.92118,10.0966, 10.2714,10.4456,10.6193,10.7923,10.9641 ,11.1355,11.3063,11.4765,11.646,11.8148 ,11.983,12.3174,12.6496,12.9788,13.307, 13.5507,13.8716,14.1116,14.5095,14.7437 ,15.0561,15.3661,15.6732,15.9811, 16.2064,16.5064,16.7307,16.9207,16.9341 ,16.9467,16.9564,16.9656,16.9804, 16.9888,16.9966,17.0058,17.0125,17.0253 ,17.0302,17.0381,17.0422,17.046,17.0497 ,17.0543,17.0585,17.0619,17.0626, 17.0639,16.689,16.3891,16.0843,15.7787, 15.3926,15.1606,14.923,14.6844,14.3676, 13.9662,13.7226,13.397,12.9869,12.7376, 12.4045,12.068,11.8981,11.5603,11.3882, 11.1242,10.7806,10.5184,10.3424,10.1641 ,9.98759,9.81033,9.63233,9.45395, 9.27468,9.09456,8.91392,8.80978)
FOOTPRINT_POINT_LONGITUDE = (176.563,176.265,176.033,175.801, 175.536,175.271,174.94,174.674,174.409, 174.143,173.876,173.609,173.246,173.23, 173.207,173.191,173.175,173.16,173.144, 173.128,173.112,173.096,173.08,173.064, 173.047,173.031,173.014,172.998,172.981 ,172.965,172.948,172.915,172.881, 172.847,172.814,172.788,172.753,172.727 ,172.684,172.656,172.621,172.585, 172.549,172.514,172.486,172.449,172.421 ,172.489,172.721,172.952,173.137, 173.322,173.599,173.829,174.013,174.243 ,174.427,174.748,174.978,175.254, 175.438,175.621,175.805,176.08,176.402, 176.723,176.907,177.091,177.129,177.108 ,177.088,177.068,177.043,177.028, 177.014,177.001,176.981,176.958,176.945 ,176.926,176.904,176.891,176.873, 176.856,176.847,176.829,176.821,176.81, 176.793,176.781,176.773,176.765,176.757 ,176.749,176.741,176.733,176.725, 176.717,176.71,176.563)
ORBIT_NUMBER = 2271
ORBITAL_ECCENTRICITY = 0.573
ORBITAL_INCLINATION = 86.64
ORBITAL_SEMIMAJOR_AXIS = 8579.65
PERIAPSIS_ALTITUDE = 278.45
PERIAPSIS_ARGUMENT_ANGLE = 318.96
PERIAPSIS_TIME = 2005-10-20T15:06:39.000Z
SPACECRAFT_ORIENTATION = (0.0,1.0,0.0)
^MEX_ORIENTATION_DESC = "MEX_ORIENTATION_DESC.TXT"
SPACECRAFT_POINTING_MODE = ACROSSTRACK
^MEX_POINTING_DESC = "MEX_POINTING_DESC.TXT"
RIGHT_ASCENSION = -1e+32
DECLINATION = -1e+32
OFFSET_ANGLE = 0.3
SPACECRAFT_SOLAR_DISTANCE = 2.15454e+08
TARGET_NAME = MARS
/* CAMERA DATA ELEMENTS */
DETECTOR_TEMPERATURE = 18.5744
FOCAL_PLANE_TEMPERATURE = 8.7872
INST_CMPRS_NAME = "DISCRETE COSINE TRANSFORMATION (DCT)"
INST_CMPRS_RATIO = 10.4073
INST_CMPRS_QUALITY = 0
INST_CMPRS_QUANTZ_TBL_ID = 0
INSTRUMENT_TEMPERATURE = 12.6613
LENS_TEMPERATURE = 8.7872
MACROPIXEL_SIZE = 2
MISSING_FRAMES = 0
PIXEL_SUBSAMPLING_FLAG = N
SIGNAL_CHAIN_ID = 1
/* RADIOMETRIC DATA ELEMENTS */
BANDWIDTH = 180.0
CENTER_FILTER_WAVELENGTH = 677.0
RADIANCE_OFFSET = 7.01402
RADIANCE_SCALING_FACTOR = 0.027506
REFLECTANCE_SCALING_FACTOR = 0.000666172
MEX:REFLECTANCE_OFFSET = 0.169874
/* IMAGE OBJECT DEFINITIONS */
OBJECT = IMAGE
  INTERCHANGE_FORMAT = BINARY
  LINES = 9895
  LINE_SAMPLES = 4384
  SAMPLE_TYPE = UNSIGNED_INTEGER
  SAMPLE_BITS = 8
  BANDS = 1
  BAND_STORAGE_TYPE = BAND_SEQUENTIAL
  MAXIMUM = 190
  MEAN = 157.315
  MINIMUM = 91
  STANDARD_DEVIATION = 6.94606
END_OBJECT = IMAGE
/* MAP OBJECT DEFINITIONS */
OBJECT = IMAGE_MAP_PROJECTION
  ^DATA_SET_MAP_PROJECTION_CATALOG= "DSMAP.CAT"
  A_AXIS_RADIUS = 3396.0
  B_AXIS_RADIUS = 3396.0
  C_AXIS_RADIUS = 3396.0
  CENTER_LATITUDE = 0.0
  CENTER_LONGITUDE = 175.0
  COORDINATE_SYSTEM_NAME = PLANETOGRAPHIC
  COORDINATE_SYSTEM_TYPE = "BODY-FIXED ROTATING"
  EASTERNMOST_LONGITUDE = 177.129
  FIRST_STANDARD_PARALLEL = "N/A"
  LINE_FIRST_PIXEL = 1
  LINE_LAST_PIXEL = 9895
  LINE_PROJECTION_OFFSET = 20257.25
  MAP_PROJECTION_ROTATION = 0.0
  MAP_PROJECTION_TYPE = SINUSOIDAL
  MAP_RESOLUTION = 1185.42760773333
  MAP_SCALE = 0.05
  MAXIMUM_LATITUDE = 17.0639
  MINIMUM_LATITUDE = 8.72125
  POSITIVE_LONGITUDE_DIRECTION = EAST
  REFERENCE_LATITUDE = "N/A"
  REFERENCE_LONGITUDE = "N/A"
  SAMPLE_FIRST_PIXEL = 1
  SAMPLE_LAST_PIXEL = 4384
  SAMPLE_PROJECTION_OFFSET = 2449.25
  SECOND_STANDARD_PARALLEL = "N/A"
  WESTERNMOST_LONGITUDE = 172.421
END_OBJECT = IMAGE_MAP_PROJECTION
/* The JPEG2000 image data file associated with this label. */
OBJECT = COMPRESSED_FILE
  FILE_NAME = "H2271_0009_S13.JP2"
  RECORD_TYPE = UNDEFINED
  FILE_RECORDS = UNK
  ENCODING_TYPE = "JP2"
  INTERCHANGE_FORMAT = BINARY
  UNCOMPRESSED_FILE_NAME = "H2271_0009_S13.IMG"
  REQUIRED_STORAGE_BYTES = "43405984"
  ^DESCRIPTION = "JP2INFO.TXT"
END_OBJECT = COMPRESSED_FILE
END
