PDS_VERSION_ID = PDS3
/* FILE DATA ELEMENTS */
RECORD_TYPE = STREAM
/* POINTERS TO DATA OBJECTS */
^COMPRESSED_FILE = "H2272_0000_ND3.JP2"
/* IDENTIFICATION DATA ELEMENTS */
DATA_SET_ID = "MEX-M-HRSC-5-REFDR-MAPPROJECTED-V3.0"
DATA_SET_NAME = "MARS EXPRESS HRSC MAP PROJECTED REFDR V3.0"
DETECTOR_ID = MEX_HRSC_NADIR
EVENT_TYPE = "MARS-REGIONAL-MAPPING-Fl-Pf-Mw"
INSTRUMENT_HOST_ID = MEX
INSTRUMENT_HOST_NAME = "MARS EXPRESS"
INSTRUMENT_ID = HRSC
INSTRUMENT_NAME = "HIGH RESOLUTION STEREO CAMERA"
MISSION_NAME = "MARS EXPRESS"
MISSION_PHASE_NAME = MR_Phase_8
PROCESSING_LEVEL_ID = 3
PRODUCT_CREATION_TIME = 2016-03-14T22:12:55.000Z
PRODUCT_ID = "H2272_0000_ND3.JP2"
RELEASE_ID = 0028
REVISION_ID = 0000
/* QUALITY DATA ELEMENTS */
DATA_QUALITY_ID = 1
DATA_QUALITY_DESC = "Data calculated based on original SPICE kernels"
/* TIME DATA ELEMENTS */
SPACECRAFT_CLOCK_START_COUNT = "1/0077924554.57158"
SPACECRAFT_CLOCK_STOP_COUNT = "1/0077924732.55205"
START_TIME = 2005-10-20T21:43:23.519Z
STOP_TIME = 2005-10-20T21:45:07.518Z
/* ORBITAL DATA ELEMENTS */
ASCENDING_NODE_LONGITUDE = 180.56
MAXIMUM_RESOLUTION = 14
FOOTPRINT_POINT_LATITUDE = (-65.7872,-65.7669,-65.7448,-65.7209, -65.7035,-65.6801,-65.6509,-65.5117, -65.3726,-65.2367,-65.1008,-64.9646, -64.8284,-64.692,-64.5555,-64.4189, -64.2822,-64.1453,-64.0083,-63.8712, -63.734,-63.5966,-63.4592,-63.3216, -63.1839,-63.0461,-62.9082,-62.7701, -62.632,-62.4937,-62.3553,-62.2168, -62.0781,-61.9394,-61.8006,-61.6616, -61.5225,-61.3834,-61.2474,-61.0138, -60.7799,-60.5457,-60.3112,-60.0764, -59.8413,-59.606,-59.3704,-59.1345, -59.133,-59.1516,-59.1688,-59.1779, -59.1865,-59.1971,-59.2083,-59.3305, -59.4493,-59.5679,-59.6866,-59.8051, -59.9236,-60.1605,-60.397,-60.6334, -60.8694,-61.1052,-61.3408,-61.4749, -61.6153,-61.7556,-61.8958,-62.0358, -62.1758,-62.3157,-62.4555,-62.5952, -62.7348,-62.8743,-63.0137,-63.153, -63.2923,-63.4314,-63.5704,-63.7093, -63.8481,-63.9868,-64.1254,-64.2639, -64.4023,-64.5406,-64.6788,-64.8169, -64.9548,-65.0927,-65.2305,-65.3681, -65.5057,-65.6461,-65.7871,-65.7872)
FOOTPRINT_POINT_LONGITUDE = (75.644,75.1123,74.5824,74.0553,73.6941 ,73.2356,72.7164,72.7685,72.8202, 72.8702,72.9194,72.9676,73.0153,73.0626 ,73.1093,73.1554,73.2011,73.2461, 73.2907,73.3348,73.3784,73.4212,73.4637 ,73.5057,73.5473,73.5885,73.6293, 73.6692,73.7089,73.7484,73.7869,73.8249 ,73.8627,73.9001,73.9368,73.9732, 74.0093,74.045,74.0795,74.1378,74.1955, 74.2514,74.3066,74.3604,74.4134,74.4653 ,74.5164,74.5665,74.8727,75.2936, 75.7162,75.9521,76.1916,76.4991,76.8509 ,76.947,76.9369,76.926,76.9153,76.9046, 76.8931,76.8714,76.8492,76.8262,76.8022 ,76.7772,76.7542,76.7404,76.7262, 76.7115,76.6963,76.6803,76.6655,76.6503 ,76.6344,76.6186,76.6032,76.5872, 76.5708,76.5544,76.5377,76.5205,76.5031 ,76.486,76.4681,76.4506,76.4331,76.415, 76.3969,76.3781,76.3597,76.341,76.3217, 76.3019,76.2833,76.2635,76.2432,76.2227 ,76.202,75.644)
ORBIT_NUMBER = 2272
ORBITAL_ECCENTRICITY = 0.573
ORBITAL_INCLINATION = 86.65
ORBITAL_SEMIMAJOR_AXIS = 8583.76
PERIAPSIS_ALTITUDE = 277.3
PERIAPSIS_ARGUMENT_ANGLE = 318.77
PERIAPSIS_TIME = 2005-10-20T21:49:41.000Z
SPACECRAFT_ORIENTATION = (0.0,1.0,0.0)
^MEX_ORIENTATION_DESC = "MEX_ORIENTATION_DESC.TXT"
SPACECRAFT_POINTING_MODE = ACROSSTRACK
^MEX_POINTING_DESC = "MEX_POINTING_DESC.TXT"
RIGHT_ASCENSION = -1e+32
DECLINATION = -1e+32
OFFSET_ANGLE = -0.2
SPACECRAFT_SOLAR_DISTANCE = 2.15501e+08
TARGET_NAME = MARS
/* CAMERA DATA ELEMENTS */
DETECTOR_TEMPERATURE = 18.3705
FOCAL_PLANE_TEMPERATURE = 8.3794
INST_CMPRS_NAME = "DISCRETE COSINE TRANSFORMATION (DCT)"
INST_CMPRS_RATIO = 6.99139
INST_CMPRS_QUALITY = 0
INST_CMPRS_QUANTZ_TBL_ID = 0
INSTRUMENT_TEMPERATURE = 11.4379
LENS_TEMPERATURE = 8.9911
MACROPIXEL_SIZE = 1
MISSING_FRAMES = 0
PIXEL_SUBSAMPLING_FLAG = N
SIGNAL_CHAIN_ID = 0
/* RADIOMETRIC DATA ELEMENTS */
BANDWIDTH = 177.0
CENTER_FILTER_WAVELENGTH = 677.5
RADIANCE_OFFSET = 3.84858
RADIANCE_SCALING_FACTOR = 0.01684
REFLECTANCE_SCALING_FACTOR = 0.000415454
MEX:REFLECTANCE_OFFSET = 0.0949468
/* IMAGE OBJECT DEFINITIONS */
OBJECT = IMAGE
  INTERCHANGE_FORMAT = BINARY
  LINES = 31687
  LINE_SAMPLES = 9133
  SAMPLE_TYPE = UNSIGNED_INTEGER
  SAMPLE_BITS = 8
  BANDS = 1
  BAND_STORAGE_TYPE = BAND_SEQUENTIAL
  MAXIMUM = 230
  MEAN = 155.986
  MINIMUM = 86
  STANDARD_DEVIATION = 11.4772
END_OBJECT = IMAGE
/* MAP OBJECT DEFINITIONS */
OBJECT = IMAGE_MAP_PROJECTION
  ^DATA_SET_MAP_PROJECTION_CATALOG= "DSMAP.CAT"
  A_AXIS_RADIUS = 3396.0
  B_AXIS_RADIUS = 3396.0
  C_AXIS_RADIUS = 3396.0
  CENTER_LATITUDE = 0.0
  CENTER_LONGITUDE = 75.0
  COORDINATE_SYSTEM_NAME = PLANETOGRAPHIC
  COORDINATE_SYSTEM_TYPE = "BODY-FIXED ROTATING"
  EASTERNMOST_LONGITUDE = 76.947
  FIRST_STANDARD_PARALLEL = "N/A"
  LINE_FIRST_PIXEL = 1
  LINE_LAST_PIXEL = 31687
  LINE_PROJECTION_OFFSET = -280336.0
  MAP_PROJECTION_ROTATION = 0.0
  MAP_PROJECTION_TYPE = SINUSOIDAL
  MAP_RESOLUTION = 4741.71043093333
  MAP_SCALE = 0.0125
  MAXIMUM_LATITUDE = -59.133
  MINIMUM_LATITUDE = -65.7872
  POSITIVE_LONGITUDE_DIRECTION = EAST
  REFERENCE_LATITUDE = "N/A"
  REFERENCE_LONGITUDE = "N/A"
  SAMPLE_FIRST_PIXEL = 1
  SAMPLE_LAST_PIXEL = 9133
  SAMPLE_PROJECTION_OFFSET = 4410.0
  SECOND_STANDARD_PARALLEL = "N/A"
  WESTERNMOST_LONGITUDE = 72.71639999999999
END_OBJECT = IMAGE_MAP_PROJECTION
/* The JPEG2000 image data file associated with this label. */
OBJECT = COMPRESSED_FILE
  FILE_NAME = "H2272_0000_ND3.JP2"
  RECORD_TYPE = UNDEFINED
  FILE_RECORDS = UNK
  ENCODING_TYPE = "JP2"
  INTERCHANGE_FORMAT = BINARY
  UNCOMPRESSED_FILE_NAME = "H2272_0000_ND3.IMG"
  REQUIRED_STORAGE_BYTES = "289433903"
  ^DESCRIPTION = "JP2INFO.TXT"
END_OBJECT = COMPRESSED_FILE
END
