PDS_VERSION_ID = PDS3
/* FILE DATA ELEMENTS */
RECORD_TYPE = STREAM
/* POINTERS TO DATA OBJECTS */
^COMPRESSED_FILE = "H2272_0000_S23.JP2"
/* IDENTIFICATION DATA ELEMENTS */
DATA_SET_ID = "MEX-M-HRSC-5-REFDR-MAPPROJECTED-V3.0"
DATA_SET_NAME = "MARS EXPRESS HRSC MAP PROJECTED REFDR V3.0"
DETECTOR_ID = MEX_HRSC_S2
EVENT_TYPE = "MARS-REGIONAL-MAPPING-Fl-Pf-Mw"
INSTRUMENT_HOST_ID = MEX
INSTRUMENT_HOST_NAME = "MARS EXPRESS"
INSTRUMENT_ID = HRSC
INSTRUMENT_NAME = "HIGH RESOLUTION STEREO CAMERA"
MISSION_NAME = "MARS EXPRESS"
MISSION_PHASE_NAME = MR_Phase_8
PROCESSING_LEVEL_ID = 3
PRODUCT_CREATION_TIME = 2016-03-14T22:12:55.000Z
PRODUCT_ID = "H2272_0000_S23.JP2"
RELEASE_ID = 0028
REVISION_ID = 0000
/* QUALITY DATA ELEMENTS */
DATA_QUALITY_ID = 1
DATA_QUALITY_DESC = "Data calculated based on original SPICE kernels"
/* TIME DATA ELEMENTS */
SPACECRAFT_CLOCK_START_COUNT = "1/0077924554.57158"
SPACECRAFT_CLOCK_STOP_COUNT = "1/0077924732.55205"
START_TIME = 2005-10-20T21:42:41.881Z
STOP_TIME = 2005-10-20T21:44:33.889Z
/* ORBITAL DATA ELEMENTS */
ASCENDING_NODE_LONGITUDE = 180.56
MAXIMUM_RESOLUTION = 31.3
FOOTPRINT_POINT_LATITUDE = (-65.9003,-65.8786,-65.8586,-65.8361, -65.8112,-65.7892,-65.7637,-65.5831, -65.4469,-65.314,-65.1822,-65.0485, -64.9145,-64.7805,-64.6478,-64.4513, -64.32,-64.1889,-64.0574,-63.8606, -63.7322,-63.603,-63.474,-63.2804, -63.1511,-63.0223,-62.7696,-62.5168, -62.39,-62.262,-62.1346,-62.0073, -61.8796,-61.7513,-61.5591,-61.3667, -61.2383,-61.1098,-60.9174,-60.7889, -60.6595,-60.5302,-60.401,-60.2715, -60.1414,-60.0114,-59.8164,-59.6858, -59.4897,-59.2946,-59.1317,-59.15, -59.1718,-59.1801,-59.1951,-59.2806, -59.4109,-59.5425,-59.7399,-59.8718, -60.0694,-60.1993,-60.3954,-60.5262, -60.6566,-60.7874,-60.9836,-61.1802, -61.3737,-61.5029,-61.6312,-61.7603, -61.8901,-62.0195,-62.1481,-62.3409, -62.4696,-62.5977,-62.8534,-62.9811, -63.1089,-63.2388,-63.3698,-63.5662, -63.6968,-63.8273,-63.9571,-64.0891, -64.2224,-64.3555,-64.4883,-64.6213, -64.7536,-64.9555,-65.0913,-65.2934, -65.4286,-65.5635,-65.769,-65.9003)
FOOTPRINT_POINT_LONGITUDE = (76.2427,75.5319,74.9658,74.4021, 73.8413,73.3872,72.8992,72.6197,72.6721 ,72.7228,72.7732,72.8227,72.8716,72.92, 72.9677,73.0367,73.0821,73.1271,73.1716 ,73.2372,73.2794,73.3211,73.3623, 73.4234,73.4636,73.5035,73.5798,73.6546 ,73.6914,73.7277,73.7637,73.7994, 73.8347,73.8696,73.9213,73.9723,74.0059 ,74.0392,74.0885,74.1211,74.1531, 74.1849,74.2164,74.2475,74.2783,74.3088 ,74.354,74.3837,74.4278,74.4714,74.6036 ,75.0159,75.6489,76.1425,76.5346, 77.0253,77.0161,77.0055,76.9892,76.9778 ,76.9605,76.9504,76.9336,76.9221, 76.9107,76.8987,76.8802,76.8609,76.844, 76.8321,76.821,76.8089,76.7958,76.7828, 76.7703,76.7513,76.7381,76.7253,76.6993 ,76.686,76.6725,76.6586,76.6443,76.6223 ,76.6077,76.5929,76.5785,76.5634, 76.5478,76.5322,76.5165,76.5004,76.4845 ,76.4595,76.4423,76.4176,76.4001, 76.3826,76.3559,76.2427)
ORBIT_NUMBER = 2272
ORBITAL_ECCENTRICITY = 0.573
ORBITAL_INCLINATION = 86.65
ORBITAL_SEMIMAJOR_AXIS = 8583.76
PERIAPSIS_ALTITUDE = 277.3
PERIAPSIS_ARGUMENT_ANGLE = 318.77
PERIAPSIS_TIME = 2005-10-20T21:49:41.000Z
SPACECRAFT_ORIENTATION = (0.0,1.0,0.0)
^MEX_ORIENTATION_DESC = "MEX_ORIENTATION_DESC.TXT"
SPACECRAFT_POINTING_MODE = ACROSSTRACK
^MEX_POINTING_DESC = "MEX_POINTING_DESC.TXT"
RIGHT_ASCENSION = -1e+32
DECLINATION = -1e+32
OFFSET_ANGLE = -0.2
SPACECRAFT_SOLAR_DISTANCE = 2.15501e+08
TARGET_NAME = MARS
/* CAMERA DATA ELEMENTS */
DETECTOR_TEMPERATURE = 18.7783
FOCAL_PLANE_TEMPERATURE = 8.3794
INST_CMPRS_NAME = "DISCRETE COSINE TRANSFORMATION (DCT)"
INST_CMPRS_RATIO = 10.4052
INST_CMPRS_QUALITY = 0
INST_CMPRS_QUANTZ_TBL_ID = 0
INSTRUMENT_TEMPERATURE = 11.4379
LENS_TEMPERATURE = 8.9911
MACROPIXEL_SIZE = 2
MISSING_FRAMES = 0
PIXEL_SUBSAMPLING_FLAG = N
SIGNAL_CHAIN_ID = 1
/* RADIOMETRIC DATA ELEMENTS */
BANDWIDTH = 178.0
CENTER_FILTER_WAVELENGTH = 679.0
RADIANCE_OFFSET = 4.23088
RADIANCE_SCALING_FACTOR = 0.0164321
REFLECTANCE_SCALING_FACTOR = 0.000404128
MEX:REFLECTANCE_OFFSET = 0.104053
/* IMAGE OBJECT DEFINITIONS */
OBJECT = IMAGE
  INTERCHANGE_FORMAT = BINARY
  LINES = 15844
  LINE_SAMPLES = 4567
  SAMPLE_TYPE = UNSIGNED_INTEGER
  SAMPLE_BITS = 8
  BANDS = 1
  BAND_STORAGE_TYPE = BAND_SEQUENTIAL
  MAXIMUM = 218
  MEAN = 163.662
  MINIMUM = 94
  STANDARD_DEVIATION = 11.1523
END_OBJECT = IMAGE
/* MAP OBJECT DEFINITIONS */
OBJECT = IMAGE_MAP_PROJECTION
  ^DATA_SET_MAP_PROJECTION_CATALOG= "DSMAP.CAT"
  A_AXIS_RADIUS = 3396.0
  B_AXIS_RADIUS = 3396.0
  C_AXIS_RADIUS = 3396.0
  CENTER_LATITUDE = 0.0
  CENTER_LONGITUDE = 75.0
  COORDINATE_SYSTEM_NAME = PLANETOGRAPHIC
  COORDINATE_SYSTEM_TYPE = "BODY-FIXED ROTATING"
  EASTERNMOST_LONGITUDE = 77.0253
  FIRST_STANDARD_PARALLEL = "N/A"
  LINE_FIRST_PIXEL = 1
  LINE_LAST_PIXEL = 15844
  LINE_PROJECTION_OFFSET = -140168.25
  MAP_PROJECTION_ROTATION = 0.0
  MAP_PROJECTION_TYPE = SINUSOIDAL
  MAP_RESOLUTION = 2370.85521546667
  MAP_SCALE = 0.025
  MAXIMUM_LATITUDE = -59.1317
  MINIMUM_LATITUDE = -65.9003
  POSITIVE_LONGITUDE_DIRECTION = EAST
  REFERENCE_LATITUDE = "N/A"
  REFERENCE_LONGITUDE = "N/A"
  SAMPLE_FIRST_PIXEL = 1
  SAMPLE_LAST_PIXEL = 4567
  SAMPLE_PROJECTION_OFFSET = 2204.75
  SECOND_STANDARD_PARALLEL = "N/A"
  WESTERNMOST_LONGITUDE = 72.61969999999999
END_OBJECT = IMAGE_MAP_PROJECTION
/* The JPEG2000 image data file associated with this label. */
OBJECT = COMPRESSED_FILE
  FILE_NAME = "H2272_0000_S23.JP2"
  RECORD_TYPE = UNDEFINED
  FILE_RECORDS = UNK
  ENCODING_TYPE = "JP2"
  INTERCHANGE_FORMAT = BINARY
  UNCOMPRESSED_FILE_NAME = "H2272_0000_S23.IMG"
  REQUIRED_STORAGE_BYTES = "72386950"
  ^DESCRIPTION = "JP2INFO.TXT"
END_OBJECT = COMPRESSED_FILE
END
