PDS_VERSION_ID = PDS3
/* FILE DATA ELEMENTS */
RECORD_TYPE = STREAM
/* POINTERS TO DATA OBJECTS */
^COMPRESSED_FILE = "H2272_0001_BL3.JP2"
/* IDENTIFICATION DATA ELEMENTS */
DATA_SET_ID = "MEX-M-HRSC-5-REFDR-MAPPROJECTED-V3.0"
DATA_SET_NAME = "MARS EXPRESS HRSC MAP PROJECTED REFDR V3.0"
DETECTOR_ID = MEX_HRSC_BLUE
EVENT_TYPE = "MARS-LOCAL-MAPPING-Fl-Lc-Mw"
INSTRUMENT_HOST_ID = MEX
INSTRUMENT_HOST_NAME = "MARS EXPRESS"
INSTRUMENT_ID = HRSC
INSTRUMENT_NAME = "HIGH RESOLUTION STEREO CAMERA"
MISSION_NAME = "MARS EXPRESS"
MISSION_PHASE_NAME = MR_Phase_8
PROCESSING_LEVEL_ID = 3
PRODUCT_CREATION_TIME = 2016-03-14T22:12:55.000Z
PRODUCT_ID = "H2272_0001_BL3.JP2"
RELEASE_ID = 0028
REVISION_ID = 0000
/* QUALITY DATA ELEMENTS */
DATA_QUALITY_ID = 1
DATA_QUALITY_DESC = "Data calculated based on original SPICE kernels"
/* TIME DATA ELEMENTS */
SPACECRAFT_CLOCK_START_COUNT = "1/0077924918.57156"
SPACECRAFT_CLOCK_STOP_COUNT = "1/0077925045.49750"
START_TIME = 2005-10-20T21:49:06.460Z
STOP_TIME = 2005-10-20T21:50:22.392Z
/* ORBITAL DATA ELEMENTS */
ASCENDING_NODE_LONGITUDE = 180.56
MAXIMUM_RESOLUTION = 90.5
FOOTPRINT_POINT_LATITUDE = (-43.1909,-43.1875,-43.1842,-43.1801, -43.1758,-43.1711,-43.146,-42.8974, -42.7978,-42.6485,-42.5489,-42.3995, -42.2999,-42.2004,-42.1008,-42.001, -41.802,-41.6523,-41.5527,-41.4528, -41.3034,-41.2036,-41.1038,-40.9544, -40.8048,-40.7049,-40.6052,-40.4554, -40.3058,-40.206,-40.1064,-40.0066, -39.9068,-39.807,-39.7072,-39.6074, -39.5076,-39.3579,-39.2581,-39.1085, -39.0087,-38.8591,-38.7593,-38.6097, -38.4601,-38.3603,-38.2605,-38.1607, -38.083,-38.0866,-38.0897,-38.0931, -38.095,-38.097,-38.15,-38.2501,-38.35, -38.4998,-38.6497,-38.7496,-38.8496, -38.9494,-39.0494,-39.1493,-39.2492, -39.3492,-39.4492,-39.5493,-39.6492, -39.7491,-39.8489,-39.9489,-40.0988, -40.2486,-40.3485,-40.4484,-40.5484, -40.6483,-40.7981,-40.898,-40.9979, -41.0978,-41.2476,-41.3475,-41.4975, -41.6972,-41.8471,-41.947,-42.0466, -42.1465,-42.2466,-42.3465,-42.4959, -42.5957,-42.6955,-42.7957,-42.8956, -42.9952,-43.1447,-43.1909)
FOOTPRINT_POINT_LONGITUDE = (77.6822,77.4888,77.3199,77.1275, 76.9359,76.7448,76.4688,76.4834,76.489, 76.4975,76.503,76.5112,76.5166,76.522, 76.5274,76.5325,76.5432,76.5506,76.5558 ,76.5606,76.5682,76.573,76.5778,76.5851 ,76.5922,76.5967,76.6014,76.6081, 76.6149,76.6193,76.6239,76.6283,76.6326 ,76.6368,76.6411,76.6453,76.6495, 76.6557,76.6598,76.6659,76.6699,76.676, 76.6799,76.6857,76.6915,76.6953,76.6989 ,76.7026,76.9481,77.1348,77.3102, 77.5215,77.6509,77.8044,77.9533,77.9507 ,77.9487,77.9455,77.9421,77.9398, 77.9374,77.9353,77.933,77.9306,77.9283, 77.9258,77.9231,77.9203,77.9181,77.9157 ,77.9134,77.9109,77.9072,77.9035, 77.9011,77.8985,77.8958,77.8932,77.8894 ,77.8868,77.884,77.8813,77.8774,77.8748 ,77.8701,77.8647,77.8601,77.857,77.8549 ,77.8517,77.8481,77.8449,77.8414, 77.8388,77.8357,77.8313,77.8279,77.8255 ,77.8214,77.6822)
ORBIT_NUMBER = 2272
ORBITAL_ECCENTRICITY = 0.573
ORBITAL_INCLINATION = 86.65
ORBITAL_SEMIMAJOR_AXIS = 8583.76
PERIAPSIS_ALTITUDE = 277.3
PERIAPSIS_ARGUMENT_ANGLE = 318.77
PERIAPSIS_TIME = 2005-10-20T21:49:41.000Z
SPACECRAFT_ORIENTATION = (0.0,1.0,0.0)
^MEX_ORIENTATION_DESC = "MEX_ORIENTATION_DESC.TXT"
SPACECRAFT_POINTING_MODE = ACROSSTRACK
^MEX_POINTING_DESC = "MEX_POINTING_DESC.TXT"
RIGHT_ASCENSION = -1e+32
DECLINATION = -1e+32
OFFSET_ANGLE = -0.2
SPACECRAFT_SOLAR_DISTANCE = 2.15501e+08
TARGET_NAME = MARS
/* CAMERA DATA ELEMENTS */
DETECTOR_TEMPERATURE = 19.1861
FOCAL_PLANE_TEMPERATURE = 8.9911
INST_CMPRS_NAME = "DISCRETE COSINE TRANSFORMATION (DCT)"
INST_CMPRS_RATIO = 34.2207
INST_CMPRS_QUALITY = 0
INST_CMPRS_QUANTZ_TBL_ID = 0
INSTRUMENT_TEMPERATURE = 12.6613
LENS_TEMPERATURE = 9.195
MACROPIXEL_SIZE = 8
MISSING_FRAMES = 0
PIXEL_SUBSAMPLING_FLAG = N
SIGNAL_CHAIN_ID = 2
/* RADIOMETRIC DATA ELEMENTS */
BANDWIDTH = 76.0
CENTER_FILTER_WAVELENGTH = 444.0
RADIANCE_OFFSET = 1.06381
RADIANCE_SCALING_FACTOR = 0.000927067
REFLECTANCE_SCALING_FACTOR = 4.42348e-05
MEX:REFLECTANCE_OFFSET = 0.0507595
/* IMAGE OBJECT DEFINITIONS */
OBJECT = IMAGE
  INTERCHANGE_FORMAT = BINARY
  LINES = 3027
  LINE_SAMPLES = 686
  SAMPLE_TYPE = UNSIGNED_INTEGER
  SAMPLE_BITS = 8
  BANDS = 1
  BAND_STORAGE_TYPE = BAND_SEQUENTIAL
  MAXIMUM = 112
  MEAN = 104.088
  MINIMUM = 89
  STANDARD_DEVIATION = 2.31938
END_OBJECT = IMAGE
/* MAP OBJECT DEFINITIONS */
OBJECT = IMAGE_MAP_PROJECTION
  ^DATA_SET_MAP_PROJECTION_CATALOG= "DSMAP.CAT"
  A_AXIS_RADIUS = 3396.0
  B_AXIS_RADIUS = 3396.0
  C_AXIS_RADIUS = 3396.0
  CENTER_LATITUDE = 0.0
  CENTER_LONGITUDE = 77.0
  COORDINATE_SYSTEM_NAME = PLANETOGRAPHIC
  COORDINATE_SYSTEM_TYPE = "BODY-FIXED ROTATING"
  EASTERNMOST_LONGITUDE = 77.9533
  FIRST_STANDARD_PARALLEL = "N/A"
  LINE_FIRST_PIXEL = 1
  LINE_LAST_PIXEL = 3027
  LINE_PROJECTION_OFFSET = -22577.6875
  MAP_PROJECTION_ROTATION = 0.0
  MAP_PROJECTION_TYPE = SINUSOIDAL
  MAP_RESOLUTION = 592.713803866667
  MAP_SCALE = 0.1
  MAXIMUM_LATITUDE = -38.083
  MINIMUM_LATITUDE = -43.1909
  POSITIVE_LONGITUDE_DIRECTION = EAST
  REFERENCE_LATITUDE = "N/A"
  REFERENCE_LONGITUDE = "N/A"
  SAMPLE_FIRST_PIXEL = 1
  SAMPLE_LAST_PIXEL = 686
  SAMPLE_PROJECTION_OFFSET = 236.3125
  SECOND_STANDARD_PARALLEL = "N/A"
  WESTERNMOST_LONGITUDE = 76.4688
END_OBJECT = IMAGE_MAP_PROJECTION
/* The JPEG2000 image data file associated with this label. */
OBJECT = COMPRESSED_FILE
  FILE_NAME = "H2272_0001_BL3.JP2"
  RECORD_TYPE = UNDEFINED
  FILE_RECORDS = UNK
  ENCODING_TYPE = "JP2"
  INTERCHANGE_FORMAT = BINARY
  UNCOMPRESSED_FILE_NAME = "H2272_0001_BL3.IMG"
  REQUIRED_STORAGE_BYTES = "2094358"
  ^DESCRIPTION = "JP2INFO.TXT"
END_OBJECT = COMPRESSED_FILE
END
