PDS_VERSION_ID = PDS3
/* FILE DATA ELEMENTS */
RECORD_TYPE = STREAM
/* POINTERS TO DATA OBJECTS */
^COMPRESSED_FILE = "H2272_0001_RE3.JP2"
/* IDENTIFICATION DATA ELEMENTS */
DATA_SET_ID = "MEX-M-HRSC-5-REFDR-MAPPROJECTED-V3.0"
DATA_SET_NAME = "MARS EXPRESS HRSC MAP PROJECTED REFDR V3.0"
DETECTOR_ID = MEX_HRSC_RED
EVENT_TYPE = "MARS-LOCAL-MAPPING-Fl-Lc-Mw"
INSTRUMENT_HOST_ID = MEX
INSTRUMENT_HOST_NAME = "MARS EXPRESS"
INSTRUMENT_ID = HRSC
INSTRUMENT_NAME = "HIGH RESOLUTION STEREO CAMERA"
MISSION_NAME = "MARS EXPRESS"
MISSION_PHASE_NAME = MR_Phase_8
PROCESSING_LEVEL_ID = 3
PRODUCT_CREATION_TIME = 2016-03-14T22:12:55.000Z
PRODUCT_ID = "H2272_0001_RE3.JP2"
RELEASE_ID = 0028
REVISION_ID = 0000
/* QUALITY DATA ELEMENTS */
DATA_QUALITY_ID = 1
DATA_QUALITY_DESC = "Data calculated based on original SPICE kernels"
/* TIME DATA ELEMENTS */
SPACECRAFT_CLOCK_START_COUNT = "1/0077924918.57156"
SPACECRAFT_CLOCK_STOP_COUNT = "1/0077925045.49750"
START_TIME = 2005-10-20T21:48:50.246Z
STOP_TIME = 2005-10-20T21:50:06.519Z
/* ORBITAL DATA ELEMENTS */
ASCENDING_NODE_LONGITUDE = 180.56
MAXIMUM_RESOLUTION = 94.4
FOOTPRINT_POINT_LATITUDE = (-43.2279,-43.2265,-43.2244,-43.2223, -43.2194,-43.216,-43.2128,-43.2087, -43.0797,-42.9321,-42.8335,-42.7348, -42.5866,-42.4878,-42.3891,-42.241, -42.0922,-41.9928,-41.894,-41.7462, -41.6474,-41.5482,-41.4486,-41.2989, -41.1494,-41.0005,-40.9013,-40.8014, -40.7022,-40.6026,-40.5029,-40.4031, -40.3036,-40.1544,-40.0552,-39.9554, -39.8556,-39.7061,-39.6063,-39.4567, -39.3571,-39.2077,-39.1081,-38.9588, -38.8592,-38.71,-38.6103,-38.5106, -38.3607,-38.2607,-38.1108,-38.0566, -38.0589,-38.0612,-38.0635,-38.0648, -38.0663,-38.0679,-38.2181,-38.3182, -38.4181,-38.5177,-38.6676,-38.7674, -38.8672,-39.0169,-39.1167,-39.2665, -39.3667,-39.5172,-39.6665,-39.7661, -39.9155,-40.0153,-40.1149,-40.2642, -40.3638,-40.5133,-40.613,-40.7125, -40.8616,-40.9614,-41.1107,-41.2598, -41.359,-41.4594,-41.6099,-41.8077, -41.9071,-42.0555,-42.1558,-42.2553, -42.355,-42.5519,-42.6511,-42.7515, -42.8519,-42.9509,-43.0495,-43.2279)
FOOTPRINT_POINT_LONGITUDE = (77.771,77.5993,77.4039,77.2333,77.039, 76.8455,76.6765,76.4836,76.4637,76.4725 ,76.4783,76.484,76.4925,76.4981,76.5036 ,76.5119,76.52,76.5252,76.5306,76.5387, 76.5439,76.5491,76.5541,76.5615,76.5688 ,76.5762,76.5811,76.5858,76.5906, 76.5954,76.6,76.6046,76.6092,76.6161, 76.6206,76.6251,76.6295,76.636,76.6403, 76.6467,76.651,76.6573,76.6614,76.6676, 76.6717,76.6778,76.6818,76.6857,76.6915 ,76.6953,76.701,76.8062,76.9697,77.1568 ,77.3444,77.4975,77.7335,77.9551, 77.9518,77.9495,77.9475,77.9455,77.9423 ,77.9401,77.938,77.9347,77.9325,77.929, 77.9265,77.9225,77.9192,77.917,77.9136, 77.9112,77.9088,77.9053,77.903,77.8993, 77.8967,77.8943,77.8907,77.888,77.8841, 77.8804,77.878,77.8747,77.8698,77.8652, 77.8624,77.8587,77.8553,77.8524,77.8493 ,77.8449,77.8421,77.8383,77.8345, 77.8317,77.8292,77.771)
ORBIT_NUMBER = 2272
ORBITAL_ECCENTRICITY = 0.573
ORBITAL_INCLINATION = 86.65
ORBITAL_SEMIMAJOR_AXIS = 8583.76
PERIAPSIS_ALTITUDE = 277.3
PERIAPSIS_ARGUMENT_ANGLE = 318.77
PERIAPSIS_TIME = 2005-10-20T21:49:41.000Z
SPACECRAFT_ORIENTATION = (0.0,1.0,0.0)
^MEX_ORIENTATION_DESC = "MEX_ORIENTATION_DESC.TXT"
SPACECRAFT_POINTING_MODE = ACROSSTRACK
^MEX_POINTING_DESC = "MEX_POINTING_DESC.TXT"
RIGHT_ASCENSION = -1e+32
DECLINATION = -1e+32
OFFSET_ANGLE = -0.2
SPACECRAFT_SOLAR_DISTANCE = 2.15501e+08
TARGET_NAME = MARS
/* CAMERA DATA ELEMENTS */
DETECTOR_TEMPERATURE = 19.7978
FOCAL_PLANE_TEMPERATURE = 8.9911
INST_CMPRS_NAME = "DISCRETE COSINE TRANSFORMATION (DCT)"
INST_CMPRS_RATIO = 19.9376
INST_CMPRS_QUALITY = 0
INST_CMPRS_QUANTZ_TBL_ID = 0
INSTRUMENT_TEMPERATURE = 12.6613
LENS_TEMPERATURE = 9.195
MACROPIXEL_SIZE = 8
MISSING_FRAMES = 0
PIXEL_SUBSAMPLING_FLAG = N
SIGNAL_CHAIN_ID = 2
/* RADIOMETRIC DATA ELEMENTS */
BANDWIDTH = 48.0
CENTER_FILTER_WAVELENGTH = 748.0
RADIANCE_OFFSET = 1.59084
RADIANCE_SCALING_FACTOR = 0.00538789
REFLECTANCE_SCALING_FACTOR = 0.00057101
MEX:REFLECTANCE_OFFSET = 0.168598
/* IMAGE OBJECT DEFINITIONS */
OBJECT = IMAGE
  INTERCHANGE_FORMAT = BINARY
  LINES = 3027
  LINE_SAMPLES = 686
  SAMPLE_TYPE = UNSIGNED_INTEGER
  SAMPLE_BITS = 8
  BANDS = 1
  BAND_STORAGE_TYPE = BAND_SEQUENTIAL
  MAXIMUM = 124
  MEAN = 104.885
  MINIMUM = 64
  STANDARD_DEVIATION = 7.55576
END_OBJECT = IMAGE
/* MAP OBJECT DEFINITIONS */
OBJECT = IMAGE_MAP_PROJECTION
  ^DATA_SET_MAP_PROJECTION_CATALOG= "DSMAP.CAT"
  A_AXIS_RADIUS = 3396.0
  B_AXIS_RADIUS = 3396.0
  C_AXIS_RADIUS = 3396.0
  CENTER_LATITUDE = 0.0
  CENTER_LONGITUDE = 77.0
  COORDINATE_SYSTEM_NAME = PLANETOGRAPHIC
  COORDINATE_SYSTEM_TYPE = "BODY-FIXED ROTATING"
  EASTERNMOST_LONGITUDE = 77.9551
  FIRST_STANDARD_PARALLEL = "N/A"
  LINE_FIRST_PIXEL = 1
  LINE_LAST_PIXEL = 3027
  LINE_PROJECTION_OFFSET = -22577.6875
  MAP_PROJECTION_ROTATION = 0.0
  MAP_PROJECTION_TYPE = SINUSOIDAL
  MAP_RESOLUTION = 592.713803866667
  MAP_SCALE = 0.1
  MAXIMUM_LATITUDE = -38.0566
  MINIMUM_LATITUDE = -43.2279
  POSITIVE_LONGITUDE_DIRECTION = EAST
  REFERENCE_LATITUDE = "N/A"
  REFERENCE_LONGITUDE = "N/A"
  SAMPLE_FIRST_PIXEL = 1
  SAMPLE_LAST_PIXEL = 686
  SAMPLE_PROJECTION_OFFSET = 236.3125
  SECOND_STANDARD_PARALLEL = "N/A"
  WESTERNMOST_LONGITUDE = 76.4637
END_OBJECT = IMAGE_MAP_PROJECTION
/* The JPEG2000 image data file associated with this label. */
OBJECT = COMPRESSED_FILE
  FILE_NAME = "H2272_0001_RE3.JP2"
  RECORD_TYPE = UNDEFINED
  FILE_RECORDS = UNK
  ENCODING_TYPE = "JP2"
  INTERCHANGE_FORMAT = BINARY
  UNCOMPRESSED_FILE_NAME = "H2272_0001_RE3.IMG"
  REQUIRED_STORAGE_BYTES = "2094358"
  ^DESCRIPTION = "JP2INFO.TXT"
END_OBJECT = COMPRESSED_FILE
END
