PDS_VERSION_ID = PDS3
/* FILE DATA ELEMENTS */
RECORD_TYPE = STREAM
/* POINTERS TO DATA OBJECTS */
^COMPRESSED_FILE = "H2274_0000_P23.JP2"
/* IDENTIFICATION DATA ELEMENTS */
DATA_SET_ID = "MEX-M-HRSC-5-REFDR-MAPPROJECTED-V3.0"
DATA_SET_NAME = "MARS EXPRESS HRSC MAP PROJECTED REFDR V3.0"
DETECTOR_ID = MEX_HRSC_P2
EVENT_TYPE = "MARS-REGIONAL-MAPPING-Vo-Im-Fl"
INSTRUMENT_HOST_ID = MEX
INSTRUMENT_HOST_NAME = "MARS EXPRESS"
INSTRUMENT_ID = HRSC
INSTRUMENT_NAME = "HIGH RESOLUTION STEREO CAMERA"
MISSION_NAME = "MARS EXPRESS"
MISSION_PHASE_NAME = MR_Phase_8
PROCESSING_LEVEL_ID = 3
PRODUCT_CREATION_TIME = 2016-03-14T22:12:55.000Z
PRODUCT_ID = "H2274_0000_P23.JP2"
RELEASE_ID = 0028
REVISION_ID = 0000
/* QUALITY DATA ELEMENTS */
DATA_QUALITY_ID = 1
DATA_QUALITY_DESC = "Data calculated based on original SPICE kernels"
/* TIME DATA ELEMENTS */
SPACECRAFT_CLOCK_START_COUNT = "1/0077972813.57268"
SPACECRAFT_CLOCK_STOP_COUNT = "1/0077973118.32322"
START_TIME = 2005-10-21T11:07:20.269Z
STOP_TIME = 2005-10-21T11:11:13.373Z
/* ORBITAL DATA ELEMENTS */
ASCENDING_NODE_LONGITUDE = 180.52
MAXIMUM_RESOLUTION = 28.5
FOOTPRINT_POINT_LATITUDE = (-71.8896,-71.8502,-71.8041,-71.7539, -71.6996,-71.6412,-71.4875,-71.1761, -70.8689,-70.5611,-70.2584,-69.8048, -69.5063,-69.2067,-68.913,-68.4715, -68.1816,-67.8699,-67.586,-67.2996, -66.8746,-66.5852,-66.1625,-65.886, -65.4714,-65.2009,-64.9363,-64.6618, -64.3945,-64.1266,-63.858,-63.596, -63.3334,-63.0699,-62.8057,-62.4085, -62.1433,-61.7453,-61.3396,-61.0708, -60.6717,-60.4017,-60.1315,-59.7504, -59.4115,-59.1836,-58.9544,-58.726, -58.3837,-58.155,-57.9256,-57.9453, -57.9757,-58.0138,-58.1497,-58.382, -58.6131,-58.8438,-59.3035,-59.7622, -59.9918,-60.3919,-60.6645,-60.9364, -61.2079,-61.6147,-61.8849,-62.1545, -62.4234,-62.6917,-62.9596,-63.2271, -63.4942,-63.7605,-64.0262,-64.2982, -64.5696,-64.8409,-65.1163,-65.394, -65.6711,-66.0927,-66.3739,-66.6579, -66.9457,-67.2319,-67.5221,-67.8133, -68.1048,-68.4227,-68.7192,-69.0202, -69.3185,-69.6259,-70.0841,-70.5492, -71.0185,-71.3345,-71.6532,-71.8896)
FOOTPRINT_POINT_LONGITUDE = (236.601,235.811,234.971,234.133, 233.299,232.466,231.339,231.59,231.829, 232.059,232.279,232.594,232.792,232.985 ,233.169,233.433,233.6,233.774,233.93, 234.081,234.297,234.426,234.622,234.748 ,234.931,235.048,235.17,235.277,235.382 ,235.485,235.586,235.682,235.776, 235.867,235.957,236.088,236.174,236.3, 236.416,236.494,236.612,236.686,236.759 ,236.855,236.944,237.001,237.056, 237.111,237.193,237.246,237.298,237.968 ,238.458,239.143,239.579,239.554, 239.529,239.503,239.452,239.399,239.371 ,239.322,239.288,239.253,239.217, 239.162,239.125,239.087,239.048,239.009 ,238.968,238.927,238.885,238.843, 238.799,238.753,238.707,238.659,238.61, 238.558,238.506,238.423,238.367,238.308 ,238.247,238.186,238.121,238.055, 237.986,237.91,237.836,237.758,237.682, 237.594,237.465,237.326,237.178,237.075 ,236.966,236.601)
ORBIT_NUMBER = 2274
ORBITAL_ECCENTRICITY = 0.573
ORBITAL_INCLINATION = 86.64
ORBITAL_SEMIMAJOR_AXIS = 8582.97
PERIAPSIS_ALTITUDE = 277.39
PERIAPSIS_ARGUMENT_ANGLE = 318.4
PERIAPSIS_TIME = 2005-10-21T11:15:44.000Z
SPACECRAFT_ORIENTATION = (0.0,1.0,0.0)
^MEX_ORIENTATION_DESC = "MEX_ORIENTATION_DESC.TXT"
SPACECRAFT_POINTING_MODE = ACROSSTRACK
^MEX_POINTING_DESC = "MEX_POINTING_DESC.TXT"
RIGHT_ASCENSION = -1e+32
DECLINATION = -1e+32
OFFSET_ANGLE = 0.3
SPACECRAFT_SOLAR_DISTANCE = 2.15595e+08
TARGET_NAME = MARS
/* CAMERA DATA ELEMENTS */
DETECTOR_TEMPERATURE = 18.5744
FOCAL_PLANE_TEMPERATURE = 8.1755
INST_CMPRS_NAME = "DISCRETE COSINE TRANSFORMATION (DCT)"
INST_CMPRS_RATIO = 6.81363
INST_CMPRS_QUALITY = 0
INST_CMPRS_QUANTZ_TBL_ID = 0
INSTRUMENT_TEMPERATURE = 11.4379
LENS_TEMPERATURE = 9.8067
MACROPIXEL_SIZE = 2
MISSING_FRAMES = 5
PIXEL_SUBSAMPLING_FLAG = N
SIGNAL_CHAIN_ID = 3
/* RADIOMETRIC DATA ELEMENTS */
BANDWIDTH = 177.0
CENTER_FILTER_WAVELENGTH = 676.5
RADIANCE_OFFSET = 3.22772
RADIANCE_SCALING_FACTOR = 0.0197263
REFLECTANCE_SCALING_FACTOR = 0.000486155
MEX:REFLECTANCE_OFFSET = 0.0795472
/* IMAGE OBJECT DEFINITIONS */
OBJECT = IMAGE
  INTERCHANGE_FORMAT = BINARY
  LINES = 32934
  LINE_SAMPLES = 7392
  SAMPLE_TYPE = UNSIGNED_INTEGER
  SAMPLE_BITS = 8
  BANDS = 1
  BAND_STORAGE_TYPE = BAND_SEQUENTIAL
  MAXIMUM = 202
  MEAN = 126.095
  MINIMUM = 61
  STANDARD_DEVIATION = 11.2551
END_OBJECT = IMAGE
/* MAP OBJECT DEFINITIONS */
OBJECT = IMAGE_MAP_PROJECTION
  ^DATA_SET_MAP_PROJECTION_CATALOG= "DSMAP.CAT"
  A_AXIS_RADIUS = 3396.0
  B_AXIS_RADIUS = 3396.0
  C_AXIS_RADIUS = 3396.0
  CENTER_LATITUDE = 0.0
  CENTER_LONGITUDE = 237.0
  COORDINATE_SYSTEM_NAME = PLANETOGRAPHIC
  COORDINATE_SYSTEM_TYPE = "BODY-FIXED ROTATING"
  EASTERNMOST_LONGITUDE = 239.579
  FIRST_STANDARD_PARALLEL = "N/A"
  LINE_FIRST_PIXEL = 1
  LINE_LAST_PIXEL = 32934
  LINE_PROJECTION_OFFSET = -137311.25
  MAP_PROJECTION_ROTATION = 0.0
  MAP_PROJECTION_TYPE = SINUSOIDAL
  MAP_RESOLUTION = 2370.85521546667
  MAP_SCALE = 0.025
  MAXIMUM_LATITUDE = -57.9256
  MINIMUM_LATITUDE = -71.8896
  POSITIVE_LONGITUDE_DIRECTION = EAST
  REFERENCE_LATITUDE = "N/A"
  REFERENCE_LONGITUDE = "N/A"
  SAMPLE_FIRST_PIXEL = 1
  SAMPLE_LAST_PIXEL = 7392
  SAMPLE_PROJECTION_OFFSET = 4166.75
  SECOND_STANDARD_PARALLEL = "N/A"
  WESTERNMOST_LONGITUDE = 231.339
END_OBJECT = IMAGE_MAP_PROJECTION
/* The JPEG2000 image data file associated with this label. */
OBJECT = COMPRESSED_FILE
  FILE_NAME = "H2274_0000_P23.JP2"
  RECORD_TYPE = UNDEFINED
  FILE_RECORDS = UNK
  ENCODING_TYPE = "JP2"
  INTERCHANGE_FORMAT = BINARY
  UNCOMPRESSED_FILE_NAME = "H2274_0000_P23.IMG"
  REQUIRED_STORAGE_BYTES = "243477696"
  ^DESCRIPTION = "JP2INFO.TXT"
END_OBJECT = COMPRESSED_FILE
END
