PDS_VERSION_ID = PDS3
/* FILE DATA ELEMENTS */
RECORD_TYPE = STREAM
/* POINTERS TO DATA OBJECTS */
^COMPRESSED_FILE = "H2274_0000_S23.JP2"
/* IDENTIFICATION DATA ELEMENTS */
DATA_SET_ID = "MEX-M-HRSC-5-REFDR-MAPPROJECTED-V3.0"
DATA_SET_NAME = "MARS EXPRESS HRSC MAP PROJECTED REFDR V3.0"
DETECTOR_ID = MEX_HRSC_S2
EVENT_TYPE = "MARS-REGIONAL-MAPPING-Vo-Im-Fl"
INSTRUMENT_HOST_ID = MEX
INSTRUMENT_HOST_NAME = "MARS EXPRESS"
INSTRUMENT_ID = HRSC
INSTRUMENT_NAME = "HIGH RESOLUTION STEREO CAMERA"
MISSION_NAME = "MARS EXPRESS"
MISSION_PHASE_NAME = MR_Phase_8
PROCESSING_LEVEL_ID = 3
PRODUCT_CREATION_TIME = 2016-03-14T22:12:55.000Z
PRODUCT_ID = "H2274_0000_S23.JP2"
RELEASE_ID = 0028
REVISION_ID = 0000
/* QUALITY DATA ELEMENTS */
DATA_QUALITY_ID = 1
DATA_QUALITY_DESC = "Data calculated based on original SPICE kernels"
/* TIME DATA ELEMENTS */
SPACECRAFT_CLOCK_START_COUNT = "1/0077972813.57268"
SPACECRAFT_CLOCK_STOP_COUNT = "1/0077973118.32322"
START_TIME = 2005-10-21T11:07:00.898Z
STOP_TIME = 2005-10-21T11:11:01.891Z
/* ORBITAL DATA ELEMENTS */
ASCENDING_NODE_LONGITUDE = 180.52
MAXIMUM_RESOLUTION = 30
FOOTPRINT_POINT_LATITUDE = (-71.9428,-71.8965,-71.8455,-71.7899, -71.7297,-71.6647,-71.4914,-71.1812, -70.8728,-70.4153,-70.1111,-69.8112, -69.5112,-69.215,-68.9185,-68.6267, -68.1884,-67.9005,-67.6133,-67.3291, -67.0447,-66.7624,-66.4679,-66.1856, -65.9099,-65.6335,-65.358,-65.0977, -64.8242,-64.4198,-64.1512,-63.8826, -63.6199,-63.3565,-62.9619,-62.7031, -62.4438,-62.0563,-61.7958,-61.3987, -61.1325,-60.7429,-60.4773,-60.2122, -59.9416,-59.5465,-59.2765,-59.0344, -58.5851,-58.2485,-57.9209,-57.9525, -58.0029,-58.0389,-58.2776,-58.505, -58.846,-59.298,-59.5638,-59.8327, -60.1018,-60.37,-60.6381,-60.9054, -61.172,-61.5717,-61.837,-62.1015, -62.365,-62.6279,-62.8903,-63.1525, -63.4188,-63.687,-63.9537,-64.3602, -64.6316,-64.9033,-65.3195,-65.597, -65.878,-66.2999,-66.5849,-66.8723, -67.1579,-67.448,-67.7372,-68.1782, -68.4722,-68.7715,-69.0721,-69.3658, -69.6777,-69.9827,-70.2908,-70.7579, -71.0705,-71.3882,-71.706,-71.9428)
FOOTPRINT_POINT_LONGITUDE = (236.466,235.59,234.715,233.844,232.977 ,232.112,231.24,231.494,231.737,232.082 ,232.301,232.511,232.713,232.907, 233.095,233.274,233.532,233.695,233.855 ,234.007,234.155,234.297,234.426, 234.559,234.687,234.812,234.933,235.055 ,235.168,235.33,235.434,235.537,235.634 ,235.73,235.868,235.956,236.043,236.171 ,236.253,236.371,236.447,236.564, 236.638,236.71,236.779,236.886,236.952, 237.013,237.122,237.203,237.506,238.028 ,238.73,239.404,239.59,239.566,239.53, 239.481,239.451,239.421,239.389,239.357 ,239.324,239.291,239.257,239.204, 239.169,239.133,239.096,239.059,239.021 ,238.982,238.942,238.9,238.859,238.792, 238.748,238.701,238.628,238.577,238.525 ,238.445,238.388,238.33,238.27,238.209, 238.147,238.047,237.978,237.906,237.831 ,237.761,237.674,237.591,237.505, 237.368,237.273,237.172,237.068, 236.466)
ORBIT_NUMBER = 2274
ORBITAL_ECCENTRICITY = 0.573
ORBITAL_INCLINATION = 86.64
ORBITAL_SEMIMAJOR_AXIS = 8582.97
PERIAPSIS_ALTITUDE = 277.39
PERIAPSIS_ARGUMENT_ANGLE = 318.4
PERIAPSIS_TIME = 2005-10-21T11:15:44.000Z
SPACECRAFT_ORIENTATION = (0.0,1.0,0.0)
^MEX_ORIENTATION_DESC = "MEX_ORIENTATION_DESC.TXT"
SPACECRAFT_POINTING_MODE = ACROSSTRACK
^MEX_POINTING_DESC = "MEX_POINTING_DESC.TXT"
RIGHT_ASCENSION = -1e+32
DECLINATION = -1e+32
OFFSET_ANGLE = 0.3
SPACECRAFT_SOLAR_DISTANCE = 2.15595e+08
TARGET_NAME = MARS
/* CAMERA DATA ELEMENTS */
DETECTOR_TEMPERATURE = 18.5744
FOCAL_PLANE_TEMPERATURE = 8.1755
INST_CMPRS_NAME = "DISCRETE COSINE TRANSFORMATION (DCT)"
INST_CMPRS_RATIO = 11.5494
INST_CMPRS_QUALITY = 0
INST_CMPRS_QUANTZ_TBL_ID = 0
INSTRUMENT_TEMPERATURE = 11.4379
LENS_TEMPERATURE = 9.8067
MACROPIXEL_SIZE = 2
MISSING_FRAMES = 0
PIXEL_SUBSAMPLING_FLAG = N
SIGNAL_CHAIN_ID = 1
/* RADIOMETRIC DATA ELEMENTS */
BANDWIDTH = 178.0
CENTER_FILTER_WAVELENGTH = 679.0
RADIANCE_OFFSET = 3.5008
RADIANCE_SCALING_FACTOR = 0.0200956
REFLECTANCE_SCALING_FACTOR = 0.000494655
MEX:REFLECTANCE_OFFSET = 0.0861727
/* IMAGE OBJECT DEFINITIONS */
OBJECT = IMAGE
  INTERCHANGE_FORMAT = BINARY
  LINES = 32934
  LINE_SAMPLES = 7392
  SAMPLE_TYPE = UNSIGNED_INTEGER
  SAMPLE_BITS = 8
  BANDS = 1
  BAND_STORAGE_TYPE = BAND_SEQUENTIAL
  MAXIMUM = 214
  MEAN = 109.401
  MINIMUM = 65
  STANDARD_DEVIATION = 9.56943
END_OBJECT = IMAGE
/* MAP OBJECT DEFINITIONS */
OBJECT = IMAGE_MAP_PROJECTION
  ^DATA_SET_MAP_PROJECTION_CATALOG= "DSMAP.CAT"
  A_AXIS_RADIUS = 3396.0
  B_AXIS_RADIUS = 3396.0
  C_AXIS_RADIUS = 3396.0
  CENTER_LATITUDE = 0.0
  CENTER_LONGITUDE = 237.0
  COORDINATE_SYSTEM_NAME = PLANETOGRAPHIC
  COORDINATE_SYSTEM_TYPE = "BODY-FIXED ROTATING"
  EASTERNMOST_LONGITUDE = 239.59
  FIRST_STANDARD_PARALLEL = "N/A"
  LINE_FIRST_PIXEL = 1
  LINE_LAST_PIXEL = 32934
  LINE_PROJECTION_OFFSET = -137311.25
  MAP_PROJECTION_ROTATION = 0.0
  MAP_PROJECTION_TYPE = SINUSOIDAL
  MAP_RESOLUTION = 2370.85521546667
  MAP_SCALE = 0.025
  MAXIMUM_LATITUDE = -57.9209
  MINIMUM_LATITUDE = -71.94280000000001
  POSITIVE_LONGITUDE_DIRECTION = EAST
  REFERENCE_LATITUDE = "N/A"
  REFERENCE_LONGITUDE = "N/A"
  SAMPLE_FIRST_PIXEL = 1
  SAMPLE_LAST_PIXEL = 7392
  SAMPLE_PROJECTION_OFFSET = 4166.75
  SECOND_STANDARD_PARALLEL = "N/A"
  WESTERNMOST_LONGITUDE = 231.24
END_OBJECT = IMAGE_MAP_PROJECTION
/* The JPEG2000 image data file associated with this label. */
OBJECT = COMPRESSED_FILE
  FILE_NAME = "H2274_0000_S23.JP2"
  RECORD_TYPE = UNDEFINED
  FILE_RECORDS = UNK
  ENCODING_TYPE = "JP2"
  INTERCHANGE_FORMAT = BINARY
  UNCOMPRESSED_FILE_NAME = "H2274_0000_S23.IMG"
  REQUIRED_STORAGE_BYTES = "243477696"
  ^DESCRIPTION = "JP2INFO.TXT"
END_OBJECT = COMPRESSED_FILE
END
