PDS_VERSION_ID = PDS3
/* FILE DATA ELEMENTS */
RECORD_TYPE = STREAM
/* POINTERS TO DATA OBJECTS */
^COMPRESSED_FILE = "H2276_0000_IR3.JP2"
/* IDENTIFICATION DATA ELEMENTS */
DATA_SET_ID = "MEX-M-HRSC-5-REFDR-MAPPROJECTED-V3.0"
DATA_SET_NAME = "MARS EXPRESS HRSC MAP PROJECTED REFDR V3.0"
DETECTOR_ID = MEX_HRSC_IR
EVENT_TYPE = "MARS-REGIONAL-MAPPING-Vo"
INSTRUMENT_HOST_ID = MEX
INSTRUMENT_HOST_NAME = "MARS EXPRESS"
INSTRUMENT_ID = HRSC
INSTRUMENT_NAME = "HIGH RESOLUTION STEREO CAMERA"
MISSION_NAME = "MARS EXPRESS"
MISSION_PHASE_NAME = MR_Phase_8
PROCESSING_LEVEL_ID = 3
PRODUCT_CREATION_TIME = 2016-03-14T22:12:55.000Z
PRODUCT_ID = "H2276_0000_IR3.JP2"
RELEASE_ID = 0028
REVISION_ID = 0000
/* QUALITY DATA ELEMENTS */
DATA_QUALITY_ID = 1
DATA_QUALITY_DESC = "Data calculated based on original SPICE kernels"
/* TIME DATA ELEMENTS */
SPACECRAFT_CLOCK_START_COUNT = "1/0078021045.57306"
SPACECRAFT_CLOCK_STOP_COUNT = "1/0078021415.32349"
START_TIME = 2005-10-22T00:32:49.639Z
STOP_TIME = 2005-10-22T00:36:55.125Z
/* ORBITAL DATA ELEMENTS */
ASCENDING_NODE_LONGITUDE = 180.47
MAXIMUM_RESOLUTION = 60.6
FOOTPRINT_POINT_LATITUDE = (-78.7732,-78.7013,-78.6232,-78.5393, -78.4495,-78.3538,-78.328,-77.9832, -77.643,-77.1318,-76.6241,-76.2881, -75.7853,-75.4515,-75.1231,-74.7937, -74.4687,-73.9816,-73.6607,-73.339, -73.0226,-72.5469,-72.2348,-71.9211, -71.6121,-71.306,-70.8449,-70.5445, -70.0949,-69.8004,-69.5053,-69.2119, -68.9226,-68.6331,-68.3444,-67.9182, -67.6334,-67.3503,-67.0722,-66.7927, -66.3731,-66.0936,-65.6712,-65.3897, -65.1066,-64.6821,-64.4004,-64.1161, -63.8328,-63.5508,-63.0663,-63.0998, -63.1373,-63.1705,-63.4464,-63.7322, -64.1631,-64.4511,-64.7336,-65.0198, -65.3053,-65.5911,-65.8761,-66.1612, -66.5878,-66.8721,-67.2977,-67.5801, -67.8696,-68.3038,-68.5938,-68.8899, -69.1858,-69.4809,-69.7826,-70.0854, -70.3879,-70.6962,-71.0056,-71.4719, -71.7876,-72.1025,-72.4247,-72.9068, -73.2351,-73.5622,-74.0609,-74.3945, -74.7329,-75.0718,-75.4145,-75.7596, -76.1078,-76.4582,-76.9906,-77.5274, -77.8883,-78.2544,-78.6208,-78.7732)
FOOTPRINT_POINT_LONGITUDE = (33.0774,31.7276,30.3884,29.0621, 27.7496,26.4495,24.9995,25.7754,26.4883 ,27.4843,28.3857,28.9398,29.7215, 30.2044,30.6536,31.082,31.4868,32.0595, 32.4158,32.7573,33.0801,33.5419,33.8304 ,34.1105,34.3742,34.6233,34.9911, 35.2136,35.5317,35.7313,35.9247,36.1109 ,36.2894,36.4621,36.6285,36.8686, 37.0231,37.1728,37.3152,37.4563,37.66, 37.7896,37.9834,38.1074,38.2308,38.4087 ,38.5199,38.6331,38.7407,38.8426, 39.2536,39.9694,40.8893,41.8332,41.7818 ,41.727,41.6422,41.584,41.5246,41.4636, 41.4011,41.337,41.2714,41.2041,41.1, 41.0283,40.9173,40.8409,40.7605,40.6354 ,40.549,40.4579,40.364,40.2675,40.1656, 40.0603,39.9516,39.8368,39.718,39.5301, 39.3976,39.2601,39.1144,38.8852,38.7213 ,38.5508,38.2769,38.0835,37.8779, 37.6622,37.4331,37.1909,36.9335,36.6606 ,36.2164,35.7276,35.3736,34.9912, 34.5823,33.0774)
ORBIT_NUMBER = 2276
ORBITAL_ECCENTRICITY = 0.573
ORBITAL_INCLINATION = 86.63
ORBITAL_SEMIMAJOR_AXIS = 8582.56
PERIAPSIS_ALTITUDE = 278.05
PERIAPSIS_ARGUMENT_ANGLE = 318.09
PERIAPSIS_TIME = 2005-10-22T00:41:54.000Z
SPACECRAFT_ORIENTATION = (0.0,1.0,0.0)
^MEX_ORIENTATION_DESC = "MEX_ORIENTATION_DESC.TXT"
SPACECRAFT_POINTING_MODE = ACROSSTRACK
^MEX_POINTING_DESC = "MEX_POINTING_DESC.TXT"
RIGHT_ASCENSION = -1e+32
DECLINATION = -1e+32
OFFSET_ANGLE = 0.5
SPACECRAFT_SOLAR_DISTANCE = 2.15689e+08
TARGET_NAME = MARS
/* CAMERA DATA ELEMENTS */
DETECTOR_TEMPERATURE = 17.351
FOCAL_PLANE_TEMPERATURE = 7.9716
INST_CMPRS_NAME = "DISCRETE COSINE TRANSFORMATION (DCT)"
INST_CMPRS_RATIO = 16.6868
INST_CMPRS_QUALITY = 0
INST_CMPRS_QUANTZ_TBL_ID = 0
INSTRUMENT_TEMPERATURE = 11.234
LENS_TEMPERATURE = 8.5833
MACROPIXEL_SIZE = 4
MISSING_FRAMES = 0
PIXEL_SUBSAMPLING_FLAG = N
SIGNAL_CHAIN_ID = 2
/* RADIOMETRIC DATA ELEMENTS */
BANDWIDTH = 81.0
CENTER_FILTER_WAVELENGTH = 955.5
RADIANCE_OFFSET = 0.719008
RADIANCE_SCALING_FACTOR = 0.00663445
REFLECTANCE_SCALING_FACTOR = 0.000665859
MEX:REFLECTANCE_OFFSET = 0.0721624
/* IMAGE OBJECT DEFINITIONS */
OBJECT = IMAGE
  INTERCHANGE_FORMAT = BINARY
  LINES = 18888
  LINE_SAMPLES = 5229
  SAMPLE_TYPE = UNSIGNED_INTEGER
  SAMPLE_BITS = 8
  BANDS = 1
  BAND_STORAGE_TYPE = BAND_SEQUENTIAL
  MAXIMUM = 175
  MEAN = 120.611
  MINIMUM = 48
  STANDARD_DEVIATION = 22.3635
END_OBJECT = IMAGE
/* MAP OBJECT DEFINITIONS */
OBJECT = IMAGE_MAP_PROJECTION
  ^DATA_SET_MAP_PROJECTION_CATALOG= "DSMAP.CAT"
  A_AXIS_RADIUS = 3396.0
  B_AXIS_RADIUS = 3396.0
  C_AXIS_RADIUS = 3396.0
  CENTER_LATITUDE = 0.0
  CENTER_LONGITUDE = 38.0
  COORDINATE_SYSTEM_NAME = PLANETOGRAPHIC
  COORDINATE_SYSTEM_TYPE = "BODY-FIXED ROTATING"
  EASTERNMOST_LONGITUDE = 41.8332
  FIRST_STANDARD_PARALLEL = "N/A"
  LINE_FIRST_PIXEL = 1
  LINE_LAST_PIXEL = 18888
  LINE_PROJECTION_OFFSET = -74760.125
  MAP_PROJECTION_ROTATION = 0.0
  MAP_PROJECTION_TYPE = SINUSOIDAL
  MAP_RESOLUTION = 1185.42760773333
  MAP_SCALE = 0.05
  MAXIMUM_LATITUDE = -63.0663
  MINIMUM_LATITUDE = -78.7732
  POSITIVE_LONGITUDE_DIRECTION = EAST
  REFERENCE_LATITUDE = "N/A"
  REFERENCE_LONGITUDE = "N/A"
  SAMPLE_FIRST_PIXEL = 1
  SAMPLE_LAST_PIXEL = 5229
  SAMPLE_PROJECTION_OFFSET = 3162.375
  SECOND_STANDARD_PARALLEL = "N/A"
  WESTERNMOST_LONGITUDE = 24.9995
END_OBJECT = IMAGE_MAP_PROJECTION
/* The JPEG2000 image data file associated with this label. */
OBJECT = COMPRESSED_FILE
  FILE_NAME = "H2276_0000_IR3.JP2"
  RECORD_TYPE = UNDEFINED
  FILE_RECORDS = UNK
  ENCODING_TYPE = "JP2"
  INTERCHANGE_FORMAT = BINARY
  UNCOMPRESSED_FILE_NAME = "H2276_0000_IR3.IMG"
  REQUIRED_STORAGE_BYTES = "98791497"
  ^DESCRIPTION = "JP2INFO.TXT"
END_OBJECT = COMPRESSED_FILE
END
