PDS_VERSION_ID = PDS3
/* FILE DATA ELEMENTS */
RECORD_TYPE = STREAM
/* POINTERS TO DATA OBJECTS */
^COMPRESSED_FILE = "H2276_0000_ND3.JP2"
/* IDENTIFICATION DATA ELEMENTS */
DATA_SET_ID = "MEX-M-HRSC-5-REFDR-MAPPROJECTED-V3.0"
DATA_SET_NAME = "MARS EXPRESS HRSC MAP PROJECTED REFDR V3.0"
DETECTOR_ID = MEX_HRSC_NADIR
EVENT_TYPE = "MARS-REGIONAL-MAPPING-Vo"
INSTRUMENT_HOST_ID = MEX
INSTRUMENT_HOST_NAME = "MARS EXPRESS"
INSTRUMENT_ID = HRSC
INSTRUMENT_NAME = "HIGH RESOLUTION STEREO CAMERA"
MISSION_NAME = "MARS EXPRESS"
MISSION_PHASE_NAME = MR_Phase_8
PROCESSING_LEVEL_ID = 3
PRODUCT_CREATION_TIME = 2016-03-14T22:12:55.000Z
PRODUCT_ID = "H2276_0000_ND3.JP2"
RELEASE_ID = 0028
REVISION_ID = 0000
/* QUALITY DATA ELEMENTS */
DATA_QUALITY_ID = 1
DATA_QUALITY_DESC = "Data calculated based on original SPICE kernels"
/* TIME DATA ELEMENTS */
SPACECRAFT_CLOCK_START_COUNT = "1/0078021045.57306"
SPACECRAFT_CLOCK_STOP_COUNT = "1/0078021415.32349"
START_TIME = 2005-10-22T00:32:03.003Z
STOP_TIME = 2005-10-22T00:36:27.001Z
/* ORBITAL DATA ELEMENTS */
ASCENDING_NODE_LONGITUDE = 180.47
MAXIMUM_RESOLUTION = 15.1
FOOTPRINT_POINT_LATITUDE = (-78.9189,-78.8289,-78.7305,-78.6241, -78.5095,-78.3867,-77.9683,-77.6225, -77.2789,-76.9367,-76.5945,-76.255, -75.7485,-75.2454,-74.9111,-74.5804, -74.2507,-73.9231,-73.4355,-73.1113, -72.792,-72.4718,-72.1567,-71.8402, -71.5292,-71.0621,-70.7556,-70.2956, -69.993,-69.5402,-69.2423,-68.7963, -68.5036,-68.0638,-67.7766,-67.4885, -67.2013,-66.919,-66.6361,-66.3536, -66.0766,-65.7992,-65.3848,-65.1135, -64.8414,-64.5688,-64.2956,-64.0221, -63.7477,-63.4728,-63.1974,-63.102, -63.1563,-63.1982,-63.6369,-63.9153, -64.1932,-64.4707,-64.7478,-65.0244, -65.3006,-65.5764,-65.9976,-66.2796, -66.5612,-66.8487,-67.1366,-67.4241, -67.7167,-68.0104,-68.3036,-68.7522, -69.0512,-69.5071,-69.8117,-70.2754, -70.5856,-71.0578,-71.3733,-71.8544, -72.1753,-72.5022,-72.8283,-73.1599, -73.4912,-73.8279,-74.3353,-74.6771, -75.0219,-75.3684,-75.7193,-76.2494, -76.7858,-77.1465,-77.5114,-77.8778, -78.2474,-78.6206,-78.9959,-78.9189)
FOOTPRINT_POINT_LONGITUDE = (32.9327,31.3832,29.852,28.3434,26.8564 ,25.3898,25.3952,26.1395,26.8359, 27.4886,28.1027,28.676,29.4804,30.214, 30.6686,31.0991,31.5085,31.8957,32.4406 ,32.7838,33.1086,33.4216,33.7181, 34.0037,34.2725,34.6587,34.9038,35.2456 ,35.4603,35.7686,35.9621,36.2418, 36.4185,36.6728,36.8366,36.9938,37.1468 ,37.2928,37.4355,37.5755,37.7063, 37.8363,38.0248,38.1461,38.2629,38.3761 ,38.4861,38.5969,38.7008,38.8016, 38.8997,39.649,40.6044,41.4372,41.8027, 41.7503,41.6967,41.6428,41.5861,41.5291 ,41.4707,41.411,41.3168,41.2517,41.185, 41.1153,41.0435,40.9696,40.8922,40.8125 ,40.7303,40.6001,40.5099,40.3667, 40.2672,40.1099,39.9999,39.8257,39.7033 ,39.5091,39.3734,39.2297,39.0806,38.923 ,38.7584,38.5842,38.3068,38.1092, 37.8999,37.679,37.4443,37.0654,36.6501, 36.3498,36.0277,35.6842,35.3149,34.9165 ,34.4874,32.9327)
ORBIT_NUMBER = 2276
ORBITAL_ECCENTRICITY = 0.573
ORBITAL_INCLINATION = 86.63
ORBITAL_SEMIMAJOR_AXIS = 8582.56
PERIAPSIS_ALTITUDE = 278.05
PERIAPSIS_ARGUMENT_ANGLE = 318.09
PERIAPSIS_TIME = 2005-10-22T00:41:54.000Z
SPACECRAFT_ORIENTATION = (0.0,1.0,0.0)
^MEX_ORIENTATION_DESC = "MEX_ORIENTATION_DESC.TXT"
SPACECRAFT_POINTING_MODE = ACROSSTRACK
^MEX_POINTING_DESC = "MEX_POINTING_DESC.TXT"
RIGHT_ASCENSION = -1e+32
DECLINATION = -1e+32
OFFSET_ANGLE = 0.5
SPACECRAFT_SOLAR_DISTANCE = 2.15689e+08
TARGET_NAME = MARS
/* CAMERA DATA ELEMENTS */
DETECTOR_TEMPERATURE = 18.3705
FOCAL_PLANE_TEMPERATURE = 7.9716
INST_CMPRS_NAME = "DISCRETE COSINE TRANSFORMATION (DCT)"
INST_CMPRS_RATIO = 7.61608
INST_CMPRS_QUALITY = 0
INST_CMPRS_QUANTZ_TBL_ID = 0
INSTRUMENT_TEMPERATURE = 11.234
LENS_TEMPERATURE = 8.5833
MACROPIXEL_SIZE = 1
MISSING_FRAMES = 0
PIXEL_SUBSAMPLING_FLAG = N
SIGNAL_CHAIN_ID = 0
/* RADIOMETRIC DATA ELEMENTS */
BANDWIDTH = 177.0
CENTER_FILTER_WAVELENGTH = 677.5
RADIANCE_OFFSET = 2.78295
RADIANCE_SCALING_FACTOR = 0.020954
REFLECTANCE_SCALING_FACTOR = 0.000517847
MEX:REFLECTANCE_OFFSET = 0.0687765
/* IMAGE OBJECT DEFINITIONS */
OBJECT = IMAGE
  INTERCHANGE_FORMAT = BINARY
  LINES = 75549
  LINE_SAMPLES = 20916
  SAMPLE_TYPE = UNSIGNED_INTEGER
  SAMPLE_BITS = 8
  BANDS = 1
  BAND_STORAGE_TYPE = BAND_SEQUENTIAL
  MAXIMUM = 173
  MEAN = 102.153
  MINIMUM = 39
  STANDARD_DEVIATION = 15.8923
END_OBJECT = IMAGE
/* MAP OBJECT DEFINITIONS */
OBJECT = IMAGE_MAP_PROJECTION
  ^DATA_SET_MAP_PROJECTION_CATALOG= "DSMAP.CAT"
  A_AXIS_RADIUS = 3396.0
  B_AXIS_RADIUS = 3396.0
  C_AXIS_RADIUS = 3396.0
  CENTER_LATITUDE = 0.0
  CENTER_LONGITUDE = 38.0
  COORDINATE_SYSTEM_NAME = PLANETOGRAPHIC
  COORDINATE_SYSTEM_TYPE = "BODY-FIXED ROTATING"
  EASTERNMOST_LONGITUDE = 41.8027
  FIRST_STANDARD_PARALLEL = "N/A"
  LINE_FIRST_PIXEL = 1
  LINE_LAST_PIXEL = 75549
  LINE_PROJECTION_OFFSET = -299039.0
  MAP_PROJECTION_ROTATION = 0.0
  MAP_PROJECTION_TYPE = SINUSOIDAL
  MAP_RESOLUTION = 4741.71043093333
  MAP_SCALE = 0.0125
  MAXIMUM_LATITUDE = -63.102
  MINIMUM_LATITUDE = -78.99590000000001
  POSITIVE_LONGITUDE_DIRECTION = EAST
  REFERENCE_LATITUDE = "N/A"
  REFERENCE_LONGITUDE = "N/A"
  SAMPLE_FIRST_PIXEL = 1
  SAMPLE_LAST_PIXEL = 20916
  SAMPLE_PROJECTION_OFFSET = 12651.0
  SECOND_STANDARD_PARALLEL = "N/A"
  WESTERNMOST_LONGITUDE = 25.3898
END_OBJECT = IMAGE_MAP_PROJECTION
/* The JPEG2000 image data file associated with this label. */
OBJECT = COMPRESSED_FILE
  FILE_NAME = "H2276_0000_ND3.JP2"
  RECORD_TYPE = UNDEFINED
  FILE_RECORDS = UNK
  ENCODING_TYPE = "JP2"
  INTERCHANGE_FORMAT = BINARY
  UNCOMPRESSED_FILE_NAME = "H2276_0000_ND3.IMG"
  REQUIRED_STORAGE_BYTES = "1580245632"
  ^DESCRIPTION = "JP2INFO.TXT"
END_OBJECT = COMPRESSED_FILE
END
