PDS_VERSION_ID = PDS3
/* FILE DATA ELEMENTS */
RECORD_TYPE = STREAM
/* POINTERS TO DATA OBJECTS */
^COMPRESSED_FILE = "H2279_0000_P23.JP2"
/* IDENTIFICATION DATA ELEMENTS */
DATA_SET_ID = "MEX-M-HRSC-5-REFDR-MAPPROJECTED-V3.0"
DATA_SET_NAME = "MARS EXPRESS HRSC MAP PROJECTED REFDR V3.0"
DETECTOR_ID = MEX_HRSC_P2
EVENT_TYPE = "MARS-REGIONAL-MAPPING-Gl-Eo-La"
INSTRUMENT_HOST_ID = MEX
INSTRUMENT_HOST_NAME = "MARS EXPRESS"
INSTRUMENT_ID = HRSC
INSTRUMENT_NAME = "HIGH RESOLUTION STEREO CAMERA"
MISSION_NAME = "MARS EXPRESS"
MISSION_PHASE_NAME = MR_Phase_8
PROCESSING_LEVEL_ID = 3
PRODUCT_CREATION_TIME = 2016-03-14T22:12:55.000Z
PRODUCT_ID = "H2279_0000_P23.JP2"
RELEASE_ID = 0028
REVISION_ID = 0000
/* QUALITY DATA ELEMENTS */
DATA_QUALITY_ID = 1
DATA_QUALITY_DESC = "Data calculated based on original SPICE kernels"
/* TIME DATA ELEMENTS */
SPACECRAFT_CLOCK_START_COUNT = "1/0078093516.57961"
SPACECRAFT_CLOCK_STOP_COUNT = "1/0078093908.58152"
START_TIME = 2005-10-22T20:39:15.254Z
STOP_TIME = 2005-10-22T20:44:08.796Z
/* ORBITAL DATA ELEMENTS */
ASCENDING_NODE_LONGITUDE = 180.41
MAXIMUM_RESOLUTION = 35.9
FOOTPRINT_POINT_LATITUDE = (-83.3475,-83.1965,-83.0188,-82.8246, -82.6152,-82.3916,-82.1542,-81.7098, -81.4157,-81.1169,-80.8139,-80.5091, -80.2031,-79.8961,-79.5872,-79.278, -78.9688,-78.6601,-78.3505,-78.0413, -77.7333,-77.2713,-76.9653,-76.6591, -76.3583,-75.9027,-75.6029,-75.1565, -74.8567,-74.4103,-74.114,-73.8214, -73.529,-73.2389,-72.9497,-72.517, -72.2281,-71.9493,-71.5294,-71.2485, -70.8356,-70.558,-70.2845,-69.8739, -69.6046,-69.2005,-68.9347,-68.5357, -68.2743,-68.0119,-67.4946,-67.5323, -67.5804,-67.6471,-67.6837,-67.9824, -68.516,-68.7833,-69.1911,-69.4624, -69.7386,-70.1534,-70.5731,-70.995, -71.2765,-71.5619,-71.8511,-72.141, -72.4388,-72.8814,-73.1804,-73.4781, -73.7784,-74.0802,-74.3902,-74.851, -75.1575,-75.4717,-75.7891,-76.2615, -76.584,-76.9064,-77.2304,-77.5564, -77.8851,-78.384,-78.7187,-79.0571, -79.3975,-79.7403,-80.0847,-80.4324, -80.7857,-81.3112,-81.6619,-82.0173, -82.3752,-82.7338,-83.0931,-83.3475)
FOOTPRINT_POINT_LONGITUDE = (91.2899,88.583,85.8293,83.2115,80.7335 ,78.3902,76.1745,77.4195,79.01,80.4797, 81.8413,83.1029,84.2737,85.3619,86.3765 ,87.3215,88.2037,89.031,89.8069,90.5351 ,91.2178,92.1698,92.7598,93.3191, 93.8474,94.5847,95.0478,95.7003,96.1032 ,96.6735,97.0332,97.3753,97.7033, 98.0158,98.3162,98.7403,99.0029,99.2682 ,99.6373,99.8719,100.207,100.419, 100.622,100.914,101.1,101.367,101.537, 101.783,101.939,102.091,102.38,103.365, 104.059,105.1,105.834,106.316,106.175, 106.101,105.985,105.906,105.821,105.691 ,105.554,105.409,105.312,105.206, 105.096,104.982,104.856,104.666,104.532 ,104.395,104.253,104.102,103.937, 103.686,103.513,103.324,103.12,102.809, 102.58,102.34,102.087,101.822,101.536, 101.07,100.733,100.371,99.9817,99.5617, 99.1102,98.6198,98.0736,97.1926,96.5482 ,95.8263,95.0255,94.1395,93.1553, 91.2899)
ORBIT_NUMBER = 2279
ORBITAL_ECCENTRICITY = 0.573
ORBITAL_INCLINATION = 86.63
ORBITAL_SEMIMAJOR_AXIS = 8582.84
PERIAPSIS_ALTITUDE = 277.45
PERIAPSIS_ARGUMENT_ANGLE = 317.53
PERIAPSIS_TIME = 2005-10-22T20:51:06.000Z
SPACECRAFT_ORIENTATION = (0.0,1.0,0.0)
^MEX_ORIENTATION_DESC = "MEX_ORIENTATION_DESC.TXT"
SPACECRAFT_POINTING_MODE = ACROSSTRACK
^MEX_POINTING_DESC = "MEX_POINTING_DESC.TXT"
RIGHT_ASCENSION = -1e+32
DECLINATION = -1e+32
OFFSET_ANGLE = 0.43
SPACECRAFT_SOLAR_DISTANCE = 2.15831e+08
TARGET_NAME = MARS
/* CAMERA DATA ELEMENTS */
DETECTOR_TEMPERATURE = 18.3705
FOCAL_PLANE_TEMPERATURE = 7.5638
INST_CMPRS_NAME = "DISCRETE COSINE TRANSFORMATION (DCT)"
INST_CMPRS_RATIO = 7.1103
INST_CMPRS_QUALITY = 0
INST_CMPRS_QUANTZ_TBL_ID = 0
INSTRUMENT_TEMPERATURE = 11.0301
LENS_TEMPERATURE = 7.9716
MACROPIXEL_SIZE = 2
MISSING_FRAMES = 0
PIXEL_SUBSAMPLING_FLAG = N
SIGNAL_CHAIN_ID = 3
/* RADIOMETRIC DATA ELEMENTS */
BANDWIDTH = 177.0
CENTER_FILTER_WAVELENGTH = 676.5
RADIANCE_OFFSET = 2.76091
RADIANCE_SCALING_FACTOR = 0.0169468
REFLECTANCE_SCALING_FACTOR = 0.000418567
MEX:REFLECTANCE_OFFSET = 0.0681916
/* IMAGE OBJECT DEFINITIONS */
OBJECT = IMAGE
  INTERCHANGE_FORMAT = BINARY
  LINES = 37362
  LINE_SAMPLES = 13395
  SAMPLE_TYPE = UNSIGNED_INTEGER
  SAMPLE_BITS = 8
  BANDS = 1
  BAND_STORAGE_TYPE = BAND_SEQUENTIAL
  MAXIMUM = 181
  MEAN = 123.017
  MINIMUM = 63
  STANDARD_DEVIATION = 16.0787
END_OBJECT = IMAGE
/* MAP OBJECT DEFINITIONS */
OBJECT = IMAGE_MAP_PROJECTION
  ^DATA_SET_MAP_PROJECTION_CATALOG= "DSMAP.CAT"
  A_AXIS_RADIUS = 3396.0
  B_AXIS_RADIUS = 3396.0
  C_AXIS_RADIUS = 3396.0
  CENTER_LATITUDE = 0.0
  CENTER_LONGITUDE = 100.0
  COORDINATE_SYSTEM_NAME = PLANETOGRAPHIC
  COORDINATE_SYSTEM_TYPE = "BODY-FIXED ROTATING"
  EASTERNMOST_LONGITUDE = 106.316
  FIRST_STANDARD_PARALLEL = "N/A"
  LINE_FIRST_PIXEL = 1
  LINE_LAST_PIXEL = 37362
  LINE_PROJECTION_OFFSET = -159947.25
  MAP_PROJECTION_ROTATION = 0.0
  MAP_PROJECTION_TYPE = SINUSOIDAL
  MAP_RESOLUTION = 2370.85521546667
  MAP_SCALE = 0.025
  MAXIMUM_LATITUDE = -67.49460000000001
  MINIMUM_LATITUDE = -83.3475
  POSITIVE_LONGITUDE_DIRECTION = EAST
  REFERENCE_LATITUDE = "N/A"
  REFERENCE_LONGITUDE = "N/A"
  SAMPLE_FIRST_PIXEL = 1
  SAMPLE_LAST_PIXEL = 13395
  SAMPLE_PROJECTION_OFFSET = 7748.25
  SECOND_STANDARD_PARALLEL = "N/A"
  WESTERNMOST_LONGITUDE = 76.17449999999999
END_OBJECT = IMAGE_MAP_PROJECTION
/* The JPEG2000 image data file associated with this label. */
OBJECT = COMPRESSED_FILE
  FILE_NAME = "H2279_0000_P23.JP2"
  RECORD_TYPE = UNDEFINED
  FILE_RECORDS = UNK
  ENCODING_TYPE = "JP2"
  INTERCHANGE_FORMAT = BINARY
  UNCOMPRESSED_FILE_NAME = "H2279_0000_P23.IMG"
  REQUIRED_STORAGE_BYTES = "500504175"
  ^DESCRIPTION = "JP2INFO.TXT"
END_OBJECT = COMPRESSED_FILE
END
