PDS_VERSION_ID = PDS3
/* FILE DATA ELEMENTS */
RECORD_TYPE = STREAM
/* POINTERS TO DATA OBJECTS */
^COMPRESSED_FILE = "H2281_0000_BL3.JP2"
/* IDENTIFICATION DATA ELEMENTS */
DATA_SET_ID = "MEX-M-HRSC-5-REFDR-MAPPROJECTED-V3.0"
DATA_SET_NAME = "MARS EXPRESS HRSC MAP PROJECTED REFDR V3.0"
DETECTOR_ID = MEX_HRSC_BLUE
EVENT_TYPE = "MARS-REGIONAL-MAPPING-Vo-Im"
INSTRUMENT_HOST_ID = MEX
INSTRUMENT_HOST_NAME = "MARS EXPRESS"
INSTRUMENT_ID = HRSC
INSTRUMENT_NAME = "HIGH RESOLUTION STEREO CAMERA"
MISSION_NAME = "MARS EXPRESS"
MISSION_PHASE_NAME = MR_Phase_8
PROCESSING_LEVEL_ID = 3
PRODUCT_CREATION_TIME = 2016-03-14T22:12:55.000Z
PRODUCT_ID = "H2281_0000_BL3.JP2"
RELEASE_ID = 0028
REVISION_ID = 0000
/* QUALITY DATA ELEMENTS */
DATA_QUALITY_ID = 1
DATA_QUALITY_DESC = "Data calculated based on original SPICE kernels"
/* TIME DATA ELEMENTS */
SPACECRAFT_CLOCK_START_COUNT = "1/0078141925.57320"
SPACECRAFT_CLOCK_STOP_COUNT = "1/0078142327.14577"
START_TIME = 2005-10-23T10:06:37.750Z
STOP_TIME = 2005-10-23T10:11:31.774Z
/* ORBITAL DATA ELEMENTS */
ASCENDING_NODE_LONGITUDE = 180.37
MAXIMUM_RESOLUTION = 62.2
FOOTPRINT_POINT_LATITUDE = (-81.668,-81.3958,-81.0104,-80.604, -80.3252,-80.0421,-79.7545,-79.4633, -79.1685,-78.8703,-78.5688,-78.2644, -77.957,-77.6469,-77.3339,-77.0183, -76.7005,-76.3803,-76.0578,-75.7332, -75.4065,-75.0776,-74.7469,-74.4142, -74.0796,-73.7432,-73.4051,-73.0652, -72.7238,-72.3807,-72.036,-71.6897, -71.3424,-70.9924,-70.6417,-70.1154, -69.7696,-69.4229,-69.0829,-68.5724, -68.2378,-67.7362,-67.4074,-66.9137, -66.591,-66.2674,-65.9467,-65.3124, -64.9941,-64.6741,-64.7534,-64.8108, -65.1585,-65.6429,-65.9649,-66.451, -66.78,-67.1083,-67.6105,-67.9456, -68.4566,-68.7982,-69.319,-69.6658, -70.0208,-70.3755,-70.9156,-71.276, -71.6355,-71.9936,-72.3507,-72.7068, -73.0618,-73.4156,-73.7684,-74.12, -74.4704,-74.8196,-75.1675,-75.5143, -75.8599,-76.2041,-76.5471,-76.8889, -77.2293,-77.5684,-77.906,-78.2423, -78.5772,-78.9101,-79.2419,-79.5717, -79.9002,-80.2271,-80.5524,-80.8759, -81.1972,-81.5165,-81.8338,-81.668)
FOOTPRINT_POINT_LONGITUDE = (254.948,251.028,246.563,246.621, 247.693,248.705,249.662,250.568,251.426 ,252.24,253.012,253.745,254.442,255.105 ,255.735,256.335,256.909,257.455, 257.977,258.475,258.952,259.407,259.843 ,260.261,260.661,261.045,261.413, 261.766,262.106,262.432,262.746,263.047 ,263.339,263.615,263.884,264.269,264.51 ,264.741,264.96,265.272,265.468,265.75, 265.927,266.181,266.341,266.495,266.644 ,266.925,267.06,267.556,268.829,269.887 ,270.296,270.192,270.12,270.008,269.929 ,269.848,269.718,269.628,269.486, 269.386,269.228,269.12,269.001,268.879, 268.685,268.548,268.406,268.26,268.107, 267.948,267.782,267.61,267.43,267.243, 267.047,266.842,266.629,266.405,266.171 ,265.926,265.668,265.397,265.112, 264.812,264.496,264.161,263.808,263.437 ,263.041,262.625,262.179,261.703, 261.195,260.65,260.07,259.448,258.777, 254.948)
ORBIT_NUMBER = 2281
ORBITAL_ECCENTRICITY = 0.573
ORBITAL_INCLINATION = 86.62
ORBITAL_SEMIMAJOR_AXIS = 8581.67
PERIAPSIS_ALTITUDE = 277.65
PERIAPSIS_ARGUMENT_ANGLE = 317.19
PERIAPSIS_TIME = 2005-10-23T10:17:16.000Z
SPACECRAFT_ORIENTATION = (0.0,1.0,0.0)
^MEX_ORIENTATION_DESC = "MEX_ORIENTATION_DESC.TXT"
SPACECRAFT_POINTING_MODE = ACROSSTRACK
^MEX_POINTING_DESC = "MEX_POINTING_DESC.TXT"
RIGHT_ASCENSION = -1e+32
DECLINATION = -1e+32
OFFSET_ANGLE = 0.458
SPACECRAFT_SOLAR_DISTANCE = 2.15926e+08
TARGET_NAME = MARS
/* CAMERA DATA ELEMENTS */
DETECTOR_TEMPERATURE = 18.3705
FOCAL_PLANE_TEMPERATURE = 8.3794
INST_CMPRS_NAME = "DISCRETE COSINE TRANSFORMATION (DCT)"
INST_CMPRS_RATIO = 10.9199
INST_CMPRS_QUALITY = 0
INST_CMPRS_QUANTZ_TBL_ID = 0
INSTRUMENT_TEMPERATURE = 11.4379
LENS_TEMPERATURE = 8.9911
MACROPIXEL_SIZE = 4
MISSING_FRAMES = 0
PIXEL_SUBSAMPLING_FLAG = N
SIGNAL_CHAIN_ID = 2
/* RADIOMETRIC DATA ELEMENTS */
BANDWIDTH = 76.0
CENTER_FILTER_WAVELENGTH = 444.0
RADIANCE_OFFSET = 0.400518
RADIANCE_SCALING_FACTOR = 0.00181025
REFLECTANCE_SCALING_FACTOR = 8.6716e-05
MEX:REFLECTANCE_OFFSET = 0.0191859
/* IMAGE OBJECT DEFINITIONS */
OBJECT = IMAGE
  INTERCHANGE_FORMAT = BINARY
  LINES = 20374
  LINE_SAMPLES = 6295
  SAMPLE_TYPE = UNSIGNED_INTEGER
  SAMPLE_BITS = 8
  BANDS = 1
  BAND_STORAGE_TYPE = BAND_SEQUENTIAL
  MAXIMUM = 142
  MEAN = 99.8391
  MINIMUM = 52
  STANDARD_DEVIATION = 10.7412
END_OBJECT = IMAGE
/* MAP OBJECT DEFINITIONS */
OBJECT = IMAGE_MAP_PROJECTION
  ^DATA_SET_MAP_PROJECTION_CATALOG= "DSMAP.CAT"
  A_AXIS_RADIUS = 3396.0
  B_AXIS_RADIUS = 3396.0
  C_AXIS_RADIUS = 3396.0
  CENTER_LATITUDE = 0.0
  CENTER_LONGITUDE = 265.0
  COORDINATE_SYSTEM_NAME = PLANETOGRAPHIC
  COORDINATE_SYSTEM_TYPE = "BODY-FIXED ROTATING"
  EASTERNMOST_LONGITUDE = 270.296
  FIRST_STANDARD_PARALLEL = "N/A"
  LINE_FIRST_PIXEL = 1
  LINE_LAST_PIXEL = 20374
  LINE_PROJECTION_OFFSET = -76643.625
  MAP_PROJECTION_ROTATION = 0.0
  MAP_PROJECTION_TYPE = SINUSOIDAL
  MAP_RESOLUTION = 1185.42760773333
  MAP_SCALE = 0.05
  MAXIMUM_LATITUDE = -64.6741
  MINIMUM_LATITUDE = -81.8338
  POSITIVE_LONGITUDE_DIRECTION = EAST
  REFERENCE_LATITUDE = "N/A"
  REFERENCE_LONGITUDE = "N/A"
  SAMPLE_FIRST_PIXEL = 1
  SAMPLE_LAST_PIXEL = 6295
  SAMPLE_PROJECTION_OFFSET = 3604.875
  SECOND_STANDARD_PARALLEL = "N/A"
  WESTERNMOST_LONGITUDE = 246.563
END_OBJECT = IMAGE_MAP_PROJECTION
/* The JPEG2000 image data file associated with this label. */
OBJECT = COMPRESSED_FILE
  FILE_NAME = "H2281_0000_BL3.JP2"
  RECORD_TYPE = UNDEFINED
  FILE_RECORDS = UNK
  ENCODING_TYPE = "JP2"
  INTERCHANGE_FORMAT = BINARY
  UNCOMPRESSED_FILE_NAME = "H2281_0000_BL3.IMG"
  REQUIRED_STORAGE_BYTES = "128285805"
  ^DESCRIPTION = "JP2INFO.TXT"
END_OBJECT = COMPRESSED_FILE
END
