PDS_VERSION_ID = PDS3
/* FILE DATA ELEMENTS */
RECORD_TYPE = STREAM
/* POINTERS TO DATA OBJECTS */
^COMPRESSED_FILE = "H2281_0000_S13.JP2"
/* IDENTIFICATION DATA ELEMENTS */
DATA_SET_ID = "MEX-M-HRSC-5-REFDR-MAPPROJECTED-V3.0"
DATA_SET_NAME = "MARS EXPRESS HRSC MAP PROJECTED REFDR V3.0"
DETECTOR_ID = MEX_HRSC_S1
EVENT_TYPE = "MARS-REGIONAL-MAPPING-Vo-Im"
INSTRUMENT_HOST_ID = MEX
INSTRUMENT_HOST_NAME = "MARS EXPRESS"
INSTRUMENT_ID = HRSC
INSTRUMENT_NAME = "HIGH RESOLUTION STEREO CAMERA"
MISSION_NAME = "MARS EXPRESS"
MISSION_PHASE_NAME = MR_Phase_8
PROCESSING_LEVEL_ID = 3
PRODUCT_CREATION_TIME = 2016-03-14T22:12:55.000Z
PRODUCT_ID = "H2281_0000_S13.JP2"
RELEASE_ID = 0028
REVISION_ID = 0000
/* QUALITY DATA ELEMENTS */
DATA_QUALITY_ID = 1
DATA_QUALITY_DESC = "Data calculated based on original SPICE kernels"
/* TIME DATA ELEMENTS */
SPACECRAFT_CLOCK_START_COUNT = "1/0078141925.57320"
SPACECRAFT_CLOCK_STOP_COUNT = "1/0078142327.14577"
START_TIME = 2005-10-23T10:07:48.061Z
STOP_TIME = 2005-10-23T10:12:12.264Z
/* ORBITAL DATA ELEMENTS */
ASCENDING_NODE_LONGITUDE = 180.37
MAXIMUM_RESOLUTION = 31
FOOTPRINT_POINT_LATITUDE = (-81.5006,-81.2694,-81.0047,-80.931, -80.4861,-80.0293,-79.7206,-79.408, -79.0922,-78.7735,-78.452,-78.1276, -77.8007,-77.4716,-77.1407,-76.807, -76.4715,-76.1343,-75.795,-75.4544, -75.1119,-74.5952,-74.2494,-73.9021, -73.5536,-73.2042,-72.8613,-72.3465, -72.0094,-71.5026,-71.1697,-70.841, -70.3498,-70.0233,-69.6983,-69.3798, -69.0604,-68.7429,-68.4309,-68.1184, -67.8052,-67.4915,-67.1777,-66.7057, -66.3906,-66.0748,-65.6007,-65.2841, -64.9671,-64.6518,-64.6856,-64.7267, -64.7656,-65.0871,-65.4056,-65.729, -66.0494,-66.3697,-66.6898,-67.0095, -67.3289,-67.6479,-67.9666,-68.4445, -68.9211,-69.2452,-69.5737,-69.8989, -70.2289,-70.5585,-70.8928,-71.2326, -71.7416,-72.2622,-72.6092,-73.139, -73.4928,-73.8535,-74.2143,-74.5746, -74.934,-75.4723,-75.8301,-76.1866, -76.7206,-77.0749,-77.4279,-77.7799, -78.1346,-78.4805,-78.8328,-79.1787, -79.529,-79.8749,-80.2209,-80.5597, -81.0683,-81.407,-81.7428,-81.5006)
FOOTPRINT_POINT_LONGITUDE = (255.467,251.798,248.295,246.08,247.815 ,249.411,250.392,251.317,252.19,253.011 ,253.787,254.522,255.217,255.875, 256.497,257.09,257.653,258.188,258.698, 259.183,259.646,260.301,260.712,261.105 ,261.481,261.84,262.178,262.656,262.953 ,263.378,263.645,263.89,264.248,264.476 ,264.694,264.899,265.099,265.29,265.471 ,265.647,265.818,265.984,266.144, 266.377,266.526,266.671,266.88,267.014, 267.145,267.512,268.218,269.211,270.292 ,270.222,270.151,270.077,270.002, 269.924,269.844,269.762,269.678,269.59, 269.5,269.36,269.214,269.11,269.002, 268.891,268.773,268.651,268.524,268.389 ,268.177,267.947,267.786,267.526, 267.342,267.146,266.94,266.725,266.499, 266.14,265.884,265.616,265.186,264.88, 264.557,264.215,263.851,263.469,263.059 ,262.625,262.16,261.664,261.133,260.567 ,259.637,258.953,258.216,255.467)
ORBIT_NUMBER = 2281
ORBITAL_ECCENTRICITY = 0.573
ORBITAL_INCLINATION = 86.62
ORBITAL_SEMIMAJOR_AXIS = 8581.67
PERIAPSIS_ALTITUDE = 277.65
PERIAPSIS_ARGUMENT_ANGLE = 317.19
PERIAPSIS_TIME = 2005-10-23T10:17:16.000Z
SPACECRAFT_ORIENTATION = (0.0,1.0,0.0)
^MEX_ORIENTATION_DESC = "MEX_ORIENTATION_DESC.TXT"
SPACECRAFT_POINTING_MODE = ACROSSTRACK
^MEX_POINTING_DESC = "MEX_POINTING_DESC.TXT"
RIGHT_ASCENSION = -1e+32
DECLINATION = -1e+32
OFFSET_ANGLE = 0.458
SPACECRAFT_SOLAR_DISTANCE = 2.15926e+08
TARGET_NAME = MARS
/* CAMERA DATA ELEMENTS */
DETECTOR_TEMPERATURE = 17.5549
FOCAL_PLANE_TEMPERATURE = 8.3794
INST_CMPRS_NAME = "DISCRETE COSINE TRANSFORMATION (DCT)"
INST_CMPRS_RATIO = 8.8413
INST_CMPRS_QUALITY = 0
INST_CMPRS_QUANTZ_TBL_ID = 0
INSTRUMENT_TEMPERATURE = 11.4379
LENS_TEMPERATURE = 8.9911
MACROPIXEL_SIZE = 2
MISSING_FRAMES = 0
PIXEL_SUBSAMPLING_FLAG = N
SIGNAL_CHAIN_ID = 1
/* RADIOMETRIC DATA ELEMENTS */
BANDWIDTH = 180.0
CENTER_FILTER_WAVELENGTH = 677.0
RADIANCE_OFFSET = 3.41484
RADIANCE_SCALING_FACTOR = 0.0201816
REFLECTANCE_SCALING_FACTOR = 0.000490908
MEX:REFLECTANCE_OFFSET = 0.0830643
/* IMAGE OBJECT DEFINITIONS */
OBJECT = IMAGE
  INTERCHANGE_FORMAT = BINARY
  LINES = 40747
  LINE_SAMPLES = 12590
  SAMPLE_TYPE = UNSIGNED_INTEGER
  SAMPLE_BITS = 8
  BANDS = 1
  BAND_STORAGE_TYPE = BAND_SEQUENTIAL
  MAXIMUM = 192
  MEAN = 135.624
  MINIMUM = 59
  STANDARD_DEVIATION = 16.3966
END_OBJECT = IMAGE
/* MAP OBJECT DEFINITIONS */
OBJECT = IMAGE_MAP_PROJECTION
  ^DATA_SET_MAP_PROJECTION_CATALOG= "DSMAP.CAT"
  A_AXIS_RADIUS = 3396.0
  B_AXIS_RADIUS = 3396.0
  C_AXIS_RADIUS = 3396.0
  CENTER_LATITUDE = 0.0
  CENTER_LONGITUDE = 265.0
  COORDINATE_SYSTEM_NAME = PLANETOGRAPHIC
  COORDINATE_SYSTEM_TYPE = "BODY-FIXED ROTATING"
  EASTERNMOST_LONGITUDE = 270.292
  FIRST_STANDARD_PARALLEL = "N/A"
  LINE_FIRST_PIXEL = 1
  LINE_LAST_PIXEL = 40747
  LINE_PROJECTION_OFFSET = -153286.75
  MAP_PROJECTION_ROTATION = 0.0
  MAP_PROJECTION_TYPE = SINUSOIDAL
  MAP_RESOLUTION = 2370.85521546667
  MAP_SCALE = 0.025
  MAXIMUM_LATITUDE = -64.65179999999999
  MINIMUM_LATITUDE = -81.7428
  POSITIVE_LONGITUDE_DIRECTION = EAST
  REFERENCE_LATITUDE = "N/A"
  REFERENCE_LONGITUDE = "N/A"
  SAMPLE_FIRST_PIXEL = 1
  SAMPLE_LAST_PIXEL = 12590
  SAMPLE_PROJECTION_OFFSET = 7210.25
  SECOND_STANDARD_PARALLEL = "N/A"
  WESTERNMOST_LONGITUDE = 246.08
END_OBJECT = IMAGE_MAP_PROJECTION
/* The JPEG2000 image data file associated with this label. */
OBJECT = COMPRESSED_FILE
  FILE_NAME = "H2281_0000_S13.JP2"
  RECORD_TYPE = UNDEFINED
  FILE_RECORDS = UNK
  ENCODING_TYPE = "JP2"
  INTERCHANGE_FORMAT = BINARY
  UNCOMPRESSED_FILE_NAME = "H2281_0000_S13.IMG"
  REQUIRED_STORAGE_BYTES = "513042500"
  ^DESCRIPTION = "JP2INFO.TXT"
END_OBJECT = COMPRESSED_FILE
END
