PDS_VERSION_ID = PDS3
/* FILE DATA ELEMENTS */
RECORD_TYPE = STREAM
/* POINTERS TO DATA OBJECTS */
^COMPRESSED_FILE = "H2283_0000_P23.JP2"
/* IDENTIFICATION DATA ELEMENTS */
DATA_SET_ID = "MEX-M-HRSC-5-REFDR-MAPPROJECTED-V3.0"
DATA_SET_NAME = "MARS EXPRESS HRSC MAP PROJECTED REFDR V3.0"
DETECTOR_ID = MEX_HRSC_P2
EVENT_TYPE = "MARS-REGIONAL-MAPPING-Fl-Pf-Mw"
INSTRUMENT_HOST_ID = MEX
INSTRUMENT_HOST_NAME = "MARS EXPRESS"
INSTRUMENT_ID = HRSC
INSTRUMENT_NAME = "HIGH RESOLUTION STEREO CAMERA"
MISSION_NAME = "MARS EXPRESS"
MISSION_PHASE_NAME = MR_Phase_8
PROCESSING_LEVEL_ID = 3
PRODUCT_CREATION_TIME = 2016-03-14T22:12:55.000Z
PRODUCT_ID = "H2283_0000_P23.JP2"
RELEASE_ID = 0028
REVISION_ID = 0000
/* QUALITY DATA ELEMENTS */
DATA_QUALITY_ID = 1
DATA_QUALITY_DESC = "Data calculated based on original SPICE kernels"
/* TIME DATA ELEMENTS */
SPACECRAFT_CLOCK_START_COUNT = "1/0078190467.56193"
SPACECRAFT_CLOCK_STOP_COUNT = "1/0078190787.54042"
START_TIME = 2005-10-23T23:34:54.136Z
STOP_TIME = 2005-10-23T23:39:03.876Z
/* ORBITAL DATA ELEMENTS */
ASCENDING_NODE_LONGITUDE = 180.32
MAXIMUM_RESOLUTION = 28.1
FOOTPRINT_POINT_LATITUDE = (-73.556,-73.5062,-73.4632,-73.4158, -73.3641,-73.3154,-73.0406,-72.7007, -72.3656,-72.032,-71.7009,-71.202, -70.7198,-70.3973,-70.0755,-69.7583, -69.4394,-69.1268,-68.6582,-68.3512, -67.8905,-67.4365,-67.1336,-66.8366, -66.5386,-66.2427,-65.9519,-65.6586, -65.3683,-64.9382,-64.6505,-64.3625, -64.073,-63.7834,-63.4926,-63.2011, -62.9089,-62.6162,-62.3227,-62.0283, -61.7339,-61.4535,-61.2056,-60.8333, -60.5839,-60.3339,-60.0839,-59.8332, -59.5823,-59.3309,-59.0787,-58.826, -58.5732,-58.5819,-58.6105,-58.6323, -58.8938,-59.2722,-59.5289,-59.7821, -60.0346,-60.4129,-60.6652,-60.9166, -61.167,-61.5427,-61.9713,-62.2685, -62.7134,-63.0086,-63.304,-63.5985, -63.8928,-64.1856,-64.478,-64.7698, -65.0609,-65.3513,-65.6412,-65.9381, -66.2345,-66.6817,-66.984,-67.2854, -67.5927,-68.0535,-68.3651,-68.6833, -69.1567,-69.4744,-69.9586,-70.2819, -70.609,-70.9399,-71.2724,-71.7725, -72.2836,-72.7995,-73.144,-73.556)
FOOTPRINT_POINT_LONGITUDE = (72.9033,71.6752,70.7466,69.8252, 68.9112,68.1161,67.6592,67.9482,68.2229 ,68.4847,68.734,69.0838,69.4152,69.6222 ,69.8206,70.0102,70.1927,70.3662, 70.6154,70.7726,70.9984,71.2104,71.3465 ,71.476,71.6019,71.7232,71.8401,71.9532 ,72.0622,72.2185,72.3195,72.4182, 72.5142,72.6081,72.6996,72.7888,72.8759 ,72.961,73.044,73.1249,73.2042,73.2775, 73.3409,73.4339,73.4942,73.5532,73.6112 ,73.668,73.7238,73.7785,73.8319,73.8843 ,73.9358,74.49,75.2665,76.0045,76.2147, 76.1843,76.1571,76.1335,76.11,76.0736, 76.0479,76.0224,75.9973,75.9576,75.9113 ,75.8783,75.827,75.7928,75.7567,75.72, 75.682,75.6445,75.6057,75.566,75.5255, 75.484,75.4415,75.3965,75.3506,75.2792, 75.2291,75.1779,75.1238,75.0407,74.9808 ,74.9105,74.8141,74.7486,74.6393,74.566 ,74.4887,74.4041,74.3167,74.1855,74.038 ,73.8801,73.7714,72.9033)
ORBIT_NUMBER = 2283
ORBITAL_ECCENTRICITY = 0.573
ORBITAL_INCLINATION = 86.65
ORBITAL_SEMIMAJOR_AXIS = 8580.31
PERIAPSIS_ALTITUDE = 277.13
PERIAPSIS_ARGUMENT_ANGLE = 316.83
PERIAPSIS_TIME = 2005-10-23T23:43:19.000Z
SPACECRAFT_ORIENTATION = (0.0,1.0,0.0)
^MEX_ORIENTATION_DESC = "MEX_ORIENTATION_DESC.TXT"
SPACECRAFT_POINTING_MODE = ACROSSTRACK
^MEX_POINTING_DESC = "MEX_POINTING_DESC.TXT"
RIGHT_ASCENSION = -1e+32
DECLINATION = -1e+32
OFFSET_ANGLE = -0.18
SPACECRAFT_SOLAR_DISTANCE = 2.16021e+08
TARGET_NAME = MARS
/* CAMERA DATA ELEMENTS */
DETECTOR_TEMPERATURE = 18.3705
FOCAL_PLANE_TEMPERATURE = 8.1755
INST_CMPRS_NAME = "DISCRETE COSINE TRANSFORMATION (DCT)"
INST_CMPRS_RATIO = 7.60966
INST_CMPRS_QUALITY = 0
INST_CMPRS_QUANTZ_TBL_ID = 0
INSTRUMENT_TEMPERATURE = 10.8262
LENS_TEMPERATURE = 8.5833
MACROPIXEL_SIZE = 2
MISSING_FRAMES = 0
PIXEL_SUBSAMPLING_FLAG = N
SIGNAL_CHAIN_ID = 3
/* RADIOMETRIC DATA ELEMENTS */
BANDWIDTH = 177.0
CENTER_FILTER_WAVELENGTH = 676.5
RADIANCE_OFFSET = 3.27989
RADIANCE_SCALING_FACTOR = 0.0180072
REFLECTANCE_SCALING_FACTOR = 0.000445546
MEX:REFLECTANCE_OFFSET = 0.0811531
/* IMAGE OBJECT DEFINITIONS */
OBJECT = IMAGE
  INTERCHANGE_FORMAT = BINARY
  LINES = 35415
  LINE_SAMPLES = 6956
  SAMPLE_TYPE = UNSIGNED_INTEGER
  SAMPLE_BITS = 8
  BANDS = 1
  BAND_STORAGE_TYPE = BAND_SEQUENTIAL
  MAXIMUM = 138
  MEAN = 97.3148
  MINIMUM = 50
  STANDARD_DEVIATION = 11.6155
END_OBJECT = IMAGE
/* MAP OBJECT DEFINITIONS */
OBJECT = IMAGE_MAP_PROJECTION
  ^DATA_SET_MAP_PROJECTION_CATALOG= "DSMAP.CAT"
  A_AXIS_RADIUS = 3396.0
  B_AXIS_RADIUS = 3396.0
  C_AXIS_RADIUS = 3396.0
  CENTER_LATITUDE = 0.0
  CENTER_LONGITUDE = 74.0
  COORDINATE_SYSTEM_NAME = PLANETOGRAPHIC
  COORDINATE_SYSTEM_TYPE = "BODY-FIXED ROTATING"
  EASTERNMOST_LONGITUDE = 76.21469999999999
  FIRST_STANDARD_PARALLEL = "N/A"
  LINE_FIRST_PIXEL = 1
  LINE_LAST_PIXEL = 35415
  LINE_PROJECTION_OFFSET = -138830.75
  MAP_PROJECTION_ROTATION = 0.0
  MAP_PROJECTION_TYPE = SINUSOIDAL
  MAP_RESOLUTION = 2370.85521546667
  MAP_SCALE = 0.025
  MAXIMUM_LATITUDE = -58.5732
  MINIMUM_LATITUDE = -73.556
  POSITIVE_LONGITUDE_DIRECTION = EAST
  REFERENCE_LATITUDE = "N/A"
  REFERENCE_LONGITUDE = "N/A"
  SAMPLE_FIRST_PIXEL = 1
  SAMPLE_LAST_PIXEL = 6956
  SAMPLE_PROJECTION_OFFSET = 4274.25
  SECOND_STANDARD_PARALLEL = "N/A"
  WESTERNMOST_LONGITUDE = 67.6592
END_OBJECT = IMAGE_MAP_PROJECTION
/* The JPEG2000 image data file associated with this label. */
OBJECT = COMPRESSED_FILE
  FILE_NAME = "H2283_0000_P23.JP2"
  RECORD_TYPE = UNDEFINED
  FILE_RECORDS = UNK
  ENCODING_TYPE = "JP2"
  INTERCHANGE_FORMAT = BINARY
  UNCOMPRESSED_FILE_NAME = "H2283_0000_P23.IMG"
  REQUIRED_STORAGE_BYTES = "246381520"
  ^DESCRIPTION = "JP2INFO.TXT"
END_OBJECT = COMPRESSED_FILE
END
