PDS_VERSION_ID = PDS3
/* FILE DATA ELEMENTS */
RECORD_TYPE = STREAM
/* POINTERS TO DATA OBJECTS */
^COMPRESSED_FILE = "H2283_0000_RE3.JP2"
/* IDENTIFICATION DATA ELEMENTS */
DATA_SET_ID = "MEX-M-HRSC-5-REFDR-MAPPROJECTED-V3.0"
DATA_SET_NAME = "MARS EXPRESS HRSC MAP PROJECTED REFDR V3.0"
DETECTOR_ID = MEX_HRSC_RED
EVENT_TYPE = "MARS-REGIONAL-MAPPING-Fl-Pf-Mw"
INSTRUMENT_HOST_ID = MEX
INSTRUMENT_HOST_NAME = "MARS EXPRESS"
INSTRUMENT_ID = HRSC
INSTRUMENT_NAME = "HIGH RESOLUTION STEREO CAMERA"
MISSION_NAME = "MARS EXPRESS"
MISSION_PHASE_NAME = MR_Phase_8
PROCESSING_LEVEL_ID = 3
PRODUCT_CREATION_TIME = 2016-03-14T22:12:55.000Z
PRODUCT_ID = "H2283_0000_RE3.JP2"
RELEASE_ID = 0028
REVISION_ID = 0000
/* QUALITY DATA ELEMENTS */
DATA_QUALITY_ID = 1
DATA_QUALITY_DESC = "Data calculated based on original SPICE kernels"
/* TIME DATA ELEMENTS */
SPACECRAFT_CLOCK_START_COUNT = "1/0078190467.56193"
SPACECRAFT_CLOCK_STOP_COUNT = "1/0078190787.54042"
START_TIME = 2005-10-23T23:34:44.918Z
STOP_TIME = 2005-10-23T23:38:58.502Z
/* ORBITAL DATA ELEMENTS */
ASCENDING_NODE_LONGITUDE = 180.32
MAXIMUM_RESOLUTION = 114.8
FOOTPRINT_POINT_LATITUDE = (-73.5565,-73.5187,-73.4739,-73.3799, -73.2068,-72.8691,-72.535,-72.2039, -71.8751,-71.5474,-71.2159,-70.74, -70.4189,-70.1024,-69.6291,-69.3163, -69.0039,-68.6974,-68.2379,-67.9362, -67.4834,-67.1867,-66.889,-66.448, -66.0099,-65.7218,-65.4341,-65.1467, -64.8635,-64.5816,-64.1575,-63.7314, -63.4462,-63.1603,-62.8735,-62.5863, -62.2981,-62.009,-61.72,-61.4298, -61.1446,-60.7783,-60.4104,-60.1647, -59.9184,-59.6718,-59.4248,-59.1769, -58.9285,-58.6798,-58.5775,-58.605, -58.62,-58.884,-59.3822,-59.7579, -60.0059,-60.3782,-60.7493,-60.9965, -61.2424,-61.5307,-61.8232,-62.115, -62.4069,-62.6978,-62.9873,-63.2773, -63.5663,-63.9989,-64.2855,-64.5717, -64.8576,-65.1423,-65.432,-65.7232, -66.0138,-66.3089,-66.6055,-67.0525, -67.3548,-67.6563,-67.9622,-68.2694, -68.7414,-69.0529,-69.3671,-69.6852, -70.0045,-70.3271,-70.6489,-70.9802, -71.3075,-71.6384,-71.9737,-72.3108, -72.8213,-73.1628,-73.5092,-73.5565)
FOOTPRINT_POINT_LONGITUDE = (72.5663,71.6521,70.6867,68.9475, 67.5247,67.8191,68.0973,68.3634,68.6164 ,68.8578,69.087,69.4149,69.6218,69.8175 ,70.0984,70.2749,70.4461,70.6085, 70.8426,70.99,71.2024,71.3365,71.4669, 71.6529,71.8305,71.9426,72.0512,72.1574 ,72.2584,72.3567,72.5,72.638,72.7273, 72.8145,72.8996,72.9828,73.0641,73.1433 ,73.221,73.2968,73.3696,73.4604,73.5483 ,73.6057,73.6618,73.717,73.7711,73.824, 73.876,73.927,74.5269,75.3006,75.8423, 76.2254,76.1829,76.1469,76.1244,76.0887 ,76.0523,76.0273,76.0027,75.9724, 75.9417,75.9104,75.8776,75.8445,75.8117 ,75.7768,75.7415,75.6867,75.6503, 75.6129,75.5742,75.5352,75.4938,75.4516 ,75.4083,75.3632,75.3167,75.2441, 75.1932,75.1409,75.0866,75.0302,74.9305 ,74.8698,74.8061,74.7385,74.667,74.5948 ,74.52,74.4349,74.3525,74.27,74.1743, 74.0809,73.9277,73.8222,73.71,72.5663)
ORBIT_NUMBER = 2283
ORBITAL_ECCENTRICITY = 0.573
ORBITAL_INCLINATION = 86.65
ORBITAL_SEMIMAJOR_AXIS = 8580.31
PERIAPSIS_ALTITUDE = 277.13
PERIAPSIS_ARGUMENT_ANGLE = 316.83
PERIAPSIS_TIME = 2005-10-23T23:43:19.000Z
SPACECRAFT_ORIENTATION = (0.0,1.0,0.0)
^MEX_ORIENTATION_DESC = "MEX_ORIENTATION_DESC.TXT"
SPACECRAFT_POINTING_MODE = ACROSSTRACK
^MEX_POINTING_DESC = "MEX_POINTING_DESC.TXT"
RIGHT_ASCENSION = -1e+32
DECLINATION = -1e+32
OFFSET_ANGLE = -0.18
SPACECRAFT_SOLAR_DISTANCE = 2.16021e+08
TARGET_NAME = MARS
/* CAMERA DATA ELEMENTS */
DETECTOR_TEMPERATURE = 18.3705
FOCAL_PLANE_TEMPERATURE = 8.1755
INST_CMPRS_NAME = "DISCRETE COSINE TRANSFORMATION (DCT)"
INST_CMPRS_RATIO = 26.5584
INST_CMPRS_QUALITY = 0
INST_CMPRS_QUANTZ_TBL_ID = 0
INSTRUMENT_TEMPERATURE = 10.8262
LENS_TEMPERATURE = 8.5833
MACROPIXEL_SIZE = 8
MISSING_FRAMES = 0
PIXEL_SUBSAMPLING_FLAG = N
SIGNAL_CHAIN_ID = 2
/* RADIOMETRIC DATA ELEMENTS */
BANDWIDTH = 48.0
CENTER_FILTER_WAVELENGTH = 748.0
RADIANCE_OFFSET = 0.914018
RADIANCE_SCALING_FACTOR = 0.00509779
REFLECTANCE_SCALING_FACTOR = 0.000542871
MEX:REFLECTANCE_OFFSET = 0.097335
/* IMAGE OBJECT DEFINITIONS */
OBJECT = IMAGE
  INTERCHANGE_FORMAT = BINARY
  LINES = 8854
  LINE_SAMPLES = 1739
  SAMPLE_TYPE = UNSIGNED_INTEGER
  SAMPLE_BITS = 8
  BANDS = 1
  BAND_STORAGE_TYPE = BAND_SEQUENTIAL
  MAXIMUM = 110
  MEAN = 81.4898
  MINIMUM = 44
  STANDARD_DEVIATION = 9.86031
END_OBJECT = IMAGE
/* MAP OBJECT DEFINITIONS */
OBJECT = IMAGE_MAP_PROJECTION
  ^DATA_SET_MAP_PROJECTION_CATALOG= "DSMAP.CAT"
  A_AXIS_RADIUS = 3396.0
  B_AXIS_RADIUS = 3396.0
  C_AXIS_RADIUS = 3396.0
  CENTER_LATITUDE = 0.0
  CENTER_LONGITUDE = 74.0
  COORDINATE_SYSTEM_NAME = PLANETOGRAPHIC
  COORDINATE_SYSTEM_TYPE = "BODY-FIXED ROTATING"
  EASTERNMOST_LONGITUDE = 76.22539999999999
  FIRST_STANDARD_PARALLEL = "N/A"
  LINE_FIRST_PIXEL = 1
  LINE_LAST_PIXEL = 8854
  LINE_PROJECTION_OFFSET = -34708.0625
  MAP_PROJECTION_ROTATION = 0.0
  MAP_PROJECTION_TYPE = SINUSOIDAL
  MAP_RESOLUTION = 592.713803866667
  MAP_SCALE = 0.1
  MAXIMUM_LATITUDE = -58.5775
  MINIMUM_LATITUDE = -73.5565
  POSITIVE_LONGITUDE_DIRECTION = EAST
  REFERENCE_LATITUDE = "N/A"
  REFERENCE_LONGITUDE = "N/A"
  SAMPLE_FIRST_PIXEL = 1
  SAMPLE_LAST_PIXEL = 1739
  SAMPLE_PROJECTION_OFFSET = 1068.1875
  SECOND_STANDARD_PARALLEL = "N/A"
  WESTERNMOST_LONGITUDE = 67.5247
END_OBJECT = IMAGE_MAP_PROJECTION
/* The JPEG2000 image data file associated with this label. */
OBJECT = COMPRESSED_FILE
  FILE_NAME = "H2283_0000_RE3.JP2"
  RECORD_TYPE = UNDEFINED
  FILE_RECORDS = UNK
  ENCODING_TYPE = "JP2"
  INTERCHANGE_FORMAT = BINARY
  UNCOMPRESSED_FILE_NAME = "H2283_0000_RE3.IMG"
  REQUIRED_STORAGE_BYTES = "15417974"
  ^DESCRIPTION = "JP2INFO.TXT"
END_OBJECT = COMPRESSED_FILE
END
