PDS_VERSION_ID = PDS3
/* FILE DATA ELEMENTS */
RECORD_TYPE = STREAM
/* POINTERS TO DATA OBJECTS */
^COMPRESSED_FILE = "H2283_0000_S23.JP2"
/* IDENTIFICATION DATA ELEMENTS */
DATA_SET_ID = "MEX-M-HRSC-5-REFDR-MAPPROJECTED-V3.0"
DATA_SET_NAME = "MARS EXPRESS HRSC MAP PROJECTED REFDR V3.0"
DETECTOR_ID = MEX_HRSC_S2
EVENT_TYPE = "MARS-REGIONAL-MAPPING-Fl-Pf-Mw"
INSTRUMENT_HOST_ID = MEX
INSTRUMENT_HOST_NAME = "MARS EXPRESS"
INSTRUMENT_ID = HRSC
INSTRUMENT_NAME = "HIGH RESOLUTION STEREO CAMERA"
MISSION_NAME = "MARS EXPRESS"
MISSION_PHASE_NAME = MR_Phase_8
PROCESSING_LEVEL_ID = 3
PRODUCT_CREATION_TIME = 2016-03-14T22:12:55.000Z
PRODUCT_ID = "H2283_0000_S23.JP2"
RELEASE_ID = 0028
REVISION_ID = 0000
/* QUALITY DATA ELEMENTS */
DATA_QUALITY_ID = 1
DATA_QUALITY_DESC = "Data calculated based on original SPICE kernels"
/* TIME DATA ELEMENTS */
SPACECRAFT_CLOCK_START_COUNT = "1/0078190467.56193"
SPACECRAFT_CLOCK_STOP_COUNT = "1/0078190787.54042"
START_TIME = 2005-10-23T23:34:34.881Z
STOP_TIME = 2005-10-23T23:38:52.765Z
/* ORBITAL DATA ELEMENTS */
ASCENDING_NODE_LONGITUDE = 180.32
MAXIMUM_RESOLUTION = 29.6
FOOTPRINT_POINT_LATITUDE = (-73.6281,-73.5909,-73.5508,-73.5057, -73.4557,-73.4009,-73.3413,-73.0468, -72.7083,-72.3721,-72.0403,-71.5397, -71.206,-70.8921,-70.5666,-70.246, -69.9249,-69.6105,-69.2917,-68.98, -68.5127,-68.2068,-67.7478,-67.4455, -67.1426,-66.8456,-66.5478,-66.2508, -65.96,-65.6666,-65.376,-64.9451, -64.6567,-64.3753,-64.0924,-63.8087, -63.524,-63.2385,-62.9523,-62.6653, -62.3777,-62.0887,-61.655,-61.3644, -61.0746,-60.786,-60.4174,-59.9247, -59.4302,-59.1819,-58.9329,-58.5594, -58.5884,-58.6187,-58.6342,-58.8909, -59.2593,-59.5174,-60.0155,-60.3886, -60.7603,-61.0281,-61.322,-61.7621, -62.0541,-62.3462,-62.6377,-63.072, -63.3616,-63.6506,-63.9382,-64.2249, -64.5114,-64.7966,-65.0879,-65.3792, -65.8188,-66.1161,-66.412,-66.7135, -67.0156,-67.4712,-67.7787,-68.0855, -68.3992,-68.7195,-69.1948,-69.5108, -69.8354,-70.1566,-70.4832,-70.8108, -71.1468,-71.4776,-71.8148,-72.1523, -72.4945,-72.8385,-73.1828,-73.6281)
FOOTPRINT_POINT_LONGITUDE = (73.6153,72.5728,71.5986,70.6313, 69.6725,68.7211,67.7761,67.5595,67.8521 ,68.1313,68.3956,68.7694,69.0055, 69.2298,69.4458,69.6501,69.8476,70.0351 ,70.2164,70.3888,70.6368,70.7929, 71.0172,71.159,71.297,71.4281,71.5555, 71.6789,71.797,71.9119,72.0223,72.1811, 72.2832,72.3809,72.4761,72.5691,72.6598 ,72.7485,72.8351,72.9197,73.0024, 73.0831,73.2009,73.2771,73.3519,73.4236 ,73.5127,73.6276,73.7383,73.792,73.8447 ,73.9217,74.5961,75.5486,76.0728, 76.2424,76.2169,76.1876,76.143,76.1079, 76.0723,76.0457,76.0166,75.9714,75.9409 ,75.909,75.8765,75.828,75.7938,75.7588, 75.7237,75.6881,75.6511,75.614,75.5749, 75.5351,75.4725,75.4289,75.3848,75.3378 ,75.2899,75.2151,75.1627,75.1094, 75.0519,74.9826,74.8908,74.8286,74.7588 ,74.6903,74.6182,74.5415,74.4567, 74.3755,74.2887,74.1976,74.1017,74.0007 ,73.899,73.6153)
ORBIT_NUMBER = 2283
ORBITAL_ECCENTRICITY = 0.573
ORBITAL_INCLINATION = 86.65
ORBITAL_SEMIMAJOR_AXIS = 8580.31
PERIAPSIS_ALTITUDE = 277.13
PERIAPSIS_ARGUMENT_ANGLE = 316.83
PERIAPSIS_TIME = 2005-10-23T23:43:19.000Z
SPACECRAFT_ORIENTATION = (0.0,1.0,0.0)
^MEX_ORIENTATION_DESC = "MEX_ORIENTATION_DESC.TXT"
SPACECRAFT_POINTING_MODE = ACROSSTRACK
^MEX_POINTING_DESC = "MEX_POINTING_DESC.TXT"
RIGHT_ASCENSION = -1e+32
DECLINATION = -1e+32
OFFSET_ANGLE = -0.18
SPACECRAFT_SOLAR_DISTANCE = 2.16021e+08
TARGET_NAME = MARS
/* CAMERA DATA ELEMENTS */
DETECTOR_TEMPERATURE = 18.3705
FOCAL_PLANE_TEMPERATURE = 8.1755
INST_CMPRS_NAME = "DISCRETE COSINE TRANSFORMATION (DCT)"
INST_CMPRS_RATIO = 12.9521
INST_CMPRS_QUALITY = 0
INST_CMPRS_QUANTZ_TBL_ID = 0
INSTRUMENT_TEMPERATURE = 10.8262
LENS_TEMPERATURE = 8.5833
MACROPIXEL_SIZE = 2
MISSING_FRAMES = 0
PIXEL_SUBSAMPLING_FLAG = N
SIGNAL_CHAIN_ID = 1
/* RADIOMETRIC DATA ELEMENTS */
BANDWIDTH = 178.0
CENTER_FILTER_WAVELENGTH = 679.0
RADIANCE_OFFSET = 3.45111
RADIANCE_SCALING_FACTOR = 0.0186089
REFLECTANCE_SCALING_FACTOR = 0.000459875
MEX:REFLECTANCE_OFFSET = 0.0852859
/* IMAGE OBJECT DEFINITIONS */
OBJECT = IMAGE
  INTERCHANGE_FORMAT = BINARY
  LINES = 35415
  LINE_SAMPLES = 6956
  SAMPLE_TYPE = UNSIGNED_INTEGER
  SAMPLE_BITS = 8
  BANDS = 1
  BAND_STORAGE_TYPE = BAND_SEQUENTIAL
  MAXIMUM = 119
  MEAN = 84.8748
  MINIMUM = 44
  STANDARD_DEVIATION = 9.96979
END_OBJECT = IMAGE
/* MAP OBJECT DEFINITIONS */
OBJECT = IMAGE_MAP_PROJECTION
  ^DATA_SET_MAP_PROJECTION_CATALOG= "DSMAP.CAT"
  A_AXIS_RADIUS = 3396.0
  B_AXIS_RADIUS = 3396.0
  C_AXIS_RADIUS = 3396.0
  CENTER_LATITUDE = 0.0
  CENTER_LONGITUDE = 74.0
  COORDINATE_SYSTEM_NAME = PLANETOGRAPHIC
  COORDINATE_SYSTEM_TYPE = "BODY-FIXED ROTATING"
  EASTERNMOST_LONGITUDE = 76.2424
  FIRST_STANDARD_PARALLEL = "N/A"
  LINE_FIRST_PIXEL = 1
  LINE_LAST_PIXEL = 35415
  LINE_PROJECTION_OFFSET = -138830.75
  MAP_PROJECTION_ROTATION = 0.0
  MAP_PROJECTION_TYPE = SINUSOIDAL
  MAP_RESOLUTION = 2370.85521546667
  MAP_SCALE = 0.025
  MAXIMUM_LATITUDE = -58.5594
  MINIMUM_LATITUDE = -73.6281
  POSITIVE_LONGITUDE_DIRECTION = EAST
  REFERENCE_LATITUDE = "N/A"
  REFERENCE_LONGITUDE = "N/A"
  SAMPLE_FIRST_PIXEL = 1
  SAMPLE_LAST_PIXEL = 6956
  SAMPLE_PROJECTION_OFFSET = 4274.25
  SECOND_STANDARD_PARALLEL = "N/A"
  WESTERNMOST_LONGITUDE = 67.5595
END_OBJECT = IMAGE_MAP_PROJECTION
/* The JPEG2000 image data file associated with this label. */
OBJECT = COMPRESSED_FILE
  FILE_NAME = "H2283_0000_S23.JP2"
  RECORD_TYPE = UNDEFINED
  FILE_RECORDS = UNK
  ENCODING_TYPE = "JP2"
  INTERCHANGE_FORMAT = BINARY
  UNCOMPRESSED_FILE_NAME = "H2283_0000_S23.IMG"
  REQUIRED_STORAGE_BYTES = "246381520"
  ^DESCRIPTION = "JP2INFO.TXT"
END_OBJECT = COMPRESSED_FILE
END
