PDS_VERSION_ID = PDS3
/* FILE DATA ELEMENTS */
RECORD_TYPE = STREAM
/* POINTERS TO DATA OBJECTS */
^COMPRESSED_FILE = "H2286_0006_SR3.JP2"
/* IDENTIFICATION DATA ELEMENTS */
DATA_SET_ID = "MEX-M-HRSC-5-REFDR-MAPPROJECTED-V3.0"
DATA_SET_NAME = "MARS EXPRESS HRSC MAP PROJECTED REFDR V3.0"
DETECTOR_ID = MEX_HRSC_SRC
EVENT_TYPE = "MARS-REGIONAL-STEREO-Gl-Eo-La"
INSTRUMENT_HOST_ID = MEX
INSTRUMENT_HOST_NAME = "MARS EXPRESS"
INSTRUMENT_ID = HRSC
INSTRUMENT_NAME = "HIGH RESOLUTION STEREO CAMERA"
MISSION_NAME = "MARS EXPRESS"
MISSION_PHASE_NAME = MR_Phase_8
PROCESSING_LEVEL_ID = 3
PRODUCT_CREATION_TIME = 2016-03-14T22:12:55.000Z
PRODUCT_ID = "H2286_0006_SR3.JP2"
RELEASE_ID = 0028
REVISION_ID = 0000
/* QUALITY DATA ELEMENTS */
DATA_QUALITY_ID = 1
DATA_QUALITY_DESC = "Data calculated based on original SPICE kernels"
/* TIME DATA ELEMENTS */
SPACECRAFT_CLOCK_START_COUNT = "1/0078262732.57935"
SPACECRAFT_CLOCK_STOP_COUNT = "1/0078262978.44784"
IMAGE_TIME = 2005-10-24T19:41:37.113Z
START_TIME = 2005-10-24T19:41:37.110Z
STOP_TIME = 2005-10-24T19:41:37.115Z
/* ORBITAL DATA ELEMENTS */
ASCENDING_NODE_LONGITUDE = 180.26
MAXIMUM_RESOLUTION = 5.896
FOOTPRINT_POINT_LATITUDE = (-83.953,-83.9581,-83.9617,-83.965, -83.9676,-83.9712,-83.9738,-83.977, -83.9812,-83.9848,-83.9875,-83.9928, -83.9962,-83.999,-84.0038,-84.0067, -84.0093,-84.0126,-84.0156,-84.0202, -84.0235,-84.027,-84.032,-84.0351, -84.0392,-84.0428,-84.041,-84.0392, -84.0374,-84.0356,-84.0339,-84.0321, -84.0303,-84.0285,-84.0267,-84.0245, -84.0227,-84.0209,-84.0191,-84.0173, -84.0155,-84.0137,-84.0119,-84.0101, -84.0082,-84.0064,-84.0046,-84.0028, -84.001,-83.9992,-83.9973,-83.9946, -83.9912,-83.9883,-83.9859,-83.9822, -83.9782,-83.9732,-83.9684,-83.9655, -83.961,-83.9559,-83.9527,-83.9485, -83.9439,-83.9409,-83.9379,-83.934, -83.9316,-83.9283,-83.9245,-83.9196, -83.9164,-83.9118,-83.9089,-83.9083, -83.9101,-83.9119,-83.9141,-83.9159, -83.9177,-83.9195,-83.9212,-83.923, -83.9248,-83.9266,-83.9283,-83.9301, -83.9319,-83.9336,-83.9354,-83.9372, -83.9389,-83.9407,-83.9425,-83.9442, -83.946,-83.9477,-83.9495,-83.953)
FOOTPRINT_POINT_LONGITUDE = (121.198,121.175,121.158,121.143, 121.131,121.114,121.102,121.088,121.068 ,121.051,121.039,121.014,120.998, 120.985,120.963,120.949,120.937,120.921 ,120.908,120.886,120.87,120.854,120.83, 120.816,120.796,120.778,120.744,120.709 ,120.675,120.64,120.605,120.571,120.536 ,120.502,120.467,120.424,120.39,120.355 ,120.321,120.287,120.252,120.218, 120.184,120.149,120.115,120.081,120.047 ,120.013,119.978,119.944,119.91,119.918 ,119.935,119.949,119.961,119.978, 119.998,120.022,120.045,120.06,120.081, 120.106,120.121,120.142,120.163,120.178 ,120.192,120.211,120.222,120.238, 120.256,120.28,120.295,120.316,120.33, 120.355,120.389,120.423,120.465,120.499 ,120.533,120.566,120.6,120.634,120.668, 120.702,120.736,120.77,120.804,120.838, 120.872,120.906,120.94,120.975,121.009, 121.043,121.077,121.111,121.146, 121.198)
ORBIT_NUMBER = 2286
ORBITAL_ECCENTRICITY = 0.573
ORBITAL_INCLINATION = 86.62
ORBITAL_SEMIMAJOR_AXIS = 8578.91
PERIAPSIS_ALTITUDE = 278.3
PERIAPSIS_ARGUMENT_ANGLE = 316.33
PERIAPSIS_TIME = 2005-10-24T19:52:29.000Z
SPACECRAFT_ORIENTATION = (0.0,-1.0,0.0)
^MEX_ORIENTATION_DESC = "MEX_ORIENTATION_DESC.TXT"
SPACECRAFT_POINTING_MODE = ACROSSTRACK
^MEX_POINTING_DESC = "MEX_POINTING_DESC.TXT"
RIGHT_ASCENSION = -1e+32
DECLINATION = -1e+32
OFFSET_ANGLE = -0.65
SPACECRAFT_SOLAR_DISTANCE = 2.16164e+08
TARGET_NAME = MARS
/* CAMERA DATA ELEMENTS */
BUFFER_MODE_ID = BUFFER_8
EXPOSURE_DURATION = 5.04
INST_CMPRS_NAME = NONE
INST_CMPRS_RATIO = 1.0
INST_CMPRS_QUALITY = -2147483648
INST_CMPRS_QUANTZ_TBL_ID = -2147483648
INSTRUMENT_TEMPERATURE = 8.18182
MISSING_FRAMES = 0
START_BIT = 0
/* RADIOMETRIC DATA ELEMENTS */
BANDWIDTH = 250.0
CENTER_FILTER_WAVELENGTH = 600.0
RADIANCE_OFFSET = -9.99e+31
RADIANCE_SCALING_FACTOR = -9.99e+31
REFLECTANCE_SCALING_FACTOR = -9.99e+31
MEX:REFLECTANCE_OFFSET = -9.99e+31
/* IMAGE OBJECT DEFINITIONS */
OBJECT = IMAGE
  INTERCHANGE_FORMAT = BINARY
  LINES = 1694
  LINE_SAMPLES = 1698
  SAMPLE_TYPE = UNSIGNED_INTEGER
  SAMPLE_BITS = 8
  BANDS = 1
  BAND_STORAGE_TYPE = BAND_SEQUENTIAL
  MAXIMUM = 4316
  MEAN = 3464.77
  MINIMUM = 2362
  STANDARD_DEVIATION = 140.198
END_OBJECT = IMAGE
/* MAP OBJECT DEFINITIONS */
OBJECT = IMAGE_MAP_PROJECTION
  ^DATA_SET_MAP_PROJECTION_CATALOG= "DSMAP.CAT"
  A_AXIS_RADIUS = 3396.19
  B_AXIS_RADIUS = 3396.19
  C_AXIS_RADIUS = 3396.19
  CENTER_LATITUDE = 0.0
  CENTER_LONGITUDE = 121.0
  COORDINATE_SYSTEM_NAME = PLANETOGRAPHIC
  COORDINATE_SYSTEM_TYPE = "BODY-FIXED ROTATING"
  EASTERNMOST_LONGITUDE = 121.198
  FIRST_STANDARD_PARALLEL = "N/A"
  LINE_FIRST_PIXEL = 1
  LINE_LAST_PIXEL = 1694
  LINE_PROJECTION_OFFSET = -992084.0
  MAP_PROJECTION_ROTATION = 0.0
  MAP_PROJECTION_TYPE = SINUSOIDAL
  MAP_RESOLUTION = 11854.9393024378
  MAP_SCALE = 0.005
  MAXIMUM_LATITUDE = -83.9083
  MINIMUM_LATITUDE = -84.0428
  POSITIVE_LONGITUDE_DIRECTION = EAST
  REFERENCE_LATITUDE = "N/A"
  REFERENCE_LONGITUDE = "N/A"
  SAMPLE_FIRST_PIXEL = 1
  SAMPLE_LAST_PIXEL = 1698
  SAMPLE_PROJECTION_OFFSET = 1143.0
  SECOND_STANDARD_PARALLEL = "N/A"
  WESTERNMOST_LONGITUDE = 119.91
END_OBJECT = IMAGE_MAP_PROJECTION
/* The JPEG2000 image data file associated with this label. */
OBJECT = COMPRESSED_FILE
  FILE_NAME = "H2286_0006_SR3.JP2"
  RECORD_TYPE = UNDEFINED
  FILE_RECORDS = UNK
  ENCODING_TYPE = "JP2"
  INTERCHANGE_FORMAT = BINARY
  UNCOMPRESSED_FILE_NAME = "H2286_0006_SR3.IMG"
  REQUIRED_STORAGE_BYTES = "2896788"
  ^DESCRIPTION = "JP2INFO.TXT"
END_OBJECT = COMPRESSED_FILE
END
