PDS_VERSION_ID = PDS3
/* FILE DATA ELEMENTS */
RECORD_TYPE = STREAM
/* POINTERS TO DATA OBJECTS */
^COMPRESSED_FILE = "H2286_0010_GR3.JP2"
/* IDENTIFICATION DATA ELEMENTS */
DATA_SET_ID = "MEX-M-HRSC-5-REFDR-MAPPROJECTED-V3.0"
DATA_SET_NAME = "MARS EXPRESS HRSC MAP PROJECTED REFDR V3.0"
DETECTOR_ID = MEX_HRSC_GREEN
EVENT_TYPE = "MARS-REGIONAL-MAPPING-Im-Fl"
INSTRUMENT_HOST_ID = MEX
INSTRUMENT_HOST_NAME = "MARS EXPRESS"
INSTRUMENT_ID = HRSC
INSTRUMENT_NAME = "HIGH RESOLUTION STEREO CAMERA"
MISSION_NAME = "MARS EXPRESS"
MISSION_PHASE_NAME = MR_Phase_8
PROCESSING_LEVEL_ID = 3
PRODUCT_CREATION_TIME = 2016-03-14T22:12:55.000Z
PRODUCT_ID = "H2286_0010_GR3.JP2"
RELEASE_ID = 0028
REVISION_ID = 0000
/* QUALITY DATA ELEMENTS */
DATA_QUALITY_ID = 1
DATA_QUALITY_DESC = "Data calculated based on original SPICE kernels"
/* TIME DATA ELEMENTS */
SPACECRAFT_CLOCK_START_COUNT = "1/0078263450.57163"
SPACECRAFT_CLOCK_STOP_COUNT = "1/0078263642.23587"
START_TIME = 2005-10-24T19:51:18.999Z
STOP_TIME = 2005-10-24T19:53:38.008Z
/* ORBITAL DATA ELEMENTS */
ASCENDING_NODE_LONGITUDE = 180.26
MAXIMUM_RESOLUTION = 88.1
FOOTPRINT_POINT_LATITUDE = (-47.9885,-47.998,-48.0022,-48.006, -48.0094,-48.0034,-47.8141,-47.6247, -47.3407,-47.1512,-46.8702,-46.688, -46.4147,-46.1412,-45.9589,-45.6855, -45.5035,-45.3211,-45.139,-44.8651, -44.5911,-44.4083,-44.2252,-44.0424, -43.8599,-43.5863,-43.4035,-43.1294, -42.8553,-42.6726,-42.4897,-42.2154, -42.0324,-41.8495,-41.6667,-41.484, -41.3012,-41.1184,-40.9356,-40.7529, -40.5701,-40.2959,-40.1131,-39.9303, -39.7475,-39.5647,-39.3819,-39.1077, -38.9249,-38.7423,-38.7093,-38.7079, -38.7052,-38.7031,-38.7918,-39.0655, -39.2479,-39.4306,-39.6134,-39.7948, -39.977,-40.1595,-40.3421,-40.5245, -40.7071,-40.8903,-41.0741,-41.2564, -41.4389,-41.6215,-41.8038,-41.9863, -42.2601,-42.4426,-42.7165,-42.9903, -43.1729,-43.3554,-43.5379,-43.8115, -44.0851,-44.3588,-44.5412,-44.8143, -45.0867,-45.3595,-45.5415,-45.7236, -45.9057,-46.0878,-46.3608,-46.5427, -46.7246,-46.9065,-47.0948,-47.2838, -47.4728,-47.6625,-47.8511,-47.9885)
FOOTPRINT_POINT_LONGITUDE = (141.448,141.873,142.089,142.306, 142.526,142.845,142.851,142.857,142.865 ,142.871,142.879,142.884,142.89,142.897 ,142.902,142.907,142.908,142.912, 142.914,142.921,142.928,142.934,142.941 ,142.946,142.95,142.953,142.957,142.963 ,142.969,142.972,142.977,142.983, 142.988,142.993,142.996,142.999,143.003 ,143.006,143.01,143.013,143.017,143.022 ,143.025,143.029,143.032,143.036,143.04 ,143.045,143.049,143.052,142.739, 142.547,142.263,142.076,141.788,141.78, 141.775,141.769,141.763,141.759,141.753 ,141.747,141.741,141.735,141.728, 141.721,141.713,141.706,141.7,141.693, 141.686,141.678,141.667,141.659,141.647 ,141.635,141.627,141.618,141.61,141.597 ,141.583,141.569,141.56,141.546,141.532 ,141.517,141.507,141.497,141.486, 141.475,141.459,141.448,141.436,141.425 ,141.412,141.4,141.387,141.374,141.361, 141.448)
ORBIT_NUMBER = 2286
ORBITAL_ECCENTRICITY = 0.573
ORBITAL_INCLINATION = 86.62
ORBITAL_SEMIMAJOR_AXIS = 8578.91
PERIAPSIS_ALTITUDE = 278.3
PERIAPSIS_ARGUMENT_ANGLE = 316.33
PERIAPSIS_TIME = 2005-10-24T19:52:29.000Z
SPACECRAFT_ORIENTATION = (0.0,-1.0,0.0)
^MEX_ORIENTATION_DESC = "MEX_ORIENTATION_DESC.TXT"
SPACECRAFT_POINTING_MODE = ACROSSTRACK
^MEX_POINTING_DESC = "MEX_POINTING_DESC.TXT"
RIGHT_ASCENSION = -1e+32
DECLINATION = -1e+32
OFFSET_ANGLE = -0.65
SPACECRAFT_SOLAR_DISTANCE = 2.16164e+08
TARGET_NAME = MARS
/* CAMERA DATA ELEMENTS */
DETECTOR_TEMPERATURE = 20.0017
FOCAL_PLANE_TEMPERATURE = 8.9911
INST_CMPRS_NAME = "DISCRETE COSINE TRANSFORMATION (DCT)"
INST_CMPRS_RATIO = 20.2445
INST_CMPRS_QUALITY = 0
INST_CMPRS_QUANTZ_TBL_ID = 0
INSTRUMENT_TEMPERATURE = 13.6808
LENS_TEMPERATURE = 8.3794
MACROPIXEL_SIZE = 8
MISSING_FRAMES = 0
PIXEL_SUBSAMPLING_FLAG = N
SIGNAL_CHAIN_ID = 2
/* RADIOMETRIC DATA ELEMENTS */
BANDWIDTH = 88.0
CENTER_FILTER_WAVELENGTH = 538.0
RADIANCE_OFFSET = 2.24338
RADIANCE_SCALING_FACTOR = 0.00498528
REFLECTANCE_SCALING_FACTOR = 0.00020056
MEX:REFLECTANCE_OFFSET = 0.090252
/* IMAGE OBJECT DEFINITIONS */
OBJECT = IMAGE
  INTERCHANGE_FORMAT = BINARY
  LINES = 5524
  LINE_SAMPLES = 791
  SAMPLE_TYPE = UNSIGNED_INTEGER
  SAMPLE_BITS = 8
  BANDS = 1
  BAND_STORAGE_TYPE = BAND_SEQUENTIAL
  MAXIMUM = 144
  MEAN = 118.94
  MINIMUM = 86
  STANDARD_DEVIATION = 9.04929
END_OBJECT = IMAGE
/* MAP OBJECT DEFINITIONS */
OBJECT = IMAGE_MAP_PROJECTION
  ^DATA_SET_MAP_PROJECTION_CATALOG= "DSMAP.CAT"
  A_AXIS_RADIUS = 3396.0
  B_AXIS_RADIUS = 3396.0
  C_AXIS_RADIUS = 3396.0
  CENTER_LATITUDE = 0.0
  CENTER_LONGITUDE = 142.0
  COORDINATE_SYSTEM_NAME = PLANETOGRAPHIC
  COORDINATE_SYSTEM_TYPE = "BODY-FIXED ROTATING"
  EASTERNMOST_LONGITUDE = 143.052
  FIRST_STANDARD_PARALLEL = "N/A"
  LINE_FIRST_PIXEL = 1
  LINE_LAST_PIXEL = 5524
  LINE_PROJECTION_OFFSET = -22932.1875
  MAP_PROJECTION_ROTATION = 0.0
  MAP_PROJECTION_TYPE = SINUSOIDAL
  MAP_RESOLUTION = 592.713803866667
  MAP_SCALE = 0.1
  MAXIMUM_LATITUDE = -38.7031
  MINIMUM_LATITUDE = -48.0094
  POSITIVE_LONGITUDE_DIRECTION = EAST
  REFERENCE_LATITUDE = "N/A"
  REFERENCE_LONGITUDE = "N/A"
  SAMPLE_FIRST_PIXEL = 1
  SAMPLE_LAST_PIXEL = 791
  SAMPLE_PROJECTION_OFFSET = 259.6875
  SECOND_STANDARD_PARALLEL = "N/A"
  WESTERNMOST_LONGITUDE = 141.361
END_OBJECT = IMAGE_MAP_PROJECTION
/* The JPEG2000 image data file associated with this label. */
OBJECT = COMPRESSED_FILE
  FILE_NAME = "H2286_0010_GR3.JP2"
  RECORD_TYPE = UNDEFINED
  FILE_RECORDS = UNK
  ENCODING_TYPE = "JP2"
  INTERCHANGE_FORMAT = BINARY
  UNCOMPRESSED_FILE_NAME = "H2286_0010_GR3.IMG"
  REQUIRED_STORAGE_BYTES = "4386886"
  ^DESCRIPTION = "JP2INFO.TXT"
END_OBJECT = COMPRESSED_FILE
END
