PDS_VERSION_ID = PDS3
/* FILE DATA ELEMENTS */
RECORD_TYPE = STREAM
/* POINTERS TO DATA OBJECTS */
^COMPRESSED_FILE = "H2287_0000_P13.JP2"
/* IDENTIFICATION DATA ELEMENTS */
DATA_SET_ID = "MEX-M-HRSC-5-REFDR-MAPPROJECTED-V3.0"
DATA_SET_NAME = "MARS EXPRESS HRSC MAP PROJECTED REFDR V3.0"
DETECTOR_ID = MEX_HRSC_P1
EVENT_TYPE = "MARS-REGIONAL-MAPPING-Gl-Eo"
INSTRUMENT_HOST_ID = MEX
INSTRUMENT_HOST_NAME = "MARS EXPRESS"
INSTRUMENT_ID = HRSC
INSTRUMENT_NAME = "HIGH RESOLUTION STEREO CAMERA"
MISSION_NAME = "MARS EXPRESS"
MISSION_PHASE_NAME = MR_Phase_8
PROCESSING_LEVEL_ID = 3
PRODUCT_CREATION_TIME = 2016-03-14T22:12:55.000Z
PRODUCT_ID = "H2287_0000_P13.JP2"
RELEASE_ID = 0028
REVISION_ID = 0000
/* QUALITY DATA ELEMENTS */
DATA_QUALITY_ID = 1
DATA_QUALITY_DESC = "Data calculated based on original SPICE kernels"
/* TIME DATA ELEMENTS */
SPACECRAFT_CLOCK_START_COUNT = "1/0078286999.56198"
SPACECRAFT_CLOCK_STOP_COUNT = "1/0078287220.21751"
START_TIME = 2005-10-25T02:25:27.496Z
STOP_TIME = 2005-10-25T02:26:48.900Z
/* ORBITAL DATA ELEMENTS */
ASCENDING_NODE_LONGITUDE = 180.24
MAXIMUM_RESOLUTION = 43
FOOTPRINT_POINT_LATITUDE = (-83.8013,-83.7316,-83.6663,-83.5979, -83.5082,-83.3946,-83.3255,-83.2441, -83.1602,-83.0737,-82.9507,-82.8702, -82.854,-82.7301,-82.607,-82.5241, -82.4406,-82.3564,-82.2714,-82.1452, -82.0602,-81.9757,-81.891,-81.8052, -81.7217,-81.6368,-81.5511,-81.4641, -81.3766,-81.2887,-81.2032,-81.118, -81.033,-80.9469,-80.8604,-80.7733, -80.6423,-80.5128,-80.341,-80.2538, -80.0816,-79.9084,-79.6907,-79.5189, -79.3025,-79.1285,-78.9562,-78.8272, -78.6115,-78.5972,-78.6394,-78.7036, -78.7651,-78.8134,-78.8443,-78.8787, -78.9315,-78.9592,-78.9943,-79.0195, -79.0727,-79.258,-79.443,-79.5812, -79.7207,-79.9082,-80.0953,-80.2821, -80.5663,-80.7556,-80.8973,-80.993, -81.0893,-81.1853,-81.2812,-81.3769, -81.4725,-81.5689,-81.6659,-81.7628, -81.9078,-82.0045,-82.1015,-82.1997, -82.2976,-82.3955,-82.4928,-82.6386, -82.7367,-82.8354,-82.9347,-83.0332, -83.1309,-83.229,-83.3284,-83.427, -83.5263,-83.6732,-83.7717,-83.8013)
FOOTPRINT_POINT_LONGITUDE = (26.2913,24.788,23.4809,22.2014,20.6394 ,18.8223,17.7912,16.6385,15.5138, 14.4149,12.9454,12.0365,10.9604,11.76, 12.5173,13.009,13.4907,13.9626,14.43, 15.0948,15.5295,15.9432,16.3447,16.7456 ,17.1179,17.4936,17.8658,18.2383, 18.6045,18.9642,19.2987,19.6206,19.9326 ,20.2453,20.5519,20.8573,21.3115, 21.7355,22.2706,22.5374,23.049,23.5439, 24.1387,24.5874,25.1306,25.5495,25.9504 ,26.2409,26.7087,27.5121,28.1054, 29.0454,29.9928,30.7758,31.302,31.9195, 32.8975,33.4343,34.1542,34.6972,35.9146 ,35.7234,35.5255,35.3722,35.2137, 34.9928,34.7635,34.5256,34.1445,33.8768 ,33.6688,33.524,33.3762,33.225,33.0705, 32.9126,32.7512,32.5843,32.4121,32.236, 31.9638,31.7771,31.5854,31.3859,31.1813 ,30.9716,30.756,30.4223,30.1887,29.9485 ,29.7023,29.4487,29.1874,28.9192, 28.6382,28.3482,28.0502,27.5847,27.2611 ,26.2913)
ORBIT_NUMBER = 2287
ORBITAL_ECCENTRICITY = 0.573
ORBITAL_INCLINATION = 86.63
ORBITAL_SEMIMAJOR_AXIS = 8579.16
PERIAPSIS_ALTITUDE = 277.85
PERIAPSIS_ARGUMENT_ANGLE = 316.15
PERIAPSIS_TIME = 2005-10-25T02:35:31.000Z
SPACECRAFT_ORIENTATION = (0.0,1.0,0.0)
^MEX_ORIENTATION_DESC = "MEX_ORIENTATION_DESC.TXT"
SPACECRAFT_POINTING_MODE = NADIR
^MEX_POINTING_DESC = "MEX_POINTING_DESC.TXT"
RIGHT_ASCENSION = -1e+32
DECLINATION = -1e+32
OFFSET_ANGLE = -1e+32
SPACECRAFT_SOLAR_DISTANCE = 2.16212e+08
TARGET_NAME = MARS
/* CAMERA DATA ELEMENTS */
DETECTOR_TEMPERATURE = 17.351
FOCAL_PLANE_TEMPERATURE = 7.5638
INST_CMPRS_NAME = "DISCRETE COSINE TRANSFORMATION (DCT)"
INST_CMPRS_RATIO = 13.4926
INST_CMPRS_QUALITY = 0
INST_CMPRS_QUANTZ_TBL_ID = 0
INSTRUMENT_TEMPERATURE = 11.0301
LENS_TEMPERATURE = 8.3794
MACROPIXEL_SIZE = 2
MISSING_FRAMES = 0
PIXEL_SUBSAMPLING_FLAG = N
SIGNAL_CHAIN_ID = 3
/* RADIOMETRIC DATA ELEMENTS */
BANDWIDTH = 174.0
CENTER_FILTER_WAVELENGTH = 675.0
RADIANCE_OFFSET = 2.04245
RADIANCE_SCALING_FACTOR = 0.0389558
REFLECTANCE_SCALING_FACTOR = 0.000979524
MEX:REFLECTANCE_OFFSET = 0.0513564
/* IMAGE OBJECT DEFINITIONS */
OBJECT = IMAGE
  INTERCHANGE_FORMAT = BINARY
  LINES = 6379
  LINE_SAMPLES = 4433
  SAMPLE_TYPE = UNSIGNED_INTEGER
  SAMPLE_BITS = 8
  BANDS = 1
  BAND_STORAGE_TYPE = BAND_SEQUENTIAL
  MAXIMUM = 273
  MEAN = 107.678
  MINIMUM = 40
  STANDARD_DEVIATION = 11.0761
END_OBJECT = IMAGE
/* MAP OBJECT DEFINITIONS */
OBJECT = IMAGE_MAP_PROJECTION
  ^DATA_SET_MAP_PROJECTION_CATALOG= "DSMAP.CAT"
  A_AXIS_RADIUS = 3396.0
  B_AXIS_RADIUS = 3396.0
  C_AXIS_RADIUS = 3396.0
  CENTER_LATITUDE = 0.0
  CENTER_LONGITUDE = 27.0
  COORDINATE_SYSTEM_NAME = PLANETOGRAPHIC
  COORDINATE_SYSTEM_TYPE = "BODY-FIXED ROTATING"
  EASTERNMOST_LONGITUDE = 35.9146
  FIRST_STANDARD_PARALLEL = "N/A"
  LINE_FIRST_PIXEL = 1
  LINE_LAST_PIXEL = 6379
  LINE_PROJECTION_OFFSET = -93118.75
  MAP_PROJECTION_ROTATION = 0.0
  MAP_PROJECTION_TYPE = SINUSOIDAL
  MAP_RESOLUTION = 1185.42760773333
  MAP_SCALE = 0.05
  MAXIMUM_LATITUDE = -78.5972
  MINIMUM_LATITUDE = -83.8013
  POSITIVE_LONGITUDE_DIRECTION = EAST
  REFERENCE_LATITUDE = "N/A"
  REFERENCE_LONGITUDE = "N/A"
  SAMPLE_FIRST_PIXEL = 1
  SAMPLE_LAST_PIXEL = 4433
  SAMPLE_PROJECTION_OFFSET = 2423.75
  SECOND_STANDARD_PARALLEL = "N/A"
  WESTERNMOST_LONGITUDE = 10.9604
END_OBJECT = IMAGE_MAP_PROJECTION
/* The JPEG2000 image data file associated with this label. */
OBJECT = COMPRESSED_FILE
  FILE_NAME = "H2287_0000_P13.JP2"
  RECORD_TYPE = UNDEFINED
  FILE_RECORDS = UNK
  ENCODING_TYPE = "JP2"
  INTERCHANGE_FORMAT = BINARY
  UNCOMPRESSED_FILE_NAME = "H2287_0000_P13.IMG"
  REQUIRED_STORAGE_BYTES = "28304705"
  ^DESCRIPTION = "JP2INFO.TXT"
END_OBJECT = COMPRESSED_FILE
END
