PDS_VERSION_ID = PDS3
/* FILE DATA ELEMENTS */
RECORD_TYPE = STREAM
/* POINTERS TO DATA OBJECTS */
^COMPRESSED_FILE = "H2287_0001_S23.JP2"
/* IDENTIFICATION DATA ELEMENTS */
DATA_SET_ID = "MEX-M-HRSC-5-REFDR-MAPPROJECTED-V3.0"
DATA_SET_NAME = "MARS EXPRESS HRSC MAP PROJECTED REFDR V3.0"
DETECTOR_ID = MEX_HRSC_S2
EVENT_TYPE = "MARS-REGIONAL-MAPPING-Vo-Im"
INSTRUMENT_HOST_ID = MEX
INSTRUMENT_HOST_NAME = "MARS EXPRESS"
INSTRUMENT_ID = HRSC
INSTRUMENT_NAME = "HIGH RESOLUTION STEREO CAMERA"
MISSION_NAME = "MARS EXPRESS"
MISSION_PHASE_NAME = MR_Phase_8
PROCESSING_LEVEL_ID = 3
PRODUCT_CREATION_TIME = 2016-03-14T22:12:55.000Z
PRODUCT_ID = "H2287_0001_S23.JP2"
RELEASE_ID = 0028
REVISION_ID = 0000
/* QUALITY DATA ELEMENTS */
DATA_QUALITY_ID = 1
DATA_QUALITY_DESC = "Data calculated based on original SPICE kernels"
/* TIME DATA ELEMENTS */
SPACECRAFT_CLOCK_START_COUNT = "1/0078287349.57296"
SPACECRAFT_CLOCK_STOP_COUNT = "1/0078287690.40625"
START_TIME = 2005-10-25T02:29:16.894Z
STOP_TIME = 2005-10-25T02:34:06.133Z
/* ORBITAL DATA ELEMENTS */
ASCENDING_NODE_LONGITUDE = 180.24
MAXIMUM_RESOLUTION = 24.2
FOOTPRINT_POINT_LATITUDE = (-65.8823,-65.8408,-65.8099,-65.7536, -65.6195,-65.2646,-64.9114,-64.5541, -64.1979,-63.8371,-63.2903,-62.9261, -62.5603,-62.1906,-61.8246,-61.2681, -60.8971,-60.5245,-60.151,-59.7764, -59.401,-59.0244,-58.6469,-58.0779, -57.7011,-57.3315,-56.9615,-56.5897, -56.0434,-55.6819,-55.3195,-54.9569, -54.5987,-54.2466,-53.7182,-53.3635, -52.8318,-52.4882,-51.9709,-51.6263, -51.2821,-50.9403,-50.5953,-50.257, -49.925,-49.5885,-49.2478,-48.914, -48.5794,-48.2415,-47.7232,-47.7358, -47.7556,-48.1019,-48.4409,-48.7694, -49.1069,-49.446,-49.7806,-50.1134, -50.4486,-50.966,-51.312,-51.6607, -52.1794,-52.5246,-53.0474,-53.4031, -53.7586,-54.1131,-54.4675,-54.8211, -55.1865,-55.733,-56.0962,-56.459, -56.8327,-57.206,-57.5785,-57.9504, -58.3338,-58.7154,-59.096,-59.4759, -59.8554,-60.2331,-60.6095,-60.9854, -61.3601,-61.7339,-62.2868,-62.8438, -63.219,-63.5866,-63.9501,-64.4989, -64.8653,-65.2257,-65.5865,-65.8823)
FOOTPRINT_POINT_LONGITUDE = (41.8772,40.8658,40.2152,39.1791, 38.4904,38.631,38.7685,38.901,39.0304, 39.1548,39.3334,39.4488,39.5607,39.6684 ,39.7748,39.9267,40.0249,40.1201, 40.2127,40.3027,40.3903,40.4753,40.5581 ,40.6776,40.7531,40.8254,40.8959, 40.9643,41.0615,41.1233,41.1834,41.2422 ,41.2987,41.3524,41.4309,41.481,41.5542 ,41.5996,41.6653,41.7081,41.7503, 41.7924,41.8327,41.8701,41.9074,41.9425 ,41.9754,42.0101,42.0438,42.0757, 42.3288,42.8895,43.6176,43.5973,43.5803 ,43.5682,43.5509,43.5321,43.5151, 43.4986,43.4801,43.4506,43.4309,43.4089 ,43.377,43.3551,43.3204,43.2969,43.2726 ,43.248,43.2225,43.1966,43.1691,43.1269 ,43.0981,43.0683,43.0368,43.0048, 42.9719,42.9382,42.9023,42.8662,42.8291 ,42.7909,42.7512,42.7111,42.6702, 42.6278,42.5844,42.5398,42.4753,42.4027 ,42.3482,42.2978,42.2488,42.1673, 42.1093,42.0543,41.9962,41.8772)
ORBIT_NUMBER = 2287
ORBITAL_ECCENTRICITY = 0.573
ORBITAL_INCLINATION = 86.63
ORBITAL_SEMIMAJOR_AXIS = 8579.16
PERIAPSIS_ALTITUDE = 277.85
PERIAPSIS_ARGUMENT_ANGLE = 316.15
PERIAPSIS_TIME = 2005-10-25T02:35:31.000Z
SPACECRAFT_ORIENTATION = (0.0,1.0,0.0)
^MEX_ORIENTATION_DESC = "MEX_ORIENTATION_DESC.TXT"
SPACECRAFT_POINTING_MODE = NADIR
^MEX_POINTING_DESC = "MEX_POINTING_DESC.TXT"
RIGHT_ASCENSION = -1e+32
DECLINATION = -1e+32
OFFSET_ANGLE = -1e+32
SPACECRAFT_SOLAR_DISTANCE = 2.16212e+08
TARGET_NAME = MARS
/* CAMERA DATA ELEMENTS */
DETECTOR_TEMPERATURE = 19.7978
FOCAL_PLANE_TEMPERATURE = 7.9716
INST_CMPRS_NAME = "DISCRETE COSINE TRANSFORMATION (DCT)"
INST_CMPRS_RATIO = 11.7668
INST_CMPRS_QUALITY = 0
INST_CMPRS_QUANTZ_TBL_ID = 0
INSTRUMENT_TEMPERATURE = 12.2535
LENS_TEMPERATURE = 8.5833
MACROPIXEL_SIZE = 2
MISSING_FRAMES = 0
PIXEL_SUBSAMPLING_FLAG = N
SIGNAL_CHAIN_ID = 1
/* RADIOMETRIC DATA ELEMENTS */
BANDWIDTH = 178.0
CENTER_FILTER_WAVELENGTH = 679.0
RADIANCE_OFFSET = 3.78054
RADIANCE_SCALING_FACTOR = 0.023721
REFLECTANCE_SCALING_FACTOR = 0.00058725
MEX:REFLECTANCE_OFFSET = 0.0935929
/* IMAGE OBJECT DEFINITIONS */
OBJECT = IMAGE
  INTERCHANGE_FORMAT = BINARY
  LINES = 42825
  LINE_SAMPLES = 5895
  SAMPLE_TYPE = UNSIGNED_INTEGER
  SAMPLE_BITS = 8
  BANDS = 1
  BAND_STORAGE_TYPE = BAND_SEQUENTIAL
  MAXIMUM = 148
  MEAN = 108.171
  MINIMUM = 50
  STANDARD_DEVIATION = 11.1257
END_OBJECT = IMAGE
/* MAP OBJECT DEFINITIONS */
OBJECT = IMAGE_MAP_PROJECTION
  ^DATA_SET_MAP_PROJECTION_CATALOG= "DSMAP.CAT"
  A_AXIS_RADIUS = 3396.0
  B_AXIS_RADIUS = 3396.0
  C_AXIS_RADIUS = 3396.0
  CENTER_LATITUDE = 0.0
  CENTER_LONGITUDE = 42.0
  COORDINATE_SYSTEM_NAME = PLANETOGRAPHIC
  COORDINATE_SYSTEM_TYPE = "BODY-FIXED ROTATING"
  EASTERNMOST_LONGITUDE = 43.6176
  FIRST_STANDARD_PARALLEL = "N/A"
  LINE_FIRST_PIXEL = 1
  LINE_LAST_PIXEL = 42825
  LINE_PROJECTION_OFFSET = -113097.75
  MAP_PROJECTION_ROTATION = 0.0
  MAP_PROJECTION_TYPE = SINUSOIDAL
  MAP_RESOLUTION = 2370.85521546667
  MAP_SCALE = 0.025
  MAXIMUM_LATITUDE = -47.7232
  MINIMUM_LATITUDE = -65.8823
  POSITIVE_LONGITUDE_DIRECTION = EAST
  REFERENCE_LATITUDE = "N/A"
  REFERENCE_LONGITUDE = "N/A"
  SAMPLE_FIRST_PIXEL = 1
  SAMPLE_LAST_PIXEL = 5895
  SAMPLE_PROJECTION_OFFSET = 3328.25
  SECOND_STANDARD_PARALLEL = "N/A"
  WESTERNMOST_LONGITUDE = 38.4904
END_OBJECT = IMAGE_MAP_PROJECTION
/* The JPEG2000 image data file associated with this label. */
OBJECT = COMPRESSED_FILE
  FILE_NAME = "H2287_0001_S23.JP2"
  RECORD_TYPE = UNDEFINED
  FILE_RECORDS = UNK
  ENCODING_TYPE = "JP2"
  INTERCHANGE_FORMAT = BINARY
  UNCOMPRESSED_FILE_NAME = "H2287_0001_S23.IMG"
  REQUIRED_STORAGE_BYTES = "252482850"
  ^DESCRIPTION = "JP2INFO.TXT"
END_OBJECT = COMPRESSED_FILE
END
