PDS_VERSION_ID = PDS3
/* FILE DATA ELEMENTS */
RECORD_TYPE = STREAM
/* POINTERS TO DATA OBJECTS */
^COMPRESSED_FILE = "H2287_0006_SR3.JP2"
/* IDENTIFICATION DATA ELEMENTS */
DATA_SET_ID = "MEX-M-HRSC-5-REFDR-MAPPROJECTED-V3.0"
DATA_SET_NAME = "MARS EXPRESS HRSC MAP PROJECTED REFDR V3.0"
DETECTOR_ID = MEX_HRSC_SRC
EVENT_TYPE = "MARS-REGIONAL-MAPPING-Vo-Im"
INSTRUMENT_HOST_ID = MEX
INSTRUMENT_HOST_NAME = "MARS EXPRESS"
INSTRUMENT_ID = HRSC
INSTRUMENT_NAME = "HIGH RESOLUTION STEREO CAMERA"
MISSION_NAME = "MARS EXPRESS"
MISSION_PHASE_NAME = MR_Phase_8
PROCESSING_LEVEL_ID = 3
PRODUCT_CREATION_TIME = 2016-03-14T22:12:55.000Z
PRODUCT_ID = "H2287_0006_SR3.JP2"
RELEASE_ID = 0028
REVISION_ID = 0000
/* QUALITY DATA ELEMENTS */
DATA_QUALITY_ID = 1
DATA_QUALITY_DESC = "Data calculated based on original SPICE kernels"
/* TIME DATA ELEMENTS */
SPACECRAFT_CLOCK_START_COUNT = "1/0078287349.57296"
SPACECRAFT_CLOCK_STOP_COUNT = "1/0078287690.40625"
IMAGE_TIME = 2005-10-25T02:30:47.350Z
START_TIME = 2005-10-25T02:30:47.347Z
STOP_TIME = 2005-10-25T02:30:47.352Z
/* ORBITAL DATA ELEMENTS */
ASCENDING_NODE_LONGITUDE = 180.24
MAXIMUM_RESOLUTION = 3.23
FOOTPRINT_POINT_LATITUDE = (-62.447,-62.4448,-62.4424,-62.4409, -62.4387,-62.4372,-62.4352,-62.4332, -62.4303,-62.4284,-62.4257,-62.4238, -62.4209,-62.4176,-62.4154,-62.4121, -62.41,-62.4083,-62.4065,-62.4037, -62.4013,-62.3998,-62.3973,-62.3953, -62.3949,-62.3951,-62.3953,-62.3955, -62.3958,-62.396,-62.3962,-62.3964, -62.3967,-62.3969,-62.3971,-62.3973, -62.3975,-62.3977,-62.3979,-62.3981, -62.3984,-62.3985,-62.3987,-62.3989, -62.3991,-62.3994,-62.3995,-62.3997, -62.3999,-62.4017,-62.4045,-62.4062, -62.4089,-62.4109,-62.4128,-62.4144, -62.4163,-62.4178,-62.42,-62.4216, -62.424,-62.4273,-62.4297,-62.4322, -62.4346,-62.4374,-62.4398,-62.4416, -62.444,-62.4466,-62.4484,-62.4511, -62.454,-62.4546,-62.4545,-62.4543, -62.4541,-62.4539,-62.4537,-62.4535, -62.4533,-62.4531,-62.4529,-62.4526, -62.4524,-62.4522,-62.452,-62.4519, -62.4517,-62.4515,-62.4513,-62.4512, -62.451,-62.4507,-62.4504,-62.4502, -62.4501,-62.4498,-62.4495,-62.447)
FOOTPRINT_POINT_LONGITUDE = (40.9679,40.9684,40.9689,40.9692, 40.9697,40.97,40.9704,40.9709,40.9715, 40.9719,40.9725,40.9729,40.9735,40.9742 ,40.9747,40.9753,40.9758,40.9762, 40.9765,40.9771,40.9776,40.978,40.9785, 40.9789,40.9851,40.9897,40.9944,40.9991 ,41.0038,41.0097,41.0144,41.0191, 41.0238,41.0285,41.0344,41.0379,41.0426 ,41.0473,41.052,41.0567,41.0614,41.0649 ,41.0696,41.0743,41.079,41.0837,41.0873 ,41.092,41.0967,41.0982,41.0976,41.0972 ,41.0967,41.0963,41.0959,41.0955, 41.0951,41.0948,41.0944,41.094,41.0935, 41.0928,41.0923,41.0918,41.0913,41.0907 ,41.0902,41.0899,41.0894,41.0888, 41.0884,41.0879,41.0873,41.0823,41.0787 ,41.074,41.0705,41.0658,41.0611,41.0575 ,41.0528,41.0493,41.0434,41.0375, 41.0328,41.0281,41.0246,41.0211,41.0175 ,41.0128,41.0093,41.0058,41.001,40.9963 ,40.9893,40.9846,40.981,40.9763,40.9693 ,40.9679)
ORBIT_NUMBER = 2287
ORBITAL_ECCENTRICITY = 0.573
ORBITAL_INCLINATION = 86.63
ORBITAL_SEMIMAJOR_AXIS = 8579.16
PERIAPSIS_ALTITUDE = 277.85
PERIAPSIS_ARGUMENT_ANGLE = 316.15
PERIAPSIS_TIME = 2005-10-25T02:35:31.000Z
SPACECRAFT_ORIENTATION = (0.0,1.0,0.0)
^MEX_ORIENTATION_DESC = "MEX_ORIENTATION_DESC.TXT"
SPACECRAFT_POINTING_MODE = NADIR
^MEX_POINTING_DESC = "MEX_POINTING_DESC.TXT"
RIGHT_ASCENSION = -1e+32
DECLINATION = -1e+32
OFFSET_ANGLE = -1e+32
SPACECRAFT_SOLAR_DISTANCE = 2.16212e+08
TARGET_NAME = MARS
/* CAMERA DATA ELEMENTS */
BUFFER_MODE_ID = BUFFER_8
EXPOSURE_DURATION = 5.04
INST_CMPRS_NAME = NONE
INST_CMPRS_RATIO = 1.0
INST_CMPRS_QUALITY = -2147483648
INST_CMPRS_QUANTZ_TBL_ID = -2147483648
INSTRUMENT_TEMPERATURE = 8.18182
MISSING_FRAMES = 0
START_BIT = 0
/* RADIOMETRIC DATA ELEMENTS */
BANDWIDTH = 250.0
CENTER_FILTER_WAVELENGTH = 600.0
RADIANCE_OFFSET = -9.99e+31
RADIANCE_SCALING_FACTOR = -9.99e+31
REFLECTANCE_SCALING_FACTOR = -9.99e+31
MEX:REFLECTANCE_OFFSET = -9.99e+31
/* IMAGE OBJECT DEFINITIONS */
OBJECT = IMAGE
  INTERCHANGE_FORMAT = BINARY
  LINES = 1532
  LINE_SAMPLES = 1544
  SAMPLE_TYPE = UNSIGNED_INTEGER
  SAMPLE_BITS = 8
  BANDS = 1
  BAND_STORAGE_TYPE = BAND_SEQUENTIAL
  MAXIMUM = 6008
  MEAN = 5567.89
  MINIMUM = 4785
  STANDARD_DEVIATION = 93.5274
END_OBJECT = IMAGE
/* MAP OBJECT DEFINITIONS */
OBJECT = IMAGE_MAP_PROJECTION
  ^DATA_SET_MAP_PROJECTION_CATALOG= "DSMAP.CAT"
  A_AXIS_RADIUS = 3396.19
  B_AXIS_RADIUS = 3396.19
  C_AXIS_RADIUS = 3396.19
  CENTER_LATITUDE = 0.0
  CENTER_LONGITUDE = 41.0
  COORDINATE_SYSTEM_NAME = PLANETOGRAPHIC
  COORDINATE_SYSTEM_TYPE = "BODY-FIXED ROTATING"
  EASTERNMOST_LONGITUDE = 41.0982
  FIRST_STANDARD_PARALLEL = "N/A"
  LINE_FIRST_PIXEL = 1
  LINE_LAST_PIXEL = 1532
  LINE_PROJECTION_OFFSET = -1476607.0
  MAP_PROJECTION_ROTATION = 0.0
  MAP_PROJECTION_TYPE = SINUSOIDAL
  MAP_RESOLUTION = 23709.8786048756
  MAP_SCALE = 0.0025
  MAXIMUM_LATITUDE = -62.3949
  MINIMUM_LATITUDE = -62.4546
  POSITIVE_LONGITUDE_DIRECTION = EAST
  REFERENCE_LATITUDE = "N/A"
  REFERENCE_LONGITUDE = "N/A"
  SAMPLE_FIRST_PIXEL = 1
  SAMPLE_LAST_PIXEL = 1544
  SAMPLE_PROJECTION_OFFSET = 405.0
  SECOND_STANDARD_PARALLEL = "N/A"
  WESTERNMOST_LONGITUDE = 40.9679
END_OBJECT = IMAGE_MAP_PROJECTION
/* The JPEG2000 image data file associated with this label. */
OBJECT = COMPRESSED_FILE
  FILE_NAME = "H2287_0006_SR3.JP2"
  RECORD_TYPE = UNDEFINED
  FILE_RECORDS = UNK
  ENCODING_TYPE = "JP2"
  INTERCHANGE_FORMAT = BINARY
  UNCOMPRESSED_FILE_NAME = "H2287_0006_SR3.IMG"
  REQUIRED_STORAGE_BYTES = "2385480"
  ^DESCRIPTION = "JP2INFO.TXT"
END_OBJECT = COMPRESSED_FILE
END
