PDS_VERSION_ID = PDS3
/* FILE DATA ELEMENTS */
RECORD_TYPE = STREAM
/* POINTERS TO DATA OBJECTS */
^COMPRESSED_FILE = "H2287_0009_SR3.JP2"
/* IDENTIFICATION DATA ELEMENTS */
DATA_SET_ID = "MEX-M-HRSC-5-REFDR-MAPPROJECTED-V3.0"
DATA_SET_NAME = "MARS EXPRESS HRSC MAP PROJECTED REFDR V3.0"
DETECTOR_ID = MEX_HRSC_SRC
EVENT_TYPE = "MARS-REGIONAL-MAPPING-Vo-Im"
INSTRUMENT_HOST_ID = MEX
INSTRUMENT_HOST_NAME = "MARS EXPRESS"
INSTRUMENT_ID = HRSC
INSTRUMENT_NAME = "HIGH RESOLUTION STEREO CAMERA"
MISSION_NAME = "MARS EXPRESS"
MISSION_PHASE_NAME = MR_Phase_8
PROCESSING_LEVEL_ID = 3
PRODUCT_CREATION_TIME = 2016-03-14T22:12:55.000Z
PRODUCT_ID = "H2287_0009_SR3.JP2"
RELEASE_ID = 0028
REVISION_ID = 0000
/* QUALITY DATA ELEMENTS */
DATA_QUALITY_ID = 1
DATA_QUALITY_DESC = "Data calculated based on original SPICE kernels"
/* TIME DATA ELEMENTS */
SPACECRAFT_CLOCK_START_COUNT = "1/0078287349.57296"
SPACECRAFT_CLOCK_STOP_COUNT = "1/0078287690.40625"
IMAGE_TIME = 2005-10-25T02:30:48.985Z
START_TIME = 2005-10-25T02:30:48.982Z
STOP_TIME = 2005-10-25T02:30:48.987Z
/* ORBITAL DATA ELEMENTS */
ASCENDING_NODE_LONGITUDE = 180.24
MAXIMUM_RESOLUTION = 3.222
FOOTPRINT_POINT_LATITUDE = (-62.3445,-62.3415,-62.3382,-62.3353, -62.3322,-62.3299,-62.3277,-62.3253, -62.3221,-62.3207,-62.3178,-62.3161, -62.3146,-62.3125,-62.3108,-62.3083, -62.3067,-62.3044,-62.3016,-62.2997, -62.2967,-62.2945,-62.2917,-62.2902, -62.2904,-62.2906,-62.2909,-62.2911, -62.2913,-62.2915,-62.2917,-62.292, -62.2922,-62.2924,-62.2926,-62.2928, -62.293,-62.2932,-62.2934,-62.2936, -62.2939,-62.2941,-62.2943,-62.2945, -62.2947,-62.2949,-62.2952,-62.2954, -62.2963,-62.2987,-62.3014,-62.303, -62.3056,-62.3073,-62.3088,-62.3105, -62.3122,-62.3149,-62.3178,-62.3203, -62.3221,-62.3247,-62.3262,-62.328, -62.3296,-62.3317,-62.3334,-62.3352, -62.3366,-62.3382,-62.3409,-62.3434, -62.3452,-62.3475,-62.3491,-62.3501, -62.3499,-62.3497,-62.3494,-62.3492, -62.349,-62.3488,-62.3486,-62.3484, -62.3482,-62.348,-62.3478,-62.3476, -62.3474,-62.3471,-62.3469,-62.3467, -62.3465,-62.3462,-62.3461,-62.3459, -62.3456,-62.3453,-62.345,-62.3445)
FOOTPRINT_POINT_LONGITUDE = (40.99,40.9906,40.9913,40.9919,40.9926, 40.993,40.9935,40.994,40.9947,40.995, 40.9956,40.9959,40.9963,40.9967,40.9971 ,40.9976,40.9979,40.9984,40.999,40.9994 ,41.0,41.0005,41.0011,41.0015,41.0062, 41.0109,41.0167,41.0214,41.026,41.0307, 41.0354,41.0401,41.0447,41.0494,41.0541 ,41.0588,41.0634,41.0669,41.0716, 41.0774,41.0821,41.0868,41.0915,41.0961 ,41.1008,41.1055,41.1113,41.116,41.12, 41.1196,41.119,41.1187,41.1181,41.1178, 41.1175,41.1171,41.1168,41.1162,41.1156 ,41.1151,41.1147,41.1142,41.1139, 41.1135,41.1132,41.1127,41.1124,41.112, 41.1117,41.1114,41.1108,41.1103,41.1099 ,41.1095,41.1091,41.1064,41.1017, 41.0959,41.09,41.0854,41.0807,41.0772, 41.0725,41.0678,41.0631,41.0584,41.0549 ,41.0502,41.0456,41.0397,41.035,41.0292 ,41.0245,41.0198,41.0163,41.0116, 41.0046,40.9999,40.9929,40.99)
ORBIT_NUMBER = 2287
ORBITAL_ECCENTRICITY = 0.573
ORBITAL_INCLINATION = 86.63
ORBITAL_SEMIMAJOR_AXIS = 8579.16
PERIAPSIS_ALTITUDE = 277.85
PERIAPSIS_ARGUMENT_ANGLE = 316.15
PERIAPSIS_TIME = 2005-10-25T02:35:31.000Z
SPACECRAFT_ORIENTATION = (0.0,1.0,0.0)
^MEX_ORIENTATION_DESC = "MEX_ORIENTATION_DESC.TXT"
SPACECRAFT_POINTING_MODE = NADIR
^MEX_POINTING_DESC = "MEX_POINTING_DESC.TXT"
RIGHT_ASCENSION = -1e+32
DECLINATION = -1e+32
OFFSET_ANGLE = -1e+32
SPACECRAFT_SOLAR_DISTANCE = 2.16212e+08
TARGET_NAME = MARS
/* CAMERA DATA ELEMENTS */
BUFFER_MODE_ID = BUFFER_8
EXPOSURE_DURATION = 5.04
INST_CMPRS_NAME = NONE
INST_CMPRS_RATIO = 1.0
INST_CMPRS_QUALITY = -2147483648
INST_CMPRS_QUANTZ_TBL_ID = -2147483648
INSTRUMENT_TEMPERATURE = 8.18182
MISSING_FRAMES = 0
START_BIT = 0
/* RADIOMETRIC DATA ELEMENTS */
BANDWIDTH = 250.0
CENTER_FILTER_WAVELENGTH = 600.0
RADIANCE_OFFSET = -9.99e+31
RADIANCE_SCALING_FACTOR = -9.99e+31
REFLECTANCE_SCALING_FACTOR = -9.99e+31
MEX:REFLECTANCE_OFFSET = -9.99e+31
/* IMAGE OBJECT DEFINITIONS */
OBJECT = IMAGE
  INTERCHANGE_FORMAT = BINARY
  LINES = 1527
  LINE_SAMPLES = 1540
  SAMPLE_TYPE = UNSIGNED_INTEGER
  SAMPLE_BITS = 8
  BANDS = 1
  BAND_STORAGE_TYPE = BAND_SEQUENTIAL
  MAXIMUM = 5872
  MEAN = 5329.33
  MINIMUM = 4474
  STANDARD_DEVIATION = 141.516
END_OBJECT = IMAGE
/* MAP OBJECT DEFINITIONS */
OBJECT = IMAGE_MAP_PROJECTION
  ^DATA_SET_MAP_PROJECTION_CATALOG= "DSMAP.CAT"
  A_AXIS_RADIUS = 3396.19
  B_AXIS_RADIUS = 3396.19
  C_AXIS_RADIUS = 3396.19
  CENTER_LATITUDE = 0.0
  CENTER_LONGITUDE = 41.0
  COORDINATE_SYSTEM_NAME = PLANETOGRAPHIC
  COORDINATE_SYSTEM_TYPE = "BODY-FIXED ROTATING"
  EASTERNMOST_LONGITUDE = 41.12
  FIRST_STANDARD_PARALLEL = "N/A"
  LINE_FIRST_PIXEL = 1
  LINE_LAST_PIXEL = 1527
  LINE_PROJECTION_OFFSET = -1474143.0
  MAP_PROJECTION_ROTATION = 0.0
  MAP_PROJECTION_TYPE = SINUSOIDAL
  MAP_RESOLUTION = 23709.8786048756
  MAP_SCALE = 0.0025
  MAXIMUM_LATITUDE = -62.2902
  MINIMUM_LATITUDE = -62.3501
  POSITIVE_LONGITUDE_DIRECTION = EAST
  REFERENCE_LATITUDE = "N/A"
  REFERENCE_LONGITUDE = "N/A"
  SAMPLE_FIRST_PIXEL = 1
  SAMPLE_LAST_PIXEL = 1540
  SAMPLE_PROJECTION_OFFSET = 160.0
  SECOND_STANDARD_PARALLEL = "N/A"
  WESTERNMOST_LONGITUDE = 40.99
END_OBJECT = IMAGE_MAP_PROJECTION
/* The JPEG2000 image data file associated with this label. */
OBJECT = COMPRESSED_FILE
  FILE_NAME = "H2287_0009_SR3.JP2"
  RECORD_TYPE = UNDEFINED
  FILE_RECORDS = UNK
  ENCODING_TYPE = "JP2"
  INTERCHANGE_FORMAT = BINARY
  UNCOMPRESSED_FILE_NAME = "H2287_0009_SR3.IMG"
  REQUIRED_STORAGE_BYTES = "2371600"
  ^DESCRIPTION = "JP2INFO.TXT"
END_OBJECT = COMPRESSED_FILE
END
