PDS_VERSION_ID = PDS3
/* FILE DATA ELEMENTS */
RECORD_TYPE = STREAM
/* POINTERS TO DATA OBJECTS */
^COMPRESSED_FILE = "H2288_0000_P23.JP2"
/* IDENTIFICATION DATA ELEMENTS */
DATA_SET_ID = "MEX-M-HRSC-5-REFDR-MAPPROJECTED-V3.0"
DATA_SET_NAME = "MARS EXPRESS HRSC MAP PROJECTED REFDR V3.0"
DETECTOR_ID = MEX_HRSC_P2
EVENT_TYPE = "MARS-REGIONAL-MAPPING-Gl-Pf"
INSTRUMENT_HOST_ID = MEX
INSTRUMENT_HOST_NAME = "MARS EXPRESS"
INSTRUMENT_ID = HRSC
INSTRUMENT_NAME = "HIGH RESOLUTION STEREO CAMERA"
MISSION_NAME = "MARS EXPRESS"
MISSION_PHASE_NAME = MR_Phase_8
PROCESSING_LEVEL_ID = 3
PRODUCT_CREATION_TIME = 2016-03-14T22:12:55.000Z
PRODUCT_ID = "H2288_0000_P23.JP2"
RELEASE_ID = 0028
REVISION_ID = 0000
/* QUALITY DATA ELEMENTS */
DATA_QUALITY_ID = 1
DATA_QUALITY_DESC = "Data calculated based on original SPICE kernels"
/* TIME DATA ELEMENTS */
SPACECRAFT_CLOCK_START_COUNT = "1/0078311151.56190"
SPACECRAFT_CLOCK_STOP_COUNT = "1/0078311628.23290"
START_TIME = 2005-10-25T09:06:31.580Z
STOP_TIME = 2005-10-25T09:12:57.018Z
/* ORBITAL DATA ELEMENTS */
ASCENDING_NODE_LONGITUDE = 180.22
MAXIMUM_RESOLUTION = 31.9
FOOTPRINT_POINT_LATITUDE = (-85.5318,-85.3613,-85.0712,-84.8184, -84.5499,-84.1219,-83.7651,-83.3872, -82.9942,-82.5881,-82.1715,-81.7501, -81.3235,-80.8952,-80.4626,-80.0301, -79.5963,-78.9442,-78.5164,-78.0896, -77.6626,-77.2375,-76.6068,-76.1899, -75.5658,-75.1542,-74.7447,-74.339, -73.9375,-73.5383,-73.1413,-72.7496, -72.3586,-71.9727,-71.3983,-71.0177, -70.6425,-70.2685,-69.8997,-69.531, -69.1669,-68.6233,-68.265,-67.9113, -67.5588,-67.2071,-66.8618,-66.3431, -66.0042,-65.6637,-65.3227,-64.9731, -64.626,-64.6553,-64.7047,-65.241, -65.5866,-65.9319,-66.2766,-66.6244, -66.9751,-67.3261,-67.8619,-68.2198, -68.5843,-68.9488,-69.3183,-69.6898, -70.2559,-70.8251,-71.2086,-71.597, -72.1853,-72.5819,-72.9829,-73.5911, -74.2076,-74.8333,-75.2543,-75.6813, -76.1133,-76.5467,-77.2075,-77.652, -78.1019,-78.7888,-79.248,-79.7102, -80.1807,-80.8971,-81.6248,-82.1129, -82.6061,-83.104,-83.6059,-84.1107, -84.617,-85.1232,-85.6306,-85.5318)
FOOTPRINT_POINT_LONGITUDE = (279.384,276.061,271.437,268.141, 265.169,262.169,266.023,269.402,272.361 ,274.969,277.274,279.311,281.123, 282.742,284.195,285.504,286.688,288.263 ,289.196,290.049,290.832,291.553, 292.533,293.126,293.937,294.431,294.893 ,295.325,295.729,296.109,296.466, 296.801,297.119,297.417,297.835,298.097 ,298.343,298.578,298.801,299.014, 299.215,299.501,299.681,299.853,300.017 ,300.175,300.324,300.54,300.674,300.805 ,300.932,301.052,301.17,302.648,303.876 ,304.279,304.228,304.176,304.121, 304.062,304.005,303.943,303.846,303.778 ,303.707,303.633,303.555,303.473,303.34 ,303.202,303.104,303.001,302.834, 302.715,302.589,302.384,302.159,301.912 ,301.733,301.541,301.331,301.112, 300.743,300.476,300.18,299.673,299.312, 298.922,298.47,297.682,296.738,296.017, 295.181,294.207,293.069,291.718,290.098 ,288.13,285.646,279.384)
ORBIT_NUMBER = 2288
ORBITAL_ECCENTRICITY = 0.573
ORBITAL_INCLINATION = 86.63
ORBITAL_SEMIMAJOR_AXIS = 8575.66
PERIAPSIS_ALTITUDE = 277.99
PERIAPSIS_ARGUMENT_ANGLE = 315.98
PERIAPSIS_TIME = 2005-10-25T09:18:37.000Z
SPACECRAFT_ORIENTATION = (0.0,1.0,0.0)
^MEX_ORIENTATION_DESC = "MEX_ORIENTATION_DESC.TXT"
SPACECRAFT_POINTING_MODE = ACROSSTRACK
^MEX_POINTING_DESC = "MEX_POINTING_DESC.TXT"
RIGHT_ASCENSION = -1e+32
DECLINATION = -1e+32
OFFSET_ANGLE = -0.21
SPACECRAFT_SOLAR_DISTANCE = 2.1626e+08
TARGET_NAME = MARS
/* CAMERA DATA ELEMENTS */
DETECTOR_TEMPERATURE = 18.7783
FOCAL_PLANE_TEMPERATURE = 7.7677
INST_CMPRS_NAME = "DISCRETE COSINE TRANSFORMATION (DCT)"
INST_CMPRS_RATIO = 7.27521
INST_CMPRS_QUALITY = 0
INST_CMPRS_QUANTZ_TBL_ID = 0
INSTRUMENT_TEMPERATURE = 11.0301
LENS_TEMPERATURE = 8.3794
MACROPIXEL_SIZE = 2
MISSING_FRAMES = 0
PIXEL_SUBSAMPLING_FLAG = N
SIGNAL_CHAIN_ID = 3
/* RADIOMETRIC DATA ELEMENTS */
BANDWIDTH = 177.0
CENTER_FILTER_WAVELENGTH = 676.5
RADIANCE_OFFSET = 3.05168
RADIANCE_SCALING_FACTOR = 0.0365158
REFLECTANCE_SCALING_FACTOR = 0.000905495
MEX:REFLECTANCE_OFFSET = 0.0756736
/* IMAGE OBJECT DEFINITIONS */
OBJECT = IMAGE
  INTERCHANGE_FORMAT = BINARY
  LINES = 49865
  LINE_SAMPLES = 13894
  SAMPLE_TYPE = UNSIGNED_INTEGER
  SAMPLE_BITS = 8
  BANDS = 1
  BAND_STORAGE_TYPE = BAND_SEQUENTIAL
  MAXIMUM = 328
  MEAN = 157.032
  MINIMUM = 70
  STANDARD_DEVIATION = 29.231
END_OBJECT = IMAGE
/* MAP OBJECT DEFINITIONS */
OBJECT = IMAGE_MAP_PROJECTION
  ^DATA_SET_MAP_PROJECTION_CATALOG= "DSMAP.CAT"
  A_AXIS_RADIUS = 3396.0
  B_AXIS_RADIUS = 3396.0
  C_AXIS_RADIUS = 3396.0
  CENTER_LATITUDE = 0.0
  CENTER_LONGITUDE = 299.0
  COORDINATE_SYSTEM_NAME = PLANETOGRAPHIC
  COORDINATE_SYSTEM_TYPE = "BODY-FIXED ROTATING"
  EASTERNMOST_LONGITUDE = 304.279
  FIRST_STANDARD_PARALLEL = "N/A"
  LINE_FIRST_PIXEL = 1
  LINE_LAST_PIXEL = 49865
  LINE_PROJECTION_OFFSET = -153103.75
  MAP_PROJECTION_ROTATION = 0.0
  MAP_PROJECTION_TYPE = SINUSOIDAL
  MAP_RESOLUTION = 2370.85521546667
  MAP_SCALE = 0.025
  MAXIMUM_LATITUDE = -64.626
  MINIMUM_LATITUDE = -85.6306
  POSITIVE_LONGITUDE_DIRECTION = EAST
  REFERENCE_LATITUDE = "N/A"
  REFERENCE_LONGITUDE = "N/A"
  SAMPLE_FIRST_PIXEL = 1
  SAMPLE_LAST_PIXEL = 13894
  SAMPLE_PROJECTION_OFFSET = 8601.25
  SECOND_STANDARD_PARALLEL = "N/A"
  WESTERNMOST_LONGITUDE = 262.169
END_OBJECT = IMAGE_MAP_PROJECTION
/* The JPEG2000 image data file associated with this label. */
OBJECT = COMPRESSED_FILE
  FILE_NAME = "H2288_0000_P23.JP2"
  RECORD_TYPE = UNDEFINED
  FILE_RECORDS = UNK
  ENCODING_TYPE = "JP2"
  INTERCHANGE_FORMAT = BINARY
  UNCOMPRESSED_FILE_NAME = "H2288_0000_P23.IMG"
  REQUIRED_STORAGE_BYTES = "692865992"
  ^DESCRIPTION = "JP2INFO.TXT"
END_OBJECT = COMPRESSED_FILE
END
