PDS_VERSION_ID = PDS3
/* FILE DATA ELEMENTS */
RECORD_TYPE = STREAM
/* POINTERS TO DATA OBJECTS */
^COMPRESSED_FILE = "H2292_0000_IR3.JP2"
/* IDENTIFICATION DATA ELEMENTS */
DATA_SET_ID = "MEX-M-HRSC-5-REFDR-MAPPROJECTED-V3.0"
DATA_SET_NAME = "MARS EXPRESS HRSC MAP PROJECTED REFDR V3.0"
DETECTOR_ID = MEX_HRSC_IR
EVENT_TYPE = "MARS-REGIONAL-MAPPING-Vo-Te-Im"
INSTRUMENT_HOST_ID = MEX
INSTRUMENT_HOST_NAME = "MARS EXPRESS"
INSTRUMENT_ID = HRSC
INSTRUMENT_NAME = "HIGH RESOLUTION STEREO CAMERA"
MISSION_NAME = "MARS EXPRESS"
MISSION_PHASE_NAME = MR_Phase_8
PROCESSING_LEVEL_ID = 3
PRODUCT_CREATION_TIME = 2016-03-14T22:12:55.000Z
PRODUCT_ID = "H2292_0000_IR3.JP2"
RELEASE_ID = 0028
REVISION_ID = 0000
/* QUALITY DATA ELEMENTS */
DATA_QUALITY_ID = 1
DATA_QUALITY_DESC = "Data calculated based on original SPICE kernels"
/* TIME DATA ELEMENTS */
SPACECRAFT_CLOCK_START_COUNT = "1/0078408406.57158"
SPACECRAFT_CLOCK_STOP_COUNT = "1/0078408616.15619"
START_TIME = 2005-10-26T12:06:59.108Z
STOP_TIME = 2005-10-26T12:09:36.047Z
/* ORBITAL DATA ELEMENTS */
ASCENDING_NODE_LONGITUDE = 180.14
MAXIMUM_RESOLUTION = 47
FOOTPRINT_POINT_LATITUDE = (-58.6087,-58.6186,-58.6277,-58.636, -58.6433,-58.6498,-58.6586,-58.491, -58.2744,-58.0584,-57.8415,-57.6259, -57.4159,-57.2058,-56.8901,-56.6793, -56.4676,-56.2572,-56.045,-55.8383, -55.6341,-55.429,-55.223,-55.0164, -54.7068,-54.5,-54.2932,-53.9832, -53.7836,-53.5836,-53.3837,-53.1834, -52.9831,-52.6829,-52.4822,-52.281, -51.9796,-51.7787,-51.4805,-51.1894, -50.9949,-50.7032,-50.4111,-50.2166, -50.0214,-49.8265,-49.5342,-49.3383, -49.1428,-48.9473,-48.7524,-48.4594, -48.4585,-48.4534,-48.4486,-48.7416, -49.0342,-49.2292,-49.5216,-49.7163, -49.9111,-50.1054,-50.3969,-50.5914, -50.8821,-51.0759,-51.2696,-51.56, -51.7602,-51.9606,-52.1613,-52.3622, -52.5624,-52.762,-53.0605,-53.26, -53.4598,-53.759,-53.9587,-54.1639, -54.4714,-54.6759,-54.8807,-55.0856, -55.2902,-55.4953,-55.7006,-55.9042, -56.1133,-56.3234,-56.5334,-56.7437, -56.9533,-57.267,-57.476,-57.7958, -58.0114,-58.226,-58.4414,-58.6087)
FOOTPRINT_POINT_LONGITUDE = (270.26,270.574,270.89,271.208,271.528, 271.85,272.398,272.496,272.512,272.526, 272.541,272.556,272.57,272.583,272.603, 272.616,272.63,272.641,272.655,272.667, 272.678,272.69,272.703,272.716,272.734, 272.747,272.759,272.776,272.787,272.798 ,272.808,272.818,272.829,272.843, 272.853,272.863,272.877,272.886,272.899 ,272.912,272.921,272.933,272.946, 272.953,272.962,272.969,272.98,272.988, 272.996,273.003,273.009,273.021,272.581 ,271.951,271.52,271.497,271.472,271.456 ,271.431,271.414,271.396,271.379, 271.352,271.333,271.305,271.286,271.267 ,271.237,271.216,271.195,271.174, 271.152,271.129,271.107,271.072,271.049 ,271.025,270.989,270.964,270.938, 270.898,270.871,270.844,270.816,270.787 ,270.758,270.729,270.699,270.668, 270.636,270.604,270.571,270.537,270.486 ,270.451,270.397,270.359,270.321, 270.282,270.26)
ORBIT_NUMBER = 2292
ORBITAL_ECCENTRICITY = 0.573
ORBITAL_INCLINATION = 86.63
ORBITAL_SEMIMAJOR_AXIS = 8577.92
PERIAPSIS_ALTITUDE = 277.48
PERIAPSIS_ARGUMENT_ANGLE = 315.25
PERIAPSIS_TIME = 2005-10-26T12:10:53.000Z
SPACECRAFT_ORIENTATION = (0.0,-1.0,0.0)
^MEX_ORIENTATION_DESC = "MEX_ORIENTATION_DESC.TXT"
SPACECRAFT_POINTING_MODE = ACROSSTRACK
^MEX_POINTING_DESC = "MEX_POINTING_DESC.TXT"
RIGHT_ASCENSION = -1e+32
DECLINATION = -1e+32
OFFSET_ANGLE = -0.45
SPACECRAFT_SOLAR_DISTANCE = 2.16453e+08
TARGET_NAME = MARS
/* CAMERA DATA ELEMENTS */
DETECTOR_TEMPERATURE = 17.351
FOCAL_PLANE_TEMPERATURE = 7.9716
INST_CMPRS_NAME = "DISCRETE COSINE TRANSFORMATION (DCT)"
INST_CMPRS_RATIO = 21.0698
INST_CMPRS_QUALITY = 0
INST_CMPRS_QUANTZ_TBL_ID = 0
INSTRUMENT_TEMPERATURE = 11.0301
LENS_TEMPERATURE = 8.5833
MACROPIXEL_SIZE = 4
MISSING_FRAMES = 0
PIXEL_SUBSAMPLING_FLAG = N
SIGNAL_CHAIN_ID = 2
/* RADIOMETRIC DATA ELEMENTS */
BANDWIDTH = 81.0
CENTER_FILTER_WAVELENGTH = 955.5
RADIANCE_OFFSET = 1.28289
RADIANCE_SCALING_FACTOR = 0.0024436
REFLECTANCE_SCALING_FACTOR = 0.000246993
MEX:REFLECTANCE_OFFSET = 0.129671
/* IMAGE OBJECT DEFINITIONS */
OBJECT = IMAGE
  INTERCHANGE_FORMAT = BINARY
  LINES = 12069
  LINE_SAMPLES = 1905
  SAMPLE_TYPE = UNSIGNED_INTEGER
  SAMPLE_BITS = 8
  BANDS = 1
  BAND_STORAGE_TYPE = BAND_SEQUENTIAL
  MAXIMUM = 121
  MEAN = 84.9387
  MINIMUM = 69
  STANDARD_DEVIATION = 5.67082
END_OBJECT = IMAGE
/* MAP OBJECT DEFINITIONS */
OBJECT = IMAGE_MAP_PROJECTION
  ^DATA_SET_MAP_PROJECTION_CATALOG= "DSMAP.CAT"
  A_AXIS_RADIUS = 3396.0
  B_AXIS_RADIUS = 3396.0
  C_AXIS_RADIUS = 3396.0
  CENTER_LATITUDE = 0.0
  CENTER_LONGITUDE = 272.0
  COORDINATE_SYSTEM_NAME = PLANETOGRAPHIC
  COORDINATE_SYSTEM_TYPE = "BODY-FIXED ROTATING"
  EASTERNMOST_LONGITUDE = 273.021
  FIRST_STANDARD_PARALLEL = "N/A"
  LINE_FIRST_PIXEL = 1
  LINE_LAST_PIXEL = 12069
  LINE_PROJECTION_OFFSET = -57395.125
  MAP_PROJECTION_ROTATION = 0.0
  MAP_PROJECTION_TYPE = SINUSOIDAL
  MAP_RESOLUTION = 1185.42760773333
  MAP_SCALE = 0.05
  MAXIMUM_LATITUDE = -48.4486
  MINIMUM_LATITUDE = -58.6586
  POSITIVE_LONGITUDE_DIRECTION = EAST
  REFERENCE_LATITUDE = "N/A"
  REFERENCE_LONGITUDE = "N/A"
  SAMPLE_FIRST_PIXEL = 1
  SAMPLE_LAST_PIXEL = 1905
  SAMPLE_PROJECTION_OFFSET = 1057.375
  SECOND_STANDARD_PARALLEL = "N/A"
  WESTERNMOST_LONGITUDE = 270.26
END_OBJECT = IMAGE_MAP_PROJECTION
/* The JPEG2000 image data file associated with this label. */
OBJECT = COMPRESSED_FILE
  FILE_NAME = "H2292_0000_IR3.JP2"
  RECORD_TYPE = UNDEFINED
  FILE_RECORDS = UNK
  ENCODING_TYPE = "JP2"
  INTERCHANGE_FORMAT = BINARY
  UNCOMPRESSED_FILE_NAME = "H2292_0000_IR3.IMG"
  REQUIRED_STORAGE_BYTES = "23010495"
  ^DESCRIPTION = "JP2INFO.TXT"
END_OBJECT = COMPRESSED_FILE
END
