PDS_VERSION_ID = PDS3
/* FILE DATA ELEMENTS */
RECORD_TYPE = STREAM
/* POINTERS TO DATA OBJECTS */
^COMPRESSED_FILE = "H2292_0000_P23.JP2"
/* IDENTIFICATION DATA ELEMENTS */
DATA_SET_ID = "MEX-M-HRSC-5-REFDR-MAPPROJECTED-V3.0"
DATA_SET_NAME = "MARS EXPRESS HRSC MAP PROJECTED REFDR V3.0"
DETECTOR_ID = MEX_HRSC_P2
EVENT_TYPE = "MARS-REGIONAL-MAPPING-Vo-Te-Im"
INSTRUMENT_HOST_ID = MEX
INSTRUMENT_HOST_NAME = "MARS EXPRESS"
INSTRUMENT_ID = HRSC
INSTRUMENT_NAME = "HIGH RESOLUTION STEREO CAMERA"
MISSION_NAME = "MARS EXPRESS"
MISSION_PHASE_NAME = MR_Phase_8
PROCESSING_LEVEL_ID = 3
PRODUCT_CREATION_TIME = 2016-03-14T22:12:55.000Z
PRODUCT_ID = "H2292_0000_P23.JP2"
RELEASE_ID = 0028
REVISION_ID = 0000
/* QUALITY DATA ELEMENTS */
DATA_QUALITY_ID = 1
DATA_QUALITY_DESC = "Data calculated based on original SPICE kernels"
/* TIME DATA ELEMENTS */
SPACECRAFT_CLOCK_START_COUNT = "1/0078408406.57158"
SPACECRAFT_CLOCK_STOP_COUNT = "1/0078408616.15619"
START_TIME = 2005-10-26T12:07:42.392Z
STOP_TIME = 2005-10-26T12:10:13.011Z
/* ORBITAL DATA ELEMENTS */
ASCENDING_NODE_LONGITUDE = 180.14
MAXIMUM_RESOLUTION = 45.8
FOOTPRINT_POINT_LATITUDE = (-58.4783,-58.5066,-58.5328,-58.5964, -58.3818,-58.1682,-57.9543,-57.7407, -57.5265,-57.3126,-57.0985,-56.7774, -56.4641,-56.2567,-56.0506,-55.8441, -55.6372,-55.4304,-55.1216,-54.9162, -54.7102,-54.4014,-54.0946,-53.896, -53.5981,-53.3994,-53.2006,-53.0019, -52.8029,-52.6039,-52.4054,-52.2066, -51.9081,-51.7091,-51.5103,-51.3111, -51.1126,-50.9139,-50.7149,-50.5205, -50.2334,-49.9467,-49.7555,-49.564, -49.2776,-49.0866,-48.8953,-48.7036, -48.5131,-48.4396,-48.4289,-48.4121, -48.3937,-48.5843,-48.7747,-48.9656, -49.1561,-49.3468,-49.5374,-49.8233, -50.1094,-50.3001,-50.4905,-50.7853, -50.9835,-51.1819,-51.3801,-51.5782, -51.7767,-51.975,-52.1732,-52.3708, -52.5689,-52.7672,-52.9663,-53.1644, -53.3624,-53.5602,-53.7579,-54.054, -54.2585,-54.4651,-54.7747,-54.9805, -55.1861,-55.3915,-55.5958,-55.8012, -56.0072,-56.3158,-56.5218,-56.7326, -56.946,-57.1591,-57.4785,-57.6909, -58.0097,-58.2231,-58.4353,-58.4783)
FOOTPRINT_POINT_LONGITUDE = (270.896,271.497,272.107,272.439, 272.454,272.471,272.487,272.503,272.518 ,272.533,272.548,272.57,272.592,272.604 ,272.618,272.631,272.644,272.657, 272.677,272.691,272.704,272.724,272.743 ,272.754,272.772,272.783,272.794, 272.805,272.815,272.825,272.836,272.846 ,272.861,272.871,272.881,272.89,272.9, 272.909,272.918,272.927,272.94,272.952, 272.96,272.968,272.98,272.988,272.996, 273.002,273.011,272.621,272.357,271.959 ,271.534,271.52,271.505,271.489,271.474 ,271.458,271.443,271.418,271.393, 271.376,271.359,271.332,271.313,271.294 ,271.275,271.255,271.235,271.215, 271.195,271.174,271.153,271.131,271.109 ,271.087,271.064,271.041,271.018, 270.982,270.957,270.931,270.891,270.864 ,270.837,270.809,270.781,270.753, 270.723,270.679,270.648,270.616,270.583 ,270.55,270.499,270.464,270.411,270.374 ,270.337,270.896)
ORBIT_NUMBER = 2292
ORBITAL_ECCENTRICITY = 0.573
ORBITAL_INCLINATION = 86.63
ORBITAL_SEMIMAJOR_AXIS = 8577.92
PERIAPSIS_ALTITUDE = 277.48
PERIAPSIS_ARGUMENT_ANGLE = 315.25
PERIAPSIS_TIME = 2005-10-26T12:10:53.000Z
SPACECRAFT_ORIENTATION = (0.0,-1.0,0.0)
^MEX_ORIENTATION_DESC = "MEX_ORIENTATION_DESC.TXT"
SPACECRAFT_POINTING_MODE = ACROSSTRACK
^MEX_POINTING_DESC = "MEX_POINTING_DESC.TXT"
RIGHT_ASCENSION = -1e+32
DECLINATION = -1e+32
OFFSET_ANGLE = -0.45
SPACECRAFT_SOLAR_DISTANCE = 2.16453e+08
TARGET_NAME = MARS
/* CAMERA DATA ELEMENTS */
DETECTOR_TEMPERATURE = 18.3705
FOCAL_PLANE_TEMPERATURE = 7.9716
INST_CMPRS_NAME = "DISCRETE COSINE TRANSFORMATION (DCT)"
INST_CMPRS_RATIO = 11.5959
INST_CMPRS_QUALITY = 0
INST_CMPRS_QUANTZ_TBL_ID = 0
INSTRUMENT_TEMPERATURE = 11.0301
LENS_TEMPERATURE = 8.5833
MACROPIXEL_SIZE = 4
MISSING_FRAMES = 0
PIXEL_SUBSAMPLING_FLAG = N
SIGNAL_CHAIN_ID = 3
/* RADIOMETRIC DATA ELEMENTS */
BANDWIDTH = 177.0
CENTER_FILTER_WAVELENGTH = 676.5
RADIANCE_OFFSET = 6.17186
RADIANCE_SCALING_FACTOR = 0.00824317
REFLECTANCE_SCALING_FACTOR = 0.000204776
MEX:REFLECTANCE_OFFSET = 0.153321
/* IMAGE OBJECT DEFINITIONS */
OBJECT = IMAGE
  INTERCHANGE_FORMAT = BINARY
  LINES = 12069
  LINE_SAMPLES = 1905
  SAMPLE_TYPE = UNSIGNED_INTEGER
  SAMPLE_BITS = 8
  BANDS = 1
  BAND_STORAGE_TYPE = BAND_SEQUENTIAL
  MAXIMUM = 188
  MEAN = 160.302
  MINIMUM = 135
  STANDARD_DEVIATION = 6.54962
END_OBJECT = IMAGE
/* MAP OBJECT DEFINITIONS */
OBJECT = IMAGE_MAP_PROJECTION
  ^DATA_SET_MAP_PROJECTION_CATALOG= "DSMAP.CAT"
  A_AXIS_RADIUS = 3396.0
  B_AXIS_RADIUS = 3396.0
  C_AXIS_RADIUS = 3396.0
  CENTER_LATITUDE = 0.0
  CENTER_LONGITUDE = 272.0
  COORDINATE_SYSTEM_NAME = PLANETOGRAPHIC
  COORDINATE_SYSTEM_TYPE = "BODY-FIXED ROTATING"
  EASTERNMOST_LONGITUDE = 273.011
  FIRST_STANDARD_PARALLEL = "N/A"
  LINE_FIRST_PIXEL = 1
  LINE_LAST_PIXEL = 12069
  LINE_PROJECTION_OFFSET = -57395.125
  MAP_PROJECTION_ROTATION = 0.0
  MAP_PROJECTION_TYPE = SINUSOIDAL
  MAP_RESOLUTION = 1185.42760773333
  MAP_SCALE = 0.05
  MAXIMUM_LATITUDE = -48.3937
  MINIMUM_LATITUDE = -58.5964
  POSITIVE_LONGITUDE_DIRECTION = EAST
  REFERENCE_LATITUDE = "N/A"
  REFERENCE_LONGITUDE = "N/A"
  SAMPLE_FIRST_PIXEL = 1
  SAMPLE_LAST_PIXEL = 1905
  SAMPLE_PROJECTION_OFFSET = 1057.375
  SECOND_STANDARD_PARALLEL = "N/A"
  WESTERNMOST_LONGITUDE = 270.337
END_OBJECT = IMAGE_MAP_PROJECTION
/* The JPEG2000 image data file associated with this label. */
OBJECT = COMPRESSED_FILE
  FILE_NAME = "H2292_0000_P23.JP2"
  RECORD_TYPE = UNDEFINED
  FILE_RECORDS = UNK
  ENCODING_TYPE = "JP2"
  INTERCHANGE_FORMAT = BINARY
  UNCOMPRESSED_FILE_NAME = "H2292_0000_P23.IMG"
  REQUIRED_STORAGE_BYTES = "23010495"
  ^DESCRIPTION = "JP2INFO.TXT"
END_OBJECT = COMPRESSED_FILE
END
