PDS_VERSION_ID = PDS3
/* FILE DATA ELEMENTS */
RECORD_TYPE = STREAM
/* POINTERS TO DATA OBJECTS */
^COMPRESSED_FILE = "H2295_0001_SR3.JP2"
/* IDENTIFICATION DATA ELEMENTS */
DATA_SET_ID = "MEX-M-HRSC-5-REFDR-MAPPROJECTED-V3.0"
DATA_SET_NAME = "MARS EXPRESS HRSC MAP PROJECTED REFDR V3.0"
DETECTOR_ID = MEX_HRSC_SRC
EVENT_TYPE = "MARS-REGIONAL-MAPPING-Fl-Pf-La"
INSTRUMENT_HOST_ID = MEX
INSTRUMENT_HOST_NAME = "MARS EXPRESS"
INSTRUMENT_ID = HRSC
INSTRUMENT_NAME = "HIGH RESOLUTION STEREO CAMERA"
MISSION_NAME = "MARS EXPRESS"
MISSION_PHASE_NAME = MR_Phase_8
PROCESSING_LEVEL_ID = 3
PRODUCT_CREATION_TIME = 2016-03-14T22:12:55.000Z
PRODUCT_ID = "H2295_0001_SR3.JP2"
RELEASE_ID = 0028
REVISION_ID = 0000
/* QUALITY DATA ELEMENTS */
DATA_QUALITY_ID = 1
DATA_QUALITY_DESC = "Data calculated based on original SPICE kernels"
/* TIME DATA ELEMENTS */
SPACECRAFT_CLOCK_START_COUNT = "1/0078480806.57141"
SPACECRAFT_CLOCK_STOP_COUNT = "1/0078481084.06468"
IMAGE_TIME = 2005-10-27T08:15:22.065Z
START_TIME = 2005-10-27T08:15:21.807Z
STOP_TIME = 2005-10-27T08:15:22.323Z
/* ORBITAL DATA ELEMENTS */
ASCENDING_NODE_LONGITUDE = 180.08
MAXIMUM_RESOLUTION = 3.196
FOOTPRINT_POINT_LATITUDE = (-63.2723,-63.2703,-63.2676,-63.2643, -63.2626,-63.2597,-63.2571,-63.2554, -63.2526,-63.2498,-63.2479,-63.2463, -63.2437,-63.2418,-63.2402,-63.2372, -63.2347,-63.2327,-63.2307,-63.2281, -63.2266,-63.2244,-63.2218,-63.2204, -63.2206,-63.2208,-63.221,-63.2213, -63.2215,-63.2217,-63.2219,-63.2222, -63.2224,-63.2226,-63.2228,-63.2231, -63.2233,-63.2235,-63.2237,-63.224, -63.2242,-63.2244,-63.2246,-63.2248, -63.2251,-63.2253,-63.2255,-63.2257, -63.2272,-63.2294,-63.2312,-63.234, -63.236,-63.2379,-63.2404,-63.242, -63.2444,-63.246,-63.2476,-63.2502, -63.2523,-63.2554,-63.2574,-63.2591, -63.2619,-63.2644,-63.2676,-63.2696, -63.2712,-63.2729,-63.2752,-63.2768, -63.2786,-63.2802,-63.2799,-63.2797, -63.2795,-63.2793,-63.279,-63.2788, -63.2786,-63.2784,-63.2782,-63.2779, -63.2777,-63.2775,-63.2773,-63.277, -63.2768,-63.2766,-63.2764,-63.2761, -63.2759,-63.2757,-63.2755,-63.2752, -63.275,-63.2748,-63.2746,-63.2723)
FOOTPRINT_POINT_LONGITUDE = (334.719,334.72,334.721,334.721,334.722 ,334.722,334.723,334.723,334.724, 334.725,334.725,334.725,334.726,334.727 ,334.727,334.728,334.728,334.729, 334.729,334.73,334.73,334.731,334.731, 334.734,334.739,334.744,334.748,334.753 ,334.758,334.763,334.768,334.772, 334.777,334.782,334.787,334.791,334.796 ,334.801,334.806,334.811,334.815,334.82 ,334.825,334.83,334.834,334.839,334.844 ,334.849,334.853,334.852,334.852, 334.851,334.851,334.85,334.85,334.849, 334.849,334.849,334.848,334.848,334.847 ,334.846,334.846,334.846,334.845, 334.844,334.844,334.843,334.843,334.842 ,334.842,334.841,334.841,334.841, 334.836,334.831,334.826,334.821,334.817 ,334.812,334.807,334.802,334.797, 334.793,334.788,334.783,334.778,334.774 ,334.769,334.764,334.759,334.754,334.75 ,334.745,334.74,334.735,334.73,334.726, 334.721,334.719)
ORBIT_NUMBER = 2295
ORBITAL_ECCENTRICITY = 0.573
ORBITAL_INCLINATION = 86.64
ORBITAL_SEMIMAJOR_AXIS = 8572.36
PERIAPSIS_ALTITUDE = 277.84
PERIAPSIS_ARGUMENT_ANGLE = 314.73
PERIAPSIS_TIME = 2005-10-27T08:19:57.000Z
SPACECRAFT_ORIENTATION = (0.0,1.0,0.0)
^MEX_ORIENTATION_DESC = "MEX_ORIENTATION_DESC.TXT"
SPACECRAFT_POINTING_MODE = ACROSSTRACK
^MEX_POINTING_DESC = "MEX_POINTING_DESC.TXT"
RIGHT_ASCENSION = -1e+32
DECLINATION = -1e+32
OFFSET_ANGLE = 0.05
SPACECRAFT_SOLAR_DISTANCE = 2.16599e+08
TARGET_NAME = MARS
/* CAMERA DATA ELEMENTS */
BUFFER_MODE_ID = BUFFER_8
EXPOSURE_DURATION = 516.096
INST_CMPRS_NAME = NONE
INST_CMPRS_RATIO = 1.0
INST_CMPRS_QUALITY = -2147483648
INST_CMPRS_QUANTZ_TBL_ID = -2147483648
INSTRUMENT_TEMPERATURE = 6.29174
MISSING_FRAMES = 0
START_BIT = 0
/* RADIOMETRIC DATA ELEMENTS */
BANDWIDTH = 250.0
CENTER_FILTER_WAVELENGTH = 600.0
RADIANCE_OFFSET = -9.99e+31
RADIANCE_SCALING_FACTOR = -9.99e+31
REFLECTANCE_SCALING_FACTOR = -9.99e+31
MEX:REFLECTANCE_OFFSET = -9.99e+31
/* IMAGE OBJECT DEFINITIONS */
OBJECT = IMAGE
  INTERCHANGE_FORMAT = BINARY
  LINES = 1525
  LINE_SAMPLES = 1533
  SAMPLE_TYPE = UNSIGNED_INTEGER
  SAMPLE_BITS = 8
  BANDS = 1
  BAND_STORAGE_TYPE = BAND_SEQUENTIAL
  MAXIMUM = 12324
  MEAN = 12323.4
  MINIMUM = 12323
  STANDARD_DEVIATION = 0.0
END_OBJECT = IMAGE
/* MAP OBJECT DEFINITIONS */
OBJECT = IMAGE_MAP_PROJECTION
  ^DATA_SET_MAP_PROJECTION_CATALOG= "DSMAP.CAT"
  A_AXIS_RADIUS = 3396.19
  B_AXIS_RADIUS = 3396.19
  C_AXIS_RADIUS = 3396.19
  CENTER_LATITUDE = 0.0
  CENTER_LONGITUDE = 335.0
  COORDINATE_SYSTEM_NAME = PLANETOGRAPHIC
  COORDINATE_SYSTEM_TYPE = "BODY-FIXED ROTATING"
  EASTERNMOST_LONGITUDE = 334.853
  FIRST_STANDARD_PARALLEL = "N/A"
  LINE_FIRST_PIXEL = 1
  LINE_LAST_PIXEL = 1525
  LINE_PROJECTION_OFFSET = -1496087.0
  MAP_PROJECTION_ROTATION = 0.0
  MAP_PROJECTION_TYPE = SINUSOIDAL
  MAP_RESOLUTION = 23709.8786048756
  MAP_SCALE = 0.0025
  MAXIMUM_LATITUDE = -63.2204
  MINIMUM_LATITUDE = -63.2802
  POSITIVE_LONGITUDE_DIRECTION = EAST
  REFERENCE_LATITUDE = "N/A"
  REFERENCE_LONGITUDE = "N/A"
  SAMPLE_FIRST_PIXEL = 1
  SAMPLE_LAST_PIXEL = 1533
  SAMPLE_PROJECTION_OFFSET = 3095.0
  SECOND_STANDARD_PARALLEL = "N/A"
  WESTERNMOST_LONGITUDE = 334.719
END_OBJECT = IMAGE_MAP_PROJECTION
/* The JPEG2000 image data file associated with this label. */
OBJECT = COMPRESSED_FILE
  FILE_NAME = "H2295_0001_SR3.JP2"
  RECORD_TYPE = UNDEFINED
  FILE_RECORDS = UNK
  ENCODING_TYPE = "JP2"
  INTERCHANGE_FORMAT = BINARY
  UNCOMPRESSED_FILE_NAME = "H2295_0001_SR3.IMG"
  REQUIRED_STORAGE_BYTES = "2357754"
  ^DESCRIPTION = "JP2INFO.TXT"
END_OBJECT = COMPRESSED_FILE
END
