PDS_VERSION_ID = PDS3
/* FILE DATA ELEMENTS */
RECORD_TYPE = STREAM
/* POINTERS TO DATA OBJECTS */
^COMPRESSED_FILE = "H2296_0000_S13.JP2"
/* IDENTIFICATION DATA ELEMENTS */
DATA_SET_ID = "MEX-M-HRSC-5-REFDR-MAPPROJECTED-V3.0"
DATA_SET_NAME = "MARS EXPRESS HRSC MAP PROJECTED REFDR V3.0"
DETECTOR_ID = MEX_HRSC_S1
EVENT_TYPE = "MARS-REGIONAL-MAPPING-Vo-Im-Eo"
INSTRUMENT_HOST_ID = MEX
INSTRUMENT_HOST_NAME = "MARS EXPRESS"
INSTRUMENT_ID = HRSC
INSTRUMENT_NAME = "HIGH RESOLUTION STEREO CAMERA"
MISSION_NAME = "MARS EXPRESS"
MISSION_PHASE_NAME = MR_Phase_8
PROCESSING_LEVEL_ID = 3
PRODUCT_CREATION_TIME = 2016-03-14T22:12:55.000Z
PRODUCT_ID = "H2296_0000_S13.JP2"
RELEASE_ID = 0028
REVISION_ID = 0000
/* QUALITY DATA ELEMENTS */
DATA_QUALITY_ID = 1
DATA_QUALITY_DESC = "Data calculated based on original SPICE kernels"
/* TIME DATA ELEMENTS */
SPACECRAFT_CLOCK_START_COUNT = "1/0078504892.57964"
SPACECRAFT_CLOCK_STOP_COUNT = "1/0078505212.42117"
START_TIME = 2005-10-27T14:56:27.669Z
STOP_TIME = 2005-10-27T15:00:17.611Z
/* ORBITAL DATA ELEMENTS */
ASCENDING_NODE_LONGITUDE = 180.05
MAXIMUM_RESOLUTION = 25.6
FOOTPRINT_POINT_LATITUDE = (-73.0174,-72.9481,-72.9095,-72.8683, -72.8243,-72.8573,-72.5132,-72.1683, -71.6483,-71.3145,-70.9758,-70.634, -70.1156,-69.7739,-69.4381,-68.9162, -68.4005,-67.8843,-67.5395,-67.042, -66.7504,-66.4589,-66.0219,-65.7288, -65.4385,-65.1477,-64.8555,-64.4163, -64.1233,-63.8299,-63.536,-63.2417, -62.9527,-62.6679,-62.3826,-62.0966, -61.8102,-61.5281,-61.2527,-60.9764, -60.7,-60.4213,-60.006,-59.7299, -59.4621,-59.062,-58.7947,-58.5264, -58.2581,-57.9889,-57.7251,-57.7375, -57.7502,-57.9054,-58.3057,-58.5772, -58.8481,-59.1176,-59.5205,-59.7894, -60.0676,-60.3466,-60.6248,-60.9017, -61.1855,-61.4595,-61.743,-62.0307, -62.3198,-62.6082,-62.8957,-63.1833, -63.4795,-63.7765,-64.2221,-64.666, -64.9577,-65.2672,-65.5651,-65.8595, -66.1559,-66.4507,-66.7443,-67.0308, -67.3287,-67.6804,-68.0324,-68.5595, -69.0854,-69.4378,-69.7843,-70.1332, -70.4825,-70.8304,-71.1779,-71.5239, -71.8756,-72.2309,-72.7664,-73.0174)
FOOTPRINT_POINT_LONGITUDE = (232.947,231.471,230.73,229.989,229.244 ,228.278,228.605,228.918,229.358, 229.612,229.877,230.139,230.526,230.759 ,230.968,231.309,231.614,231.902, 232.086,232.344,232.49,232.631,232.834, 232.967,233.091,233.211,233.331,233.505 ,233.618,233.728,233.835,233.94,234.041 ,234.137,234.231,234.324,234.415, 234.496,234.577,234.658,234.736,234.817 ,234.929,235.001,235.071,235.169, 235.233,235.298,235.361,235.424,235.477 ,236.24,236.748,237.485,237.43,237.392, 237.353,237.313,237.253,237.212,237.168 ,237.123,237.078,237.031,236.983, 236.935,236.884,236.832,236.778,236.723 ,236.667,236.609,236.548,236.486, 236.389,236.289,236.222,236.148,236.075 ,236.001,235.924,235.846,235.766, 235.686,235.6,235.496,235.387,235.218, 235.041,234.916,234.789,234.656,234.519 ,234.376,234.228,234.074,233.912, 233.741,233.469,232.947)
ORBIT_NUMBER = 2296
ORBITAL_ECCENTRICITY = 0.573
ORBITAL_INCLINATION = 86.64
ORBITAL_SEMIMAJOR_AXIS = 8575.39
PERIAPSIS_ALTITUDE = 277.12
PERIAPSIS_ARGUMENT_ANGLE = 314.53
PERIAPSIS_TIME = 2005-10-27T15:02:58.000Z
SPACECRAFT_ORIENTATION = (0.0,1.0,0.0)
^MEX_ORIENTATION_DESC = "MEX_ORIENTATION_DESC.TXT"
SPACECRAFT_POINTING_MODE = ACROSSTRACK
^MEX_POINTING_DESC = "MEX_POINTING_DESC.TXT"
RIGHT_ASCENSION = -1e+32
DECLINATION = -1e+32
OFFSET_ANGLE = 0.58
SPACECRAFT_SOLAR_DISTANCE = 2.16647e+08
TARGET_NAME = MARS
/* CAMERA DATA ELEMENTS */
DETECTOR_TEMPERATURE = 17.351
FOCAL_PLANE_TEMPERATURE = 7.7677
INST_CMPRS_NAME = "DISCRETE COSINE TRANSFORMATION (DCT)"
INST_CMPRS_RATIO = 9.08142
INST_CMPRS_QUALITY = 0
INST_CMPRS_QUANTZ_TBL_ID = 0
INSTRUMENT_TEMPERATURE = 11.234
LENS_TEMPERATURE = 8.3794
MACROPIXEL_SIZE = 2
MISSING_FRAMES = 1
PIXEL_SUBSAMPLING_FLAG = N
SIGNAL_CHAIN_ID = 1
/* RADIOMETRIC DATA ELEMENTS */
BANDWIDTH = 180.0
CENTER_FILTER_WAVELENGTH = 677.0
RADIANCE_OFFSET = 5.21174
RADIANCE_SCALING_FACTOR = 0.0120771
REFLECTANCE_SCALING_FACTOR = 0.000295739
MEX:REFLECTANCE_OFFSET = 0.127623
/* IMAGE OBJECT DEFINITIONS */
OBJECT = IMAGE
  INTERCHANGE_FORMAT = BINARY
  LINES = 36687
  LINE_SAMPLES = 7900
  SAMPLE_TYPE = UNSIGNED_INTEGER
  SAMPLE_BITS = 8
  BANDS = 1
  BAND_STORAGE_TYPE = BAND_SEQUENTIAL
  MAXIMUM = 217
  MEAN = 174.616
  MINIMUM = 128
  STANDARD_DEVIATION = 12.5067
END_OBJECT = IMAGE
/* MAP OBJECT DEFINITIONS */
OBJECT = IMAGE_MAP_PROJECTION
  ^DATA_SET_MAP_PROJECTION_CATALOG= "DSMAP.CAT"
  A_AXIS_RADIUS = 3396.0
  B_AXIS_RADIUS = 3396.0
  C_AXIS_RADIUS = 3396.0
  CENTER_LATITUDE = 0.0
  CENTER_LONGITUDE = 235.0
  COORDINATE_SYSTEM_NAME = PLANETOGRAPHIC
  COORDINATE_SYSTEM_TYPE = "BODY-FIXED ROTATING"
  EASTERNMOST_LONGITUDE = 237.485
  FIRST_STANDARD_PARALLEL = "N/A"
  LINE_FIRST_PIXEL = 1
  LINE_LAST_PIXEL = 36687
  LINE_PROJECTION_OFFSET = -136822.75
  MAP_PROJECTION_ROTATION = 0.0
  MAP_PROJECTION_TYPE = SINUSOIDAL
  MAP_RESOLUTION = 2370.85521546667
  MAP_SCALE = 0.025
  MAXIMUM_LATITUDE = -57.7251
  MINIMUM_LATITUDE = -73.01739999999999
  POSITIVE_LONGITUDE_DIRECTION = EAST
  REFERENCE_LATITUDE = "N/A"
  REFERENCE_LONGITUDE = "N/A"
  SAMPLE_FIRST_PIXEL = 1
  SAMPLE_LAST_PIXEL = 7900
  SAMPLE_PROJECTION_OFFSET = 4705.25
  SECOND_STANDARD_PARALLEL = "N/A"
  WESTERNMOST_LONGITUDE = 228.278
END_OBJECT = IMAGE_MAP_PROJECTION
/* The JPEG2000 image data file associated with this label. */
OBJECT = COMPRESSED_FILE
  FILE_NAME = "H2296_0000_S13.JP2"
  RECORD_TYPE = UNDEFINED
  FILE_RECORDS = UNK
  ENCODING_TYPE = "JP2"
  INTERCHANGE_FORMAT = BINARY
  UNCOMPRESSED_FILE_NAME = "H2296_0000_S13.IMG"
  REQUIRED_STORAGE_BYTES = "289858900"
  ^DESCRIPTION = "JP2INFO.TXT"
END_OBJECT = COMPRESSED_FILE
END
