PDS_VERSION_ID = PDS3
/* FILE DATA ELEMENTS */
RECORD_TYPE = STREAM
/* POINTERS TO DATA OBJECTS */
^COMPRESSED_FILE = "H2297_0000_P13.JP2"
/* IDENTIFICATION DATA ELEMENTS */
DATA_SET_ID = "MEX-M-HRSC-5-REFDR-MAPPROJECTED-V3.0"
DATA_SET_NAME = "MARS EXPRESS HRSC MAP PROJECTED REFDR V3.0"
DETECTOR_ID = MEX_HRSC_P1
EVENT_TYPE = "MARS-REGIONAL-MAPPING-Vo-Te-Im"
INSTRUMENT_HOST_ID = MEX
INSTRUMENT_HOST_NAME = "MARS EXPRESS"
INSTRUMENT_ID = HRSC
INSTRUMENT_NAME = "HIGH RESOLUTION STEREO CAMERA"
MISSION_NAME = "MARS EXPRESS"
MISSION_PHASE_NAME = MR_Phase_8
PROCESSING_LEVEL_ID = 3
PRODUCT_CREATION_TIME = 2016-03-14T22:12:55.000Z
PRODUCT_ID = "H2297_0000_P13.JP2"
RELEASE_ID = 0028
REVISION_ID = 0000
/* QUALITY DATA ELEMENTS */
DATA_QUALITY_ID = 1
DATA_QUALITY_DESC = "Data calculated based on original SPICE kernels"
/* TIME DATA ELEMENTS */
SPACECRAFT_CLOCK_START_COUNT = "1/0078529187.56199"
SPACECRAFT_CLOCK_STOP_COUNT = "1/0078529592.32903"
START_TIME = 2005-10-27T21:40:08.561Z
STOP_TIME = 2005-10-27T21:46:22.037Z
/* ORBITAL DATA ELEMENTS */
ASCENDING_NODE_LONGITUDE = 180.03
MAXIMUM_RESOLUTION = 45
FOOTPRINT_POINT_LATITUDE = (-67.3317,-67.3773,-67.426,-67.0938, -66.5071,-65.9187,-65.6232,-65.3212, -65.0223,-64.7241,-64.138,-63.3841, -62.8771,-62.3672,-61.8575,-61.3464, -60.834,-60.3235,-59.8247,-59.3244, -58.8265,-58.3409,-57.854,-57.1261, -56.6529,-56.1788,-55.7036,-55.2304, -54.7686,-54.3073,-53.8462,-53.1543, -52.6986,-52.0259,-51.3539,-50.9054, -50.235,-49.5622,-49.1285,-48.6925, -48.2481,-47.5962,-46.9411,-46.2854, -45.6288,-45.1913,-44.5402,-43.881, -43.4412,-43.3636,-43.5679,-44.0074, -44.6636,-45.1033,-45.5345,-45.9714, -46.4064,-46.8419,-47.2786,-47.9325, -48.5884,-49.0214,-49.451,-49.8901, -50.3464,-51.0163,-51.4629,-51.9091, -52.3547,-52.7998,-53.4967,-54.1838, -54.6393,-55.0983,-55.5672,-56.0411, -56.7517,-57.226,-57.7099,-58.1899, -58.6712,-59.1639,-59.6601,-60.1552, -60.6596,-61.1682,-61.6751,-62.1804, -62.6842,-63.4395,-63.9394,-64.5058, -64.8003,-65.0935,-65.3866,-65.6793, -65.9721,-66.5569,-67.1368,-67.3317)
FOOTPRINT_POINT_LONGITUDE = (136.542,137.404,138.463,139.071, 139.186,139.294,139.347,139.406,139.459 ,139.509,139.606,139.72,139.795,139.868 ,139.937,140.004,140.067,140.128, 140.186,140.241,140.295,140.344,140.393 ,140.461,140.505,140.547,140.588, 140.627,140.666,140.702,140.737,140.785 ,140.818,140.865,140.908,140.935, 140.973,141.01,141.034,141.059,141.09, 141.122,141.155,141.187,141.217,141.236 ,141.26,141.288,141.306,140.488,139.98, 139.952,139.908,139.878,139.843,139.81, 139.775,139.74,139.704,139.648,139.591, 139.549,139.504,139.454,139.41,139.334, 139.281,139.227,139.171,139.113,139.024 ,138.924,138.853,138.783,138.708,138.63 ,138.508,138.423,138.329,138.23,138.129 ,138.023,137.912,137.796,137.672, 137.543,137.408,137.267,137.121,136.892 ,136.73,136.536,136.43,136.321,136.21, 136.095,135.979,135.737,135.481, 136.542)
ORBIT_NUMBER = 2297
ORBITAL_ECCENTRICITY = 0.573
ORBITAL_INCLINATION = 86.63
ORBITAL_SEMIMAJOR_AXIS = 8575.83
PERIAPSIS_ALTITUDE = 278.27
PERIAPSIS_ARGUMENT_ANGLE = 314.4
PERIAPSIS_TIME = 2005-10-27T21:46:05.000Z
SPACECRAFT_ORIENTATION = (0.0,-1.0,0.0)
^MEX_ORIENTATION_DESC = "MEX_ORIENTATION_DESC.TXT"
SPACECRAFT_POINTING_MODE = NADIR
^MEX_POINTING_DESC = "MEX_POINTING_DESC.TXT"
RIGHT_ASCENSION = -1e+32
DECLINATION = -1e+32
OFFSET_ANGLE = -1e+32
SPACECRAFT_SOLAR_DISTANCE = 2.16696e+08
TARGET_NAME = MARS
/* CAMERA DATA ELEMENTS */
DETECTOR_TEMPERATURE = 17.351
FOCAL_PLANE_TEMPERATURE = 7.9716
INST_CMPRS_NAME = "DISCRETE COSINE TRANSFORMATION (DCT)"
INST_CMPRS_RATIO = 12.1185
INST_CMPRS_QUALITY = 0
INST_CMPRS_QUANTZ_TBL_ID = 0
INSTRUMENT_TEMPERATURE = 10.4184
LENS_TEMPERATURE = 8.9911
MACROPIXEL_SIZE = 4
MISSING_FRAMES = 0
PIXEL_SUBSAMPLING_FLAG = N
SIGNAL_CHAIN_ID = 3
/* RADIOMETRIC DATA ELEMENTS */
BANDWIDTH = 174.0
CENTER_FILTER_WAVELENGTH = 675.0
RADIANCE_OFFSET = 3.4588
RADIANCE_SCALING_FACTOR = 0.0310033
REFLECTANCE_SCALING_FACTOR = 0.000783051
MEX:REFLECTANCE_OFFSET = 0.0873592
/* IMAGE OBJECT DEFINITIONS */
OBJECT = IMAGE
  INTERCHANGE_FORMAT = BINARY
  LINES = 28483
  LINE_SAMPLES = 3207
  SAMPLE_TYPE = UNSIGNED_INTEGER
  SAMPLE_BITS = 8
  BANDS = 1
  BAND_STORAGE_TYPE = BAND_SEQUENTIAL
  MAXIMUM = 284
  MEAN = 165.847
  MINIMUM = 80
  STANDARD_DEVIATION = 34.4204
END_OBJECT = IMAGE
/* MAP OBJECT DEFINITIONS */
OBJECT = IMAGE_MAP_PROJECTION
  ^DATA_SET_MAP_PROJECTION_CATALOG= "DSMAP.CAT"
  A_AXIS_RADIUS = 3396.0
  B_AXIS_RADIUS = 3396.0
  C_AXIS_RADIUS = 3396.0
  CENTER_LATITUDE = 0.0
  CENTER_LONGITUDE = 140.0
  COORDINATE_SYSTEM_NAME = PLANETOGRAPHIC
  COORDINATE_SYSTEM_TYPE = "BODY-FIXED ROTATING"
  EASTERNMOST_LONGITUDE = 141.306
  FIRST_STANDARD_PARALLEL = "N/A"
  LINE_FIRST_PIXEL = 1
  LINE_LAST_PIXEL = 28483
  LINE_PROJECTION_OFFSET = -51389.375
  MAP_PROJECTION_ROTATION = 0.0
  MAP_PROJECTION_TYPE = SINUSOIDAL
  MAP_RESOLUTION = 1185.42760773333
  MAP_SCALE = 0.05
  MAXIMUM_LATITUDE = -43.3636
  MINIMUM_LATITUDE = -67.426
  POSITIVE_LONGITUDE_DIRECTION = EAST
  REFERENCE_LATITUDE = "N/A"
  REFERENCE_LONGITUDE = "N/A"
  SAMPLE_FIRST_PIXEL = 1
  SAMPLE_LAST_PIXEL = 3207
  SAMPLE_PROJECTION_OFFSET = 2048.625
  SECOND_STANDARD_PARALLEL = "N/A"
  WESTERNMOST_LONGITUDE = 135.481
END_OBJECT = IMAGE_MAP_PROJECTION
/* The JPEG2000 image data file associated with this label. */
OBJECT = COMPRESSED_FILE
  FILE_NAME = "H2297_0000_P13.JP2"
  RECORD_TYPE = UNDEFINED
  FILE_RECORDS = UNK
  ENCODING_TYPE = "JP2"
  INTERCHANGE_FORMAT = BINARY
  UNCOMPRESSED_FILE_NAME = "H2297_0000_P13.IMG"
  REQUIRED_STORAGE_BYTES = "91367430"
  ^DESCRIPTION = "JP2INFO.TXT"
END_OBJECT = COMPRESSED_FILE
END
