PDS_VERSION_ID = PDS3
/* FILE DATA ELEMENTS */
RECORD_TYPE = STREAM
/* POINTERS TO DATA OBJECTS */
^COMPRESSED_FILE = "H2297_0000_S23.JP2"
/* IDENTIFICATION DATA ELEMENTS */
DATA_SET_ID = "MEX-M-HRSC-5-REFDR-MAPPROJECTED-V3.0"
DATA_SET_NAME = "MARS EXPRESS HRSC MAP PROJECTED REFDR V3.0"
DETECTOR_ID = MEX_HRSC_S2
EVENT_TYPE = "MARS-REGIONAL-MAPPING-Vo-Te-Im"
INSTRUMENT_HOST_ID = MEX
INSTRUMENT_HOST_NAME = "MARS EXPRESS"
INSTRUMENT_ID = HRSC
INSTRUMENT_NAME = "HIGH RESOLUTION STEREO CAMERA"
MISSION_NAME = "MARS EXPRESS"
MISSION_PHASE_NAME = MR_Phase_8
PROCESSING_LEVEL_ID = 3
PRODUCT_CREATION_TIME = 2016-03-14T22:12:55.000Z
PRODUCT_ID = "H2297_0000_S23.JP2"
RELEASE_ID = 0028
REVISION_ID = 0000
/* QUALITY DATA ELEMENTS */
DATA_QUALITY_ID = 1
DATA_QUALITY_DESC = "Data calculated based on original SPICE kernels"
/* TIME DATA ELEMENTS */
SPACECRAFT_CLOCK_START_COUNT = "1/0078529187.56199"
SPACECRAFT_CLOCK_STOP_COUNT = "1/0078529592.32903"
START_TIME = 2005-10-27T21:41:06.473Z
STOP_TIME = 2005-10-27T21:47:02.241Z
/* ORBITAL DATA ELEMENTS */
ASCENDING_NODE_LONGITUDE = 180.03
MAXIMUM_RESOLUTION = 23.5
FOOTPRINT_POINT_LATITUDE = (-67.1321,-67.1734,-67.2143,-67.3594, -66.8069,-66.2554,-65.9762,-65.6989, -65.158,-64.6063,-64.0584,-63.5076, -62.9748,-62.4432,-61.9149,-61.3975, -60.8795,-60.1094,-59.6092,-59.1091, -58.6078,-58.1115,-57.6283,-56.9033, -56.4212,-55.6996,-55.2351,-54.7735, -54.3098,-53.8444,-53.3788,-52.6811, -52.2234,-51.5554,-51.1097,-50.6622, -49.9906,-49.3197,-48.8747,-48.4479, -48.0013,-47.3396,-46.8983,-46.4569, -46.0162,-45.3558,-44.6836,-44.2459, -43.8092,-43.3625,-43.3426,-43.5535, -43.988,-44.4274,-44.8603,-45.3052, -45.7508,-46.1903,-46.6315,-47.0717, -47.5105,-47.95,-48.3862,-48.8273, -49.4979,-49.9487,-50.6065,-51.0518, -51.4968,-51.9414,-52.6214,-53.0829, -53.5362,-54.0068,-54.4697,-55.1629, -55.6257,-56.1019,-56.5795,-57.0552, -57.5352,-58.022,-58.7679,-59.2654, -59.7632,-60.2628,-60.7768,-61.2917, -61.8046,-62.3295,-62.8584,-63.3842, -63.9228,-64.4691,-64.7428,-65.018, -65.2915,-65.8358,-66.3722,-67.1321)
FOOTPRINT_POINT_LONGITUDE = (136.102,136.891,137.742,138.901,139.02 ,139.134,139.187,139.24,139.349,139.448 ,139.544,139.632,139.716,139.798, 139.874,139.946,140.014,140.111,140.171 ,140.229,140.284,140.337,140.386, 140.458,140.504,140.57,140.61,140.651, 140.689,140.726,140.761,140.812,140.846 ,140.892,140.922,140.95,140.99,141.028, 141.053,141.085,141.108,141.145,141.168 ,141.19,141.212,141.244,141.269,141.29, 141.309,141.095,140.264,139.974,139.948 ,139.92,139.893,139.86,139.826,139.793, 139.759,139.724,139.689,139.652,139.616 ,139.576,139.509,139.461,139.395, 139.346,139.295,139.243,139.159,139.101 ,139.045,138.976,138.91,138.807,138.735 ,138.658,138.579,138.499,138.411, 138.316,138.164,138.06,137.951,137.837, 137.715,137.586,137.454,137.311,137.161 ,137.007,136.84,136.66,136.566,136.467, 136.368,136.164,135.957,136.102)
ORBIT_NUMBER = 2297
ORBITAL_ECCENTRICITY = 0.573
ORBITAL_INCLINATION = 86.63
ORBITAL_SEMIMAJOR_AXIS = 8575.83
PERIAPSIS_ALTITUDE = 278.27
PERIAPSIS_ARGUMENT_ANGLE = 314.4
PERIAPSIS_TIME = 2005-10-27T21:46:05.000Z
SPACECRAFT_ORIENTATION = (0.0,-1.0,0.0)
^MEX_ORIENTATION_DESC = "MEX_ORIENTATION_DESC.TXT"
SPACECRAFT_POINTING_MODE = NADIR
^MEX_POINTING_DESC = "MEX_POINTING_DESC.TXT"
RIGHT_ASCENSION = -1e+32
DECLINATION = -1e+32
OFFSET_ANGLE = -1e+32
SPACECRAFT_SOLAR_DISTANCE = 2.16696e+08
TARGET_NAME = MARS
/* CAMERA DATA ELEMENTS */
DETECTOR_TEMPERATURE = 18.5744
FOCAL_PLANE_TEMPERATURE = 7.9716
INST_CMPRS_NAME = "DISCRETE COSINE TRANSFORMATION (DCT)"
INST_CMPRS_RATIO = 9.88668
INST_CMPRS_QUALITY = 0
INST_CMPRS_QUANTZ_TBL_ID = 0
INSTRUMENT_TEMPERATURE = 10.4184
LENS_TEMPERATURE = 8.9911
MACROPIXEL_SIZE = 2
MISSING_FRAMES = 0
PIXEL_SUBSAMPLING_FLAG = N
SIGNAL_CHAIN_ID = 1
/* RADIOMETRIC DATA ELEMENTS */
BANDWIDTH = 178.0
CENTER_FILTER_WAVELENGTH = 679.0
RADIANCE_OFFSET = 3.78055
RADIANCE_SCALING_FACTOR = 0.0390859
REFLECTANCE_SCALING_FACTOR = 0.00097196
MEX:REFLECTANCE_OFFSET = 0.0940121
/* IMAGE OBJECT DEFINITIONS */
OBJECT = IMAGE
  INTERCHANGE_FORMAT = BINARY
  LINES = 56965
  LINE_SAMPLES = 6413
  SAMPLE_TYPE = UNSIGNED_INTEGER
  SAMPLE_BITS = 8
  BANDS = 1
  BAND_STORAGE_TYPE = BAND_SEQUENTIAL
  MAXIMUM = 211
  MEAN = 120.744
  MINIMUM = 50
  STANDARD_DEVIATION = 28.9605
END_OBJECT = IMAGE
/* MAP OBJECT DEFINITIONS */
OBJECT = IMAGE_MAP_PROJECTION
  ^DATA_SET_MAP_PROJECTION_CATALOG= "DSMAP.CAT"
  A_AXIS_RADIUS = 3396.0
  B_AXIS_RADIUS = 3396.0
  C_AXIS_RADIUS = 3396.0
  CENTER_LATITUDE = 0.0
  CENTER_LONGITUDE = 140.0
  COORDINATE_SYSTEM_NAME = PLANETOGRAPHIC
  COORDINATE_SYSTEM_TYPE = "BODY-FIXED ROTATING"
  EASTERNMOST_LONGITUDE = 141.309
  FIRST_STANDARD_PARALLEL = "N/A"
  LINE_FIRST_PIXEL = 1
  LINE_LAST_PIXEL = 56965
  LINE_PROJECTION_OFFSET = -102778.25
  MAP_PROJECTION_ROTATION = 0.0
  MAP_PROJECTION_TYPE = SINUSOIDAL
  MAP_RESOLUTION = 2370.85521546667
  MAP_SCALE = 0.025
  MAXIMUM_LATITUDE = -43.3426
  MINIMUM_LATITUDE = -67.35939999999999
  POSITIVE_LONGITUDE_DIRECTION = EAST
  REFERENCE_LATITUDE = "N/A"
  REFERENCE_LONGITUDE = "N/A"
  SAMPLE_FIRST_PIXEL = 1
  SAMPLE_LAST_PIXEL = 6413
  SAMPLE_PROJECTION_OFFSET = 4097.75
  SECOND_STANDARD_PARALLEL = "N/A"
  WESTERNMOST_LONGITUDE = 135.957
END_OBJECT = IMAGE_MAP_PROJECTION
/* The JPEG2000 image data file associated with this label. */
OBJECT = COMPRESSED_FILE
  FILE_NAME = "H2297_0000_S23.JP2"
  RECORD_TYPE = UNDEFINED
  FILE_RECORDS = UNK
  ENCODING_TYPE = "JP2"
  INTERCHANGE_FORMAT = BINARY
  UNCOMPRESSED_FILE_NAME = "H2297_0000_S23.IMG"
  REQUIRED_STORAGE_BYTES = "365348610"
  ^DESCRIPTION = "JP2INFO.TXT"
END_OBJECT = COMPRESSED_FILE
END
