PDS_VERSION_ID = PDS3
/* FILE DATA ELEMENTS */
RECORD_TYPE = STREAM
/* POINTERS TO DATA OBJECTS */
^COMPRESSED_FILE = "H2299_0000_BL3.JP2"
/* IDENTIFICATION DATA ELEMENTS */
DATA_SET_ID = "MEX-M-HRSC-5-REFDR-MAPPROJECTED-V3.0"
DATA_SET_NAME = "MARS EXPRESS HRSC MAP PROJECTED REFDR V3.0"
DETECTOR_ID = MEX_HRSC_BLUE
EVENT_TYPE = "MARS-REGIONAL-MAPPING-Gl-Pf"
INSTRUMENT_HOST_ID = MEX
INSTRUMENT_HOST_NAME = "MARS EXPRESS"
INSTRUMENT_ID = HRSC
INSTRUMENT_NAME = "HIGH RESOLUTION STEREO CAMERA"
MISSION_NAME = "MARS EXPRESS"
MISSION_PHASE_NAME = MR_Phase_8
PROCESSING_LEVEL_ID = 3
PRODUCT_CREATION_TIME = 2016-03-14T22:12:55.000Z
PRODUCT_ID = "H2299_0000_BL3.JP2"
RELEASE_ID = 0028
REVISION_ID = 0000
/* QUALITY DATA ELEMENTS */
DATA_QUALITY_ID = 1
DATA_QUALITY_DESC = "Data calculated based on original SPICE kernels"
/* TIME DATA ELEMENTS */
SPACECRAFT_CLOCK_START_COUNT = "1/0078577223.56182"
SPACECRAFT_CLOCK_STOP_COUNT = "1/0078577633.48398"
START_TIME = 2005-10-28T11:01:35.606Z
STOP_TIME = 2005-10-28T11:06:39.155Z
/* ORBITAL DATA ELEMENTS */
ASCENDING_NODE_LONGITUDE = 179.99
MAXIMUM_RESOLUTION = 61.3
FOOTPRINT_POINT_LATITUDE = (-84.4874,-84.2963,-84.0933,-83.8792, -83.6551,-83.4213,-82.9805,-82.6876, -82.3836,-82.071,-81.751,-81.4257, -81.0944,-80.7581,-80.421,-80.0814, -79.7398,-79.3984,-79.0538,-78.7106, -78.3679,-77.8551,-77.3443,-76.836, -76.4965,-76.1623,-75.8261,-75.4924, -75.1597,-74.8305,-74.5007,-74.1745, -73.8486,-73.5265,-73.0441,-72.7264, -72.4074,-72.0948,-71.7808,-71.3156, -71.0066,-70.6993,-70.3963,-70.092, -69.6416,-69.3425,-69.0433,-68.4572, -67.8681,-67.5722,-67.2757,-67.1812, -67.2511,-67.342,-67.6442,-67.9459, -68.247,-68.5475,-69.146,-69.6009, -69.9063,-70.2112,-70.523,-70.9902, -71.3052,-71.6229,-71.9399,-72.2633, -72.7477,-73.0768,-73.4056,-73.9054, -74.2395,-74.5787,-74.9185,-75.2622, -75.6073,-75.9563,-76.3064,-76.6601, -77.1956,-77.5556,-77.9178,-78.4674, -78.8352,-79.2077,-79.5812,-79.9585, -80.338,-80.7188,-81.2956,-81.6799, -82.0692,-82.4579,-82.8469,-83.2354, -83.6235,-84.0106,-84.3939,-84.4874)
FOOTPRINT_POINT_LONGITUDE = (274.447,271.859,269.431,267.157,265.03 ,263.039,262.382,264.974,267.337, 269.488,271.449,273.248,274.892,276.399 ,277.782,279.058,280.241,281.336, 282.334,283.276,284.149,285.351,286.44, 287.428,288.035,288.61,289.148,289.649, 290.129,290.583,291.011,291.416,291.806 ,292.17,292.69,293.015,293.327,293.622, 293.906,294.308,294.563,294.807,295.041 ,295.268,295.586,295.789,295.986, 296.354,296.702,296.868,297.03,298.027, 299.06,300.569,300.478,300.384,300.288, 300.188,299.982,299.816,299.701,299.581 ,299.455,299.258,299.12,298.975,298.825 ,298.666,298.416,298.238,298.053, 297.756,297.546,297.323,297.09,296.842, 296.581,296.303,296.009,295.697,295.187 ,294.82,294.428,293.781,293.314,292.804 ,292.254,291.655,291.002,290.29,289.082 ,288.184,287.17,286.048,284.791,283.377 ,281.771,279.934,277.827,274.447)
ORBIT_NUMBER = 2299
ORBITAL_ECCENTRICITY = 0.573
ORBITAL_INCLINATION = 86.63
ORBITAL_SEMIMAJOR_AXIS = 8572.44
PERIAPSIS_ALTITUDE = 277.97
PERIAPSIS_ARGUMENT_ANGLE = 314.05
PERIAPSIS_TIME = 2005-10-28T11:12:14.000Z
SPACECRAFT_ORIENTATION = (0.0,1.0,0.0)
^MEX_ORIENTATION_DESC = "MEX_ORIENTATION_DESC.TXT"
SPACECRAFT_POINTING_MODE = ACROSSTRACK
^MEX_POINTING_DESC = "MEX_POINTING_DESC.TXT"
RIGHT_ASCENSION = -1e+32
DECLINATION = -1e+32
OFFSET_ANGLE = 0.7
SPACECRAFT_SOLAR_DISTANCE = 2.16794e+08
TARGET_NAME = MARS
/* CAMERA DATA ELEMENTS */
DETECTOR_TEMPERATURE = 17.9627
FOCAL_PLANE_TEMPERATURE = 7.156
INST_CMPRS_NAME = "DISCRETE COSINE TRANSFORMATION (DCT)"
INST_CMPRS_RATIO = 16.0571
INST_CMPRS_QUALITY = 0
INST_CMPRS_QUANTZ_TBL_ID = 0
INSTRUMENT_TEMPERATURE = 10.8262
LENS_TEMPERATURE = 7.7677
MACROPIXEL_SIZE = 4
MISSING_FRAMES = 0
PIXEL_SUBSAMPLING_FLAG = N
SIGNAL_CHAIN_ID = 2
/* RADIOMETRIC DATA ELEMENTS */
BANDWIDTH = 76.0
CENTER_FILTER_WAVELENGTH = 444.0
RADIANCE_OFFSET = 0.683478
RADIANCE_SCALING_FACTOR = 0.00446717
REFLECTANCE_SCALING_FACTOR = 0.000215713
MEX:REFLECTANCE_OFFSET = 0.0330041
/* IMAGE OBJECT DEFINITIONS */
OBJECT = IMAGE
  INTERCHANGE_FORMAT = BINARY
  LINES = 20661
  LINE_SAMPLES = 7607
  SAMPLE_TYPE = UNSIGNED_INTEGER
  SAMPLE_BITS = 8
  BANDS = 1
  BAND_STORAGE_TYPE = BAND_SEQUENTIAL
  MAXIMUM = 260
  MEAN = 120.795
  MINIMUM = 94
  STANDARD_DEVIATION = 8.95432
END_OBJECT = IMAGE
/* MAP OBJECT DEFINITIONS */
OBJECT = IMAGE_MAP_PROJECTION
  ^DATA_SET_MAP_PROJECTION_CATALOG= "DSMAP.CAT"
  A_AXIS_RADIUS = 3396.0
  B_AXIS_RADIUS = 3396.0
  C_AXIS_RADIUS = 3396.0
  CENTER_LATITUDE = 0.0
  CENTER_LONGITUDE = 294.0
  COORDINATE_SYSTEM_NAME = PLANETOGRAPHIC
  COORDINATE_SYSTEM_TYPE = "BODY-FIXED ROTATING"
  EASTERNMOST_LONGITUDE = 300.569
  FIRST_STANDARD_PARALLEL = "N/A"
  LINE_FIRST_PIXEL = 1
  LINE_LAST_PIXEL = 20661
  LINE_PROJECTION_OFFSET = -79595.625
  MAP_PROJECTION_ROTATION = 0.0
  MAP_PROJECTION_TYPE = SINUSOIDAL
  MAP_RESOLUTION = 1185.42760773333
  MAP_SCALE = 0.05
  MAXIMUM_LATITUDE = -67.1812
  MINIMUM_LATITUDE = -84.48739999999999
  POSITIVE_LONGITUDE_DIRECTION = EAST
  REFERENCE_LATITUDE = "N/A"
  REFERENCE_LONGITUDE = "N/A"
  SAMPLE_FIRST_PIXEL = 1
  SAMPLE_LAST_PIXEL = 7607
  SAMPLE_PROJECTION_OFFSET = 4612.375
  SECOND_STANDARD_PARALLEL = "N/A"
  WESTERNMOST_LONGITUDE = 262.382
END_OBJECT = IMAGE_MAP_PROJECTION
/* The JPEG2000 image data file associated with this label. */
OBJECT = COMPRESSED_FILE
  FILE_NAME = "H2299_0000_BL3.JP2"
  RECORD_TYPE = UNDEFINED
  FILE_RECORDS = UNK
  ENCODING_TYPE = "JP2"
  INTERCHANGE_FORMAT = BINARY
  UNCOMPRESSED_FILE_NAME = "H2299_0000_BL3.IMG"
  REQUIRED_STORAGE_BYTES = "157198655"
  ^DESCRIPTION = "JP2INFO.TXT"
END_OBJECT = COMPRESSED_FILE
END
