PDS_VERSION_ID = PDS3
/* FILE DATA ELEMENTS */
RECORD_TYPE = STREAM
/* POINTERS TO DATA OBJECTS */
^COMPRESSED_FILE = "H2300_0000_S23.JP2"
/* IDENTIFICATION DATA ELEMENTS */
DATA_SET_ID = "MEX-M-HRSC-5-REFDR-MAPPROJECTED-V3.0"
DATA_SET_NAME = "MARS EXPRESS HRSC MAP PROJECTED REFDR V3.0"
DETECTOR_ID = MEX_HRSC_S2
EVENT_TYPE = "MARS-LOCAL-MAPPING-Im-Gl"
INSTRUMENT_HOST_ID = MEX
INSTRUMENT_HOST_NAME = "MARS EXPRESS"
INSTRUMENT_ID = HRSC
INSTRUMENT_NAME = "HIGH RESOLUTION STEREO CAMERA"
MISSION_NAME = "MARS EXPRESS"
MISSION_PHASE_NAME = MR_Phase_8
PROCESSING_LEVEL_ID = 3
PRODUCT_CREATION_TIME = 2016-03-14T22:12:55.000Z
PRODUCT_ID = "H2300_0000_S23.JP2"
RELEASE_ID = 0028
REVISION_ID = 0000
/* QUALITY DATA ELEMENTS */
DATA_QUALITY_ID = 1
DATA_QUALITY_DESC = "Data calculated based on original SPICE kernels"
/* TIME DATA ELEMENTS */
SPACECRAFT_CLOCK_START_COUNT = "1/0078601539.56209"
SPACECRAFT_CLOCK_STOP_COUNT = "1/0078601899.54117"
START_TIME = 2005-10-28T17:47:30.472Z
STOP_TIME = 2005-10-28T17:51:44.840Z
/* ORBITAL DATA ELEMENTS */
ASCENDING_NODE_LONGITUDE = 179.97
MAXIMUM_RESOLUTION = 27.3
FOOTPRINT_POINT_LATITUDE = (-78.4322,-78.504,-78.5718,-78.6356, -78.6951,-78.7502,-78.9089,-78.7017, -78.4981,-78.2945,-77.8896,-77.4901, -77.0912,-76.6996,-76.1143,-75.5384, -74.9776,-74.5977,-74.0425,-73.6701, -73.3067,-72.7791,-72.4146,-72.0641, -71.535,-71.1802,-70.6494,-70.2986, -69.9452,-69.4224,-69.062,-68.7102, -68.3564,-68.0021,-67.7063,-67.4091, -66.9659,-66.6709,-66.3676,-66.0693, -65.6236,-65.3255,-65.0264,-64.7278, -64.4285,-63.9796,-63.6843,-63.3941, -63.1039,-62.814,-62.5227,-62.2319, -61.945,-61.8913,-61.8345,-61.9385, -62.3699,-62.6575,-62.9551,-63.3922, -63.6709,-63.9642,-64.2627,-64.5597, -65.0051,-65.3017,-65.5978,-65.8941, -66.1899,-66.4857,-66.7809,-67.2232, -67.5181,-67.812,-68.3364,-68.6862, -69.2107,-69.7341,-70.0852,-70.4317, -70.78,-71.1277,-71.4739,-71.819, -72.1635,-72.6896,-73.0401,-73.3935, -73.7651,-74.1258,-74.491,-74.85, -75.4107,-75.7831,-76.3518,-76.7308, -77.1166,-77.5039,-77.8944,-78.4322)
FOOTPRINT_POINT_LONGITUDE = (195.408,196.597,197.809,199.045, 200.303,201.585,203.078,203.202,203.321 ,203.436,203.656,203.856,204.042, 204.213,204.449,204.662,204.866,204.979 ,205.143,205.238,205.334,205.491, 205.563,205.644,205.754,205.822,205.92, 205.989,206.051,206.153,206.199,206.258 ,206.312,206.363,206.407,206.447, 206.511,206.552,206.581,206.616,206.67, 206.703,206.735,206.766,206.796,206.839 ,206.867,206.893,206.918,206.943, 206.966,206.989,207.007,206.086,205.121 ,204.533,204.443,204.381,204.318, 204.219,204.149,204.076,204.002,203.925 ,203.806,203.723,203.638,203.551, 203.461,203.369,203.274,203.126,203.023 ,202.917,202.721,202.583,202.367, 202.139,201.978,201.813,201.64,201.46, 201.273,201.078,200.876,200.549,200.318 ,200.074,199.808,199.535,199.243, 198.939,198.436,198.076,197.486,197.062 ,196.602,196.109,195.577,195.408)
ORBIT_NUMBER = 2300
ORBITAL_ECCENTRICITY = 0.573
ORBITAL_INCLINATION = 86.64
ORBITAL_SEMIMAJOR_AXIS = 8571.19
PERIAPSIS_ALTITUDE = 277.54
PERIAPSIS_ARGUMENT_ANGLE = 313.86
PERIAPSIS_TIME = 2005-10-28T17:55:14.000Z
SPACECRAFT_ORIENTATION = (0.0,-1.0,0.0)
^MEX_ORIENTATION_DESC = "MEX_ORIENTATION_DESC.TXT"
SPACECRAFT_POINTING_MODE = ACROSSTRACK
^MEX_POINTING_DESC = "MEX_POINTING_DESC.TXT"
RIGHT_ASCENSION = -1e+32
DECLINATION = -1e+32
OFFSET_ANGLE = -0.8
SPACECRAFT_SOLAR_DISTANCE = 2.16843e+08
TARGET_NAME = MARS
/* CAMERA DATA ELEMENTS */
DETECTOR_TEMPERATURE = 18.5744
FOCAL_PLANE_TEMPERATURE = 7.9716
INST_CMPRS_NAME = "DISCRETE COSINE TRANSFORMATION (DCT)"
INST_CMPRS_RATIO = 11.5418
INST_CMPRS_QUALITY = 0
INST_CMPRS_QUANTZ_TBL_ID = 0
INSTRUMENT_TEMPERATURE = 11.0301
LENS_TEMPERATURE = 8.1755
MACROPIXEL_SIZE = 2
MISSING_FRAMES = 0
PIXEL_SUBSAMPLING_FLAG = N
SIGNAL_CHAIN_ID = 1
/* RADIOMETRIC DATA ELEMENTS */
BANDWIDTH = 178.0
CENTER_FILTER_WAVELENGTH = 679.0
RADIANCE_OFFSET = 4.3936
RADIANCE_SCALING_FACTOR = 0.0177084
REFLECTANCE_SCALING_FACTOR = 0.000440953
MEX:REFLECTANCE_OFFSET = 0.109404
/* IMAGE OBJECT DEFINITIONS */
OBJECT = IMAGE
  INTERCHANGE_FORMAT = BINARY
  LINES = 40440
  LINE_SAMPLES = 8044
  SAMPLE_TYPE = UNSIGNED_INTEGER
  SAMPLE_BITS = 8
  BANDS = 1
  BAND_STORAGE_TYPE = BAND_SEQUENTIAL
  MAXIMUM = 226
  MEAN = 167.626
  MINIMUM = 103
  STANDARD_DEVIATION = 17.4766
END_OBJECT = IMAGE
/* MAP OBJECT DEFINITIONS */
OBJECT = IMAGE_MAP_PROJECTION
  ^DATA_SET_MAP_PROJECTION_CATALOG= "DSMAP.CAT"
  A_AXIS_RADIUS = 3396.0
  B_AXIS_RADIUS = 3396.0
  C_AXIS_RADIUS = 3396.0
  CENTER_LATITUDE = 0.0
  CENTER_LONGITUDE = 204.0
  COORDINATE_SYSTEM_NAME = PLANETOGRAPHIC
  COORDINATE_SYSTEM_TYPE = "BODY-FIXED ROTATING"
  EASTERNMOST_LONGITUDE = 207.007
  FIRST_STANDARD_PARALLEL = "N/A"
  LINE_FIRST_PIXEL = 1
  LINE_LAST_PIXEL = 40440
  LINE_PROJECTION_OFFSET = -146606.75
  MAP_PROJECTION_ROTATION = 0.0
  MAP_PROJECTION_TYPE = SINUSOIDAL
  MAP_RESOLUTION = 2370.85521546667
  MAP_SCALE = 0.025
  MAXIMUM_LATITUDE = -61.8345
  MINIMUM_LATITUDE = -78.9089
  POSITIVE_LONGITUDE_DIRECTION = EAST
  REFERENCE_LATITUDE = "N/A"
  REFERENCE_LONGITUDE = "N/A"
  SAMPLE_FIRST_PIXEL = 1
  SAMPLE_LAST_PIXEL = 8044
  SAMPLE_PROJECTION_OFFSET = 4607.75
  SECOND_STANDARD_PARALLEL = "N/A"
  WESTERNMOST_LONGITUDE = 195.408
END_OBJECT = IMAGE_MAP_PROJECTION
/* The JPEG2000 image data file associated with this label. */
OBJECT = COMPRESSED_FILE
  FILE_NAME = "H2300_0000_S23.JP2"
  RECORD_TYPE = UNDEFINED
  FILE_RECORDS = UNK
  ENCODING_TYPE = "JP2"
  INTERCHANGE_FORMAT = BINARY
  UNCOMPRESSED_FILE_NAME = "H2300_0000_S23.IMG"
  REQUIRED_STORAGE_BYTES = "325331536"
  ^DESCRIPTION = "JP2INFO.TXT"
END_OBJECT = COMPRESSED_FILE
END
