PDS_VERSION_ID = PDS3
/* FILE DATA ELEMENTS */
RECORD_TYPE = STREAM
/* POINTERS TO DATA OBJECTS */
^COMPRESSED_FILE = "H2303_0000_GR3.JP2"
/* IDENTIFICATION DATA ELEMENTS */
DATA_SET_ID = "MEX-M-HRSC-5-REFDR-MAPPROJECTED-V3.0"
DATA_SET_NAME = "MARS EXPRESS HRSC MAP PROJECTED REFDR V3.0"
DETECTOR_ID = MEX_HRSC_GREEN
EVENT_TYPE = "MARS-REGIONAL-MAPPING-Gl-La"
INSTRUMENT_HOST_ID = MEX
INSTRUMENT_HOST_NAME = "MARS EXPRESS"
INSTRUMENT_ID = HRSC
INSTRUMENT_NAME = "HIGH RESOLUTION STEREO CAMERA"
MISSION_NAME = "MARS EXPRESS"
MISSION_PHASE_NAME = MR_Phase_8
PROCESSING_LEVEL_ID = 3
PRODUCT_CREATION_TIME = 2016-03-15T10:38:17.000Z
PRODUCT_ID = "H2303_0000_GR3.JP2"
RELEASE_ID = 0029
REVISION_ID = 0000
/* QUALITY DATA ELEMENTS */
DATA_QUALITY_ID = 1
DATA_QUALITY_DESC = "Data calculated based on original SPICE kernels"
/* TIME DATA ELEMENTS */
SPACECRAFT_CLOCK_START_COUNT = "1/0078673934.57169"
SPACECRAFT_CLOCK_STOP_COUNT = "1/0078674150.07160"
START_TIME = 2005-10-29T13:53:29.051Z
STOP_TIME = 2005-10-29T13:54:53.167Z
/* ORBITAL DATA ELEMENTS */
ASCENDING_NODE_LONGITUDE = 179.9
MAXIMUM_RESOLUTION = 91.2
FOOTPRINT_POINT_LATITUDE = (-84.9762,-85.1385,-85.2633,-85.4222, -85.5616,-85.7335,-85.8684,-85.9846, -86.1151,-86.1953,-86.2901,-86.4138, -86.5342,-86.6364,-86.691,-86.6161, -86.54,-86.4629,-86.3859,-86.2683, -86.1887,-86.068,-85.9473,-85.8659, -85.7837,-85.6595,-85.5772,-85.4943, -85.4108,-85.3269,-85.2426,-85.1591, -85.0751,-84.9908,-84.9061,-84.7786, -84.6944,-84.6098,-84.5249,-84.4397, -84.3116,-84.0998,-83.8436,-83.6746, -83.5047,-83.3344,-83.1658,-82.9965, -82.8268,-82.6592,-82.4769,-82.4216, -82.3763,-82.3153,-82.2657,-82.2068, -82.1611,-82.0981,-82.0246,-81.9221, -81.878,-81.8059,-81.7219,-81.7725, -81.9178,-82.0999,-82.2442,-82.3869, -82.5656,-82.7064,-82.8109,-82.916, -83.0202,-83.1227,-83.2584,-83.3593, -83.4257,-83.5564,-83.6217,-83.6863, -83.7501,-83.813,-83.8752,-83.9679, -84.0288,-84.1184,-84.177,-84.2355, -84.2931,-84.3774,-84.4321,-84.4856, -84.5385,-84.5903,-84.6407,-84.6898, -84.7613,-84.8076,-84.8524,-84.9762)
FOOTPRINT_POINT_LONGITUDE = (215.957,217.011,217.88,219.066,220.192 ,221.703,222.999,224.204,225.669, 226.636,227.851,229.571,231.417,233.139 ,234.557,235.638,236.673,237.671, 238.618,239.949,240.788,241.983,243.107 ,243.814,244.493,245.46,246.065,246.647 ,247.207,247.748,248.271,248.768, 249.248,249.713,250.164,250.812,251.222 ,251.62,252.006,252.38,252.921,253.764, 254.693,255.256,255.793,256.304,256.784 ,257.244,257.678,258.086,257.928,256.73 ,255.809,254.646,253.754,252.749, 252.005,251.027,249.944,248.531,247.954 ,247.043,246.035,244.837,244.154, 243.254,242.501,241.721,240.686,239.822 ,239.153,238.452,237.733,236.991, 235.959,235.152,234.6,233.464,232.87, 232.263,231.644,231.013,230.37,229.369, 228.682,227.626,226.905,226.165,225.403 ,224.233,223.434,222.62,221.779,220.921 ,220.047,219.157,217.785,216.842, 215.882,215.957)
ORBIT_NUMBER = 2303
ORBITAL_ECCENTRICITY = 0.573
ORBITAL_INCLINATION = 86.63
ORBITAL_SEMIMAJOR_AXIS = 8574.22
PERIAPSIS_ALTITUDE = 277.35
PERIAPSIS_ARGUMENT_ANGLE = 313.32
PERIAPSIS_TIME = 2005-10-29T14:04:30.000Z
SPACECRAFT_ORIENTATION = (0.0,-1.0,0.0)
^MEX_ORIENTATION_DESC = "MEX_ORIENTATION_DESC.TXT"
SPACECRAFT_POINTING_MODE = NADIR
^MEX_POINTING_DESC = "MEX_POINTING_DESC.TXT"
RIGHT_ASCENSION = -1e+32
DECLINATION = -1e+32
OFFSET_ANGLE = -1e+32
SPACECRAFT_SOLAR_DISTANCE = 2.1699e+08
TARGET_NAME = MARS
/* CAMERA DATA ELEMENTS */
DETECTOR_TEMPERATURE = 18.1666
FOCAL_PLANE_TEMPERATURE = 7.5638
INST_CMPRS_NAME = "DISCRETE COSINE TRANSFORMATION (DCT)"
INST_CMPRS_RATIO = 26.3456
INST_CMPRS_QUALITY = 0
INST_CMPRS_QUANTZ_TBL_ID = 0
INSTRUMENT_TEMPERATURE = 11.234
LENS_TEMPERATURE = 8.1755
MACROPIXEL_SIZE = 4
MISSING_FRAMES = 0
PIXEL_SUBSAMPLING_FLAG = N
SIGNAL_CHAIN_ID = 2
/* RADIOMETRIC DATA ELEMENTS */
BANDWIDTH = 88.0
CENTER_FILTER_WAVELENGTH = 538.0
RADIANCE_OFFSET = 1.48309
RADIANCE_SCALING_FACTOR = 0.00203861
REFLECTANCE_SCALING_FACTOR = 8.26412e-05
MEX:REFLECTANCE_OFFSET = 0.0601215
/* IMAGE OBJECT DEFINITIONS */
OBJECT = IMAGE
  INTERCHANGE_FORMAT = BINARY
  LINES = 2944
  LINE_SAMPLES = 2649
  SAMPLE_TYPE = UNSIGNED_INTEGER
  SAMPLE_BITS = 8
  BANDS = 1
  BAND_STORAGE_TYPE = BAND_SEQUENTIAL
  MAXIMUM = 137
  MEAN = 115.658
  MINIMUM = 96
  STANDARD_DEVIATION = 6.77989
END_OBJECT = IMAGE
/* MAP OBJECT DEFINITIONS */
OBJECT = IMAGE_MAP_PROJECTION
  ^DATA_SET_MAP_PROJECTION_CATALOG= "DSMAP.CAT"
  A_AXIS_RADIUS = 3396.0
  B_AXIS_RADIUS = 3396.0
  C_AXIS_RADIUS = 3396.0
  CENTER_LATITUDE = 0.0
  CENTER_LONGITUDE = 242.0
  COORDINATE_SYSTEM_NAME = PLANETOGRAPHIC
  COORDINATE_SYSTEM_TYPE = "BODY-FIXED ROTATING"
  EASTERNMOST_LONGITUDE = 258.086
  FIRST_STANDARD_PARALLEL = "N/A"
  LINE_FIRST_PIXEL = 1
  LINE_LAST_PIXEL = 2944
  LINE_PROJECTION_OFFSET = -48418.875
  MAP_PROJECTION_ROTATION = 0.0
  MAP_PROJECTION_TYPE = SINUSOIDAL
  MAP_RESOLUTION = 592.713803866667
  MAP_SCALE = 0.1
  MAXIMUM_LATITUDE = -81.72190000000001
  MINIMUM_LATITUDE = -86.691
  POSITIVE_LONGITUDE_DIRECTION = EAST
  REFERENCE_LATITUDE = "N/A"
  REFERENCE_LONGITUDE = "N/A"
  SAMPLE_FIRST_PIXEL = 1
  SAMPLE_LAST_PIXEL = 2649
  SAMPLE_PROJECTION_OFFSET = 1374.625
  SECOND_STANDARD_PARALLEL = "N/A"
  WESTERNMOST_LONGITUDE = 215.882
END_OBJECT = IMAGE_MAP_PROJECTION
/* The JPEG2000 image data file associated with this label. */
OBJECT = COMPRESSED_FILE
  FILE_NAME = "H2303_0000_GR3.JP2"
  RECORD_TYPE = UNDEFINED
  FILE_RECORDS = UNK
  ENCODING_TYPE = "JP2"
  INTERCHANGE_FORMAT = BINARY
  UNCOMPRESSED_FILE_NAME = "H2303_0000_GR3.IMG"
  REQUIRED_STORAGE_BYTES = "7819848"
  ^DESCRIPTION = "JP2INFO.TXT"
END_OBJECT = COMPRESSED_FILE
END
