PDS_VERSION_ID = PDS3
/* FILE DATA ELEMENTS */
RECORD_TYPE = STREAM
/* POINTERS TO DATA OBJECTS */
^COMPRESSED_FILE = "H2313_0000_ND3.JP2"
/* IDENTIFICATION DATA ELEMENTS */
DATA_SET_ID = "MEX-M-HRSC-5-REFDR-MAPPROJECTED-V3.0"
DATA_SET_NAME = "MARS EXPRESS HRSC MAP PROJECTED REFDR V3.0"
DETECTOR_ID = MEX_HRSC_NADIR
EVENT_TYPE = "MARS-REGIONAL-MAPPING-Vo-Gl-Pf"
INSTRUMENT_HOST_ID = MEX
INSTRUMENT_HOST_NAME = "MARS EXPRESS"
INSTRUMENT_ID = HRSC
INSTRUMENT_NAME = "HIGH RESOLUTION STEREO CAMERA"
MISSION_NAME = "MARS EXPRESS"
MISSION_PHASE_NAME = MR_Phase_8
PROCESSING_LEVEL_ID = 3
PRODUCT_CREATION_TIME = 2016-03-15T10:38:17.000Z
PRODUCT_ID = "H2313_0000_ND3.JP2"
RELEASE_ID = 0029
REVISION_ID = 0000
/* QUALITY DATA ELEMENTS */
DATA_QUALITY_ID = 1
DATA_QUALITY_DESC = "Data calculated based on original SPICE kernels"
/* TIME DATA ELEMENTS */
SPACECRAFT_CLOCK_START_COUNT = "1/0078916007.56188"
SPACECRAFT_CLOCK_STOP_COUNT = "1/0078916378.07188"
START_TIME = 2005-11-01T09:07:42.096Z
STOP_TIME = 2005-11-01T09:12:37.094Z
/* ORBITAL DATA ELEMENTS */
ASCENDING_NODE_LONGITUDE = 179.7
MAXIMUM_RESOLUTION = 11.8
FOOTPRINT_POINT_LATITUDE = (-76.258,-76.3595,-76.4839,-76.0475, -75.5952,-75.1433,-74.7004,-74.2577, -73.8232,-73.3888,-72.9633,-72.3274, -71.9106,-71.4927,-71.0739,-70.6542, -70.2335,-69.8118,-69.3893,-68.9659, -68.5416,-68.1404,-67.7835,-67.4262, -67.0682,-66.7097,-66.3506,-65.991, -65.6309,-65.2702,-64.909,-64.5472, -64.1885,-63.8376,-63.4862,-63.1344, -62.6095,-62.2684,-61.9269,-61.5851, -61.243,-60.9016,-60.5707,-60.2393, -59.9077,-59.5757,-59.2435,-58.7492, -58.428,-58.1066,-57.6029,-57.5808, -57.7049,-58.025,-58.6644,-59.156, -59.4866,-59.8168,-60.1468,-60.4764, -60.8056,-61.1445,-61.4846,-61.8244, -62.1637,-62.5026,-63.0235,-63.3729, -63.7218,-64.0701,-64.4256,-64.7844, -65.1426,-65.5002,-65.8572,-66.2135, -66.5692,-66.9242,-67.2785,-67.6321, -67.985,-68.3782,-68.7974,-69.2156, -69.6325,-70.0484,-70.463,-70.8764, -71.2885,-71.6994,-72.1089,-72.7323, -73.1492,-73.574,-73.9985,-74.4301, -74.8617,-75.3008,-75.7402,-76.258)
FOOTPRINT_POINT_LONGITUDE = (360.286,362.254,365.304,366.234, 366.433,366.616,366.786,366.947,367.091 ,367.236,367.367,367.55,367.662,367.769 ,367.871,367.97,368.062,368.151,368.236 ,368.318,368.396,368.467,368.528, 368.586,368.643,368.698,368.752,368.803 ,368.853,368.901,368.948,368.989, 369.037,369.078,369.118,369.157,369.212 ,369.248,369.281,369.314,369.347, 369.379,369.41,369.439,369.467,369.493, 369.52,369.566,369.582,369.602,369.44, 368.681,367.656,367.607,367.503,367.419 ,367.361,367.301,367.24,367.177,367.112 ,367.042,366.971,366.897,366.821, 366.743,366.618,366.531,366.441,366.348 ,366.251,366.148,366.042,365.933,365.82 ,365.703,365.582,365.457,365.327, 365.193,365.054,364.893,364.714,364.527 ,364.331,364.127,363.913,363.689, 363.455,363.209,362.952,362.534,362.235 ,361.913,361.572,361.204,360.813, 360.389,359.992,360.286)
ORBIT_NUMBER = 2313
ORBITAL_ECCENTRICITY = 0.573
ORBITAL_INCLINATION = 86.63
ORBITAL_SEMIMAJOR_AXIS = 8569.74
PERIAPSIS_ALTITUDE = 277.56
PERIAPSIS_ARGUMENT_ANGLE = 311.56
PERIAPSIS_TIME = 2005-11-01T09:14:55.000Z
SPACECRAFT_ORIENTATION = (0.0,-1.0,0.0)
^MEX_ORIENTATION_DESC = "MEX_ORIENTATION_DESC.TXT"
SPACECRAFT_POINTING_MODE = ACROSSTRACK
^MEX_POINTING_DESC = "MEX_POINTING_DESC.TXT"
RIGHT_ASCENSION = -1e+32
DECLINATION = -1e+32
OFFSET_ANGLE = -0.6
SPACECRAFT_SOLAR_DISTANCE = 2.17484e+08
TARGET_NAME = MARS
/* CAMERA DATA ELEMENTS */
DETECTOR_TEMPERATURE = 18.3705
FOCAL_PLANE_TEMPERATURE = 9.3989
INST_CMPRS_NAME = "DISCRETE COSINE TRANSFORMATION (DCT)"
INST_CMPRS_RATIO = 7.59558
INST_CMPRS_QUALITY = 0
INST_CMPRS_QUANTZ_TBL_ID = 0
INSTRUMENT_TEMPERATURE = 11.234
LENS_TEMPERATURE = 9.3989
MACROPIXEL_SIZE = 1
MISSING_FRAMES = 0
PIXEL_SUBSAMPLING_FLAG = N
SIGNAL_CHAIN_ID = 0
/* RADIOMETRIC DATA ELEMENTS */
BANDWIDTH = 177.0
CENTER_FILTER_WAVELENGTH = 677.5
RADIANCE_OFFSET = 4.42144
RADIANCE_SCALING_FACTOR = 0.0132407
REFLECTANCE_SCALING_FACTOR = 0.000332696
MEX:REFLECTANCE_OFFSET = 0.111097
/* IMAGE OBJECT DEFINITIONS */
OBJECT = IMAGE
  INTERCHANGE_FORMAT = BINARY
  LINES = 89935
  LINE_SAMPLES = 15279
  SAMPLE_TYPE = UNSIGNED_INTEGER
  SAMPLE_BITS = 8
  BANDS = 1
  BAND_STORAGE_TYPE = BAND_SEQUENTIAL
  MAXIMUM = 169
  MEAN = 79.0636
  MINIMUM = 48
  STANDARD_DEVIATION = 5.38792
END_OBJECT = IMAGE
/* MAP OBJECT DEFINITIONS */
OBJECT = IMAGE_MAP_PROJECTION
  ^DATA_SET_MAP_PROJECTION_CATALOG= "DSMAP.CAT"
  A_AXIS_RADIUS = 3396.0
  B_AXIS_RADIUS = 3396.0
  C_AXIS_RADIUS = 3396.0
  CENTER_LATITUDE = 0.0
  CENTER_LONGITUDE = 7.0
  COORDINATE_SYSTEM_NAME = PLANETOGRAPHIC
  COORDINATE_SYSTEM_TYPE = "BODY-FIXED ROTATING"
  EASTERNMOST_LONGITUDE = 9.602
  FIRST_STANDARD_PARALLEL = "N/A"
  LINE_FIRST_PIXEL = 1
  LINE_LAST_PIXEL = 89935
  LINE_PROJECTION_OFFSET = -272856.0
  MAP_PROJECTION_ROTATION = 0.0
  MAP_PROJECTION_TYPE = SINUSOIDAL
  MAP_RESOLUTION = 4741.71043093333
  MAP_SCALE = 0.0125
  MAXIMUM_LATITUDE = -57.5808
  MINIMUM_LATITUDE = -76.48390000000001
  POSITIVE_LONGITUDE_DIRECTION = EAST
  REFERENCE_LATITUDE = "N/A"
  REFERENCE_LONGITUDE = "N/A"
  SAMPLE_FIRST_PIXEL = 1
  SAMPLE_LAST_PIXEL = 15279
  SAMPLE_PROJECTION_OFFSET = 8543.0
  SECOND_STANDARD_PARALLEL = "N/A"
  WESTERNMOST_LONGITUDE = -0.008
END_OBJECT = IMAGE_MAP_PROJECTION
/* The JPEG2000 image data file associated with this label. */
OBJECT = COMPRESSED_FILE
  FILE_NAME = "H2313_0000_ND3.JP2"
  RECORD_TYPE = UNDEFINED
  FILE_RECORDS = UNK
  ENCODING_TYPE = "JP2"
  INTERCHANGE_FORMAT = BINARY
  UNCOMPRESSED_FILE_NAME = "H2313_0000_ND3.IMG"
  REQUIRED_STORAGE_BYTES = "1374162702"
  ^DESCRIPTION = "JP2INFO.TXT"
END_OBJECT = COMPRESSED_FILE
END
