PDS_VERSION_ID = PDS3
/* FILE DATA ELEMENTS */
RECORD_TYPE = STREAM
/* POINTERS TO DATA OBJECTS */
^COMPRESSED_FILE = "H2313_0000_S13.JP2"
/* IDENTIFICATION DATA ELEMENTS */
DATA_SET_ID = "MEX-M-HRSC-5-REFDR-MAPPROJECTED-V3.0"
DATA_SET_NAME = "MARS EXPRESS HRSC MAP PROJECTED REFDR V3.0"
DETECTOR_ID = MEX_HRSC_S1
EVENT_TYPE = "MARS-REGIONAL-MAPPING-Vo-Gl-Pf"
INSTRUMENT_HOST_ID = MEX
INSTRUMENT_HOST_NAME = "MARS EXPRESS"
INSTRUMENT_ID = HRSC
INSTRUMENT_NAME = "HIGH RESOLUTION STEREO CAMERA"
MISSION_NAME = "MARS EXPRESS"
MISSION_PHASE_NAME = MR_Phase_8
PROCESSING_LEVEL_ID = 3
PRODUCT_CREATION_TIME = 2016-03-15T10:38:17.000Z
PRODUCT_ID = "H2313_0000_S13.JP2"
RELEASE_ID = 0029
REVISION_ID = 0000
/* QUALITY DATA ELEMENTS */
DATA_QUALITY_ID = 1
DATA_QUALITY_DESC = "Data calculated based on original SPICE kernels"
/* TIME DATA ELEMENTS */
SPACECRAFT_CLOCK_START_COUNT = "1/0078916007.56188"
SPACECRAFT_CLOCK_STOP_COUNT = "1/0078916378.07188"
START_TIME = 2005-11-01T09:06:54.855Z
STOP_TIME = 2005-11-01T09:12:09.835Z
/* ORBITAL DATA ELEMENTS */
ASCENDING_NODE_LONGITUDE = 179.7
MAXIMUM_RESOLUTION = 25.8
FOOTPRINT_POINT_LATITUDE = (-76.3287,-76.4365,-76.5257,-76.5953, -76.2854,-75.8314,-75.3816,-74.9366, -74.4977,-74.0594,-73.628,-72.9861, -72.5616,-72.1454,-71.7285,-71.3179, -70.9081,-70.5057,-70.1019,-69.7081, -69.3116,-68.9139,-68.5155,-68.1153, -67.7138,-67.3115,-66.9076,-66.5016, -66.0988,-65.7573,-65.2432,-64.9001, -64.5579,-64.2094,-63.863,-63.3425, -62.9944,-62.6457,-62.2963,-61.9574, -61.6173,-61.276,-60.764,-60.4315, -60.1002,-59.7682,-59.4356,-58.9386, -58.6109,-58.1346,-57.6107,-57.6015, -57.5881,-57.9117,-58.3957,-58.7181, -59.0394,-59.3708,-59.7023,-60.0328, -60.3624,-60.6915,-61.0294,-61.3687, -61.8759,-62.2141,-62.5592,-62.9061, -63.2527,-63.5961,-63.9398,-64.2829, -64.6253,-64.9666,-65.3081,-65.6462, -65.9845,-66.3764,-66.7774,-67.1777, -67.5752,-68.1699,-68.5673,-68.9567, -69.3476,-69.9314,-70.3277,-70.7203, -71.1244,-71.527,-71.9347,-72.3438, -72.7578,-73.3829,-73.8038,-74.2295, -74.8726,-75.3038,-75.7586,-76.3287)
FOOTPRINT_POINT_LONGITUDE = (359.07,361.18,363.346,365.566,366.465, 366.652,366.824,366.981,367.128,367.268 ,367.398,367.581,367.694,367.796, 367.897,367.992,368.081,368.165,368.245 ,368.318,368.392,368.462,368.529, 368.594,368.657,368.716,368.774,368.832 ,368.885,368.929,368.993,369.033, 369.069,369.113,369.151,369.206,369.241 ,369.274,369.308,369.339,369.37,369.401 ,369.446,369.475,369.501,369.526, 369.551,369.59,369.619,369.64,369.336, 368.57,367.656,367.606,367.527,367.473, 367.417,367.358,367.297,367.235,367.171 ,367.105,367.035,366.963,366.851, 366.773,366.691,366.607,366.519,366.429 ,366.337,366.241,366.143,366.041, 365.936,365.828,365.717,365.583,365.441 ,365.293,365.139,364.898,364.728, 364.553,364.37,364.082,363.875,363.66, 363.429,363.186,362.929,362.656,362.366 ,361.896,361.557,361.193,360.6,360.17, 359.78,359.07)
ORBIT_NUMBER = 2313
ORBITAL_ECCENTRICITY = 0.573
ORBITAL_INCLINATION = 86.63
ORBITAL_SEMIMAJOR_AXIS = 8569.74
PERIAPSIS_ALTITUDE = 277.56
PERIAPSIS_ARGUMENT_ANGLE = 311.56
PERIAPSIS_TIME = 2005-11-01T09:14:55.000Z
SPACECRAFT_ORIENTATION = (0.0,-1.0,0.0)
^MEX_ORIENTATION_DESC = "MEX_ORIENTATION_DESC.TXT"
SPACECRAFT_POINTING_MODE = ACROSSTRACK
^MEX_POINTING_DESC = "MEX_POINTING_DESC.TXT"
RIGHT_ASCENSION = -1e+32
DECLINATION = -1e+32
OFFSET_ANGLE = -0.6
SPACECRAFT_SOLAR_DISTANCE = 2.17484e+08
TARGET_NAME = MARS
/* CAMERA DATA ELEMENTS */
DETECTOR_TEMPERATURE = 17.5549
FOCAL_PLANE_TEMPERATURE = 9.3989
INST_CMPRS_NAME = "DISCRETE COSINE TRANSFORMATION (DCT)"
INST_CMPRS_RATIO = 15.1063
INST_CMPRS_QUALITY = 0
INST_CMPRS_QUANTZ_TBL_ID = 0
INSTRUMENT_TEMPERATURE = 11.234
LENS_TEMPERATURE = 9.3989
MACROPIXEL_SIZE = 2
MISSING_FRAMES = 0
PIXEL_SUBSAMPLING_FLAG = N
SIGNAL_CHAIN_ID = 1
/* RADIOMETRIC DATA ELEMENTS */
BANDWIDTH = 180.0
CENTER_FILTER_WAVELENGTH = 677.0
RADIANCE_OFFSET = 5.63601
RADIANCE_SCALING_FACTOR = 0.0117877
REFLECTANCE_SCALING_FACTOR = 0.000290888
MEX:REFLECTANCE_OFFSET = 0.139081
/* IMAGE OBJECT DEFINITIONS */
OBJECT = IMAGE
  INTERCHANGE_FORMAT = BINARY
  LINES = 44968
  LINE_SAMPLES = 7640
  SAMPLE_TYPE = UNSIGNED_INTEGER
  SAMPLE_BITS = 8
  BANDS = 1
  BAND_STORAGE_TYPE = BAND_SEQUENTIAL
  MAXIMUM = 118
  MEAN = 99.416
  MINIMUM = 71
  STANDARD_DEVIATION = 5.61264
END_OBJECT = IMAGE
/* MAP OBJECT DEFINITIONS */
OBJECT = IMAGE_MAP_PROJECTION
  ^DATA_SET_MAP_PROJECTION_CATALOG= "DSMAP.CAT"
  A_AXIS_RADIUS = 3396.0
  B_AXIS_RADIUS = 3396.0
  C_AXIS_RADIUS = 3396.0
  CENTER_LATITUDE = 0.0
  CENTER_LONGITUDE = 7.0
  COORDINATE_SYSTEM_NAME = PLANETOGRAPHIC
  COORDINATE_SYSTEM_TYPE = "BODY-FIXED ROTATING"
  EASTERNMOST_LONGITUDE = 9.640000000000001
  FIRST_STANDARD_PARALLEL = "N/A"
  LINE_FIRST_PIXEL = 1
  LINE_LAST_PIXEL = 44968
  LINE_PROJECTION_OFFSET = -136428.25
  MAP_PROJECTION_ROTATION = 0.0
  MAP_PROJECTION_TYPE = SINUSOIDAL
  MAP_RESOLUTION = 2370.85521546667
  MAP_SCALE = 0.025
  MAXIMUM_LATITUDE = -57.5881
  MINIMUM_LATITUDE = -76.59529999999999
  POSITIVE_LONGITUDE_DIRECTION = EAST
  REFERENCE_LATITUDE = "N/A"
  REFERENCE_LONGITUDE = "N/A"
  SAMPLE_FIRST_PIXEL = 1
  SAMPLE_LAST_PIXEL = 7640
  SAMPLE_PROJECTION_OFFSET = 4271.25
  SECOND_STANDARD_PARALLEL = "N/A"
  WESTERNMOST_LONGITUDE = -0.93
END_OBJECT = IMAGE_MAP_PROJECTION
/* The JPEG2000 image data file associated with this label. */
OBJECT = COMPRESSED_FILE
  FILE_NAME = "H2313_0000_S13.JP2"
  RECORD_TYPE = UNDEFINED
  FILE_RECORDS = UNK
  ENCODING_TYPE = "JP2"
  INTERCHANGE_FORMAT = BINARY
  UNCOMPRESSED_FILE_NAME = "H2313_0000_S13.IMG"
  REQUIRED_STORAGE_BYTES = "343586080"
  ^DESCRIPTION = "JP2INFO.TXT"
END_OBJECT = COMPRESSED_FILE
END
