PDS_VERSION_ID = PDS3
/* FILE DATA ELEMENTS */
RECORD_TYPE = STREAM
/* POINTERS TO DATA OBJECTS */
^COMPRESSED_FILE = "H2315_0000_P23.JP2"
/* IDENTIFICATION DATA ELEMENTS */
DATA_SET_ID = "MEX-M-HRSC-5-REFDR-MAPPROJECTED-V3.0"
DATA_SET_NAME = "MARS EXPRESS HRSC MAP PROJECTED REFDR V3.0"
DETECTOR_ID = MEX_HRSC_P2
EVENT_TYPE = "MARS-REGIONAL-MAPPING-Im-Eo"
INSTRUMENT_HOST_ID = MEX
INSTRUMENT_HOST_NAME = "MARS EXPRESS"
INSTRUMENT_ID = HRSC
INSTRUMENT_NAME = "HIGH RESOLUTION STEREO CAMERA"
MISSION_NAME = "MARS EXPRESS"
MISSION_PHASE_NAME = MR_Phase_8
PROCESSING_LEVEL_ID = 3
PRODUCT_CREATION_TIME = 2016-03-15T10:38:17.000Z
PRODUCT_ID = "H2315_0000_P23.JP2"
RELEASE_ID = 0029
REVISION_ID = 0000
/* QUALITY DATA ELEMENTS */
DATA_QUALITY_ID = 1
DATA_QUALITY_DESC = "Data calculated based on original SPICE kernels"
/* TIME DATA ELEMENTS */
SPACECRAFT_CLOCK_START_COUNT = "1/0078964607.56192"
SPACECRAFT_CLOCK_STOP_COUNT = "1/0078964774.24022"
START_TIME = 2005-11-01T22:37:44.018Z
STOP_TIME = 2005-11-01T22:39:30.743Z
/* ORBITAL DATA ELEMENTS */
ASCENDING_NODE_LONGITUDE = 179.65
MAXIMUM_RESOLUTION = 46.9
FOOTPRINT_POINT_LATITUDE = (-62.952,-62.9692,-62.9886,-63.004, -63.0188,-63.0319,-62.9491,-62.7957, -62.6463,-62.5026,-62.3557,-62.1326, -61.9842,-61.8362,-61.6917,-61.544, -61.3966,-61.2478,-61.0983,-60.9512, -60.8042,-60.6575,-60.5154,-60.3029, -60.1624,-60.0203,-59.8781,-59.7359, -59.5937,-59.4512,-59.3088,-59.1661, -59.0236,-58.8814,-58.7394,-58.5966, -58.3831,-58.171,-58.0339,-57.8963, -57.7583,-57.6209,-57.4834,-57.3465, -57.209,-56.8674,-56.6617,-56.5245, -56.3867,-56.2476,-56.1102,-55.9729, -55.9264,-55.9176,-55.9082,-55.8968, -55.8831,-56.0811,-56.3542,-56.5592, -56.6962,-56.8328,-56.9712,-57.1786, -57.3159,-57.4524,-57.7235,-57.8617, -58.0003,-58.2076,-58.3485,-58.489, -58.6282,-58.7666,-58.9085,-59.0512, -59.1929,-59.4053,-59.5468,-59.688, -59.8995,-60.1109,-60.2519,-60.3932, -60.5343,-60.6786,-60.8249,-61.0442, -61.1904,-61.3358,-61.4837,-61.7051, -61.8502,-61.9969,-62.1451,-62.2915, -62.5106,-62.6585,-62.8094,-62.952)
FOOTPRINT_POINT_LONGITUDE = (168.477,168.825,169.237,169.584,169.93 ,170.253,170.76,170.787,170.813,170.839 ,170.864,170.9,170.923,170.947,170.972, 170.995,171.018,171.04,171.061,171.084, 171.106,171.128,171.149,171.18,171.201, 171.221,171.24,171.26,171.279,171.299, 171.318,171.336,171.355,171.373,171.392 ,171.41,171.436,171.462,171.479,171.495 ,171.511,171.528,171.544,171.56,171.575 ,171.614,171.637,171.652,171.667, 171.681,171.696,171.71,171.32,171.056, 170.791,170.475,170.126,169.901,169.854 ,169.818,169.793,169.768,169.741, 169.699,169.672,169.646,169.596,169.567 ,169.537,169.494,169.467,169.439, 169.413,169.388,169.357,169.325,169.294 ,169.246,169.214,169.182,169.134, 169.085,169.052,169.018,168.983,168.948 ,168.912,168.856,168.818,168.781,168.74 ,168.677,168.638,168.597,168.552,168.51 ,168.446,168.402,168.357,168.477)
ORBIT_NUMBER = 2315
ORBITAL_ECCENTRICITY = 0.572
ORBITAL_INCLINATION = 86.64
ORBITAL_SEMIMAJOR_AXIS = 8567.34
PERIAPSIS_ALTITUDE = 277.74
PERIAPSIS_ARGUMENT_ANGLE = 311.24
PERIAPSIS_TIME = 2005-11-01T22:41:03.000Z
SPACECRAFT_ORIENTATION = (0.0,-1.0,0.0)
^MEX_ORIENTATION_DESC = "MEX_ORIENTATION_DESC.TXT"
SPACECRAFT_POINTING_MODE = ACROSSTRACK
^MEX_POINTING_DESC = "MEX_POINTING_DESC.TXT"
RIGHT_ASCENSION = -1e+32
DECLINATION = -1e+32
OFFSET_ANGLE = 0.2
SPACECRAFT_SOLAR_DISTANCE = 2.17584e+08
TARGET_NAME = MARS
/* CAMERA DATA ELEMENTS */
DETECTOR_TEMPERATURE = 18.5744
FOCAL_PLANE_TEMPERATURE = 7.7677
INST_CMPRS_NAME = "DISCRETE COSINE TRANSFORMATION (DCT)"
INST_CMPRS_RATIO = 11.5923
INST_CMPRS_QUALITY = 0
INST_CMPRS_QUANTZ_TBL_ID = 0
INSTRUMENT_TEMPERATURE = 11.0301
LENS_TEMPERATURE = 8.3794
MACROPIXEL_SIZE = 4
MISSING_FRAMES = 0
PIXEL_SUBSAMPLING_FLAG = N
SIGNAL_CHAIN_ID = 3
/* RADIOMETRIC DATA ELEMENTS */
BANDWIDTH = 177.0
CENTER_FILTER_WAVELENGTH = 676.5
RADIANCE_OFFSET = 4.14544
RADIANCE_SCALING_FACTOR = 0.0137165
REFLECTANCE_SCALING_FACTOR = 0.000344314
MEX:REFLECTANCE_OFFSET = 0.104059
/* IMAGE OBJECT DEFINITIONS */
OBJECT = IMAGE
  INTERCHANGE_FORMAT = BINARY
  LINES = 8596
  LINE_SAMPLES = 2104
  SAMPLE_TYPE = UNSIGNED_INTEGER
  SAMPLE_BITS = 8
  BANDS = 1
  BAND_STORAGE_TYPE = BAND_SEQUENTIAL
  MAXIMUM = 180
  MEAN = 144.912
  MINIMUM = 95
  STANDARD_DEVIATION = 10.7348
END_OBJECT = IMAGE
/* MAP OBJECT DEFINITIONS */
OBJECT = IMAGE_MAP_PROJECTION
  ^DATA_SET_MAP_PROJECTION_CATALOG= "DSMAP.CAT"
  A_AXIS_RADIUS = 3396.0
  B_AXIS_RADIUS = 3396.0
  C_AXIS_RADIUS = 3396.0
  CENTER_LATITUDE = 0.0
  CENTER_LONGITUDE = 170.0
  COORDINATE_SYSTEM_NAME = PLANETOGRAPHIC
  COORDINATE_SYSTEM_TYPE = "BODY-FIXED ROTATING"
  EASTERNMOST_LONGITUDE = 171.71
  FIRST_STANDARD_PARALLEL = "N/A"
  LINE_FIRST_PIXEL = 1
  LINE_LAST_PIXEL = 8596
  LINE_PROJECTION_OFFSET = -66236.375
  MAP_PROJECTION_ROTATION = 0.0
  MAP_PROJECTION_TYPE = SINUSOIDAL
  MAP_RESOLUTION = 1185.42760773333
  MAP_SCALE = 0.05
  MAXIMUM_LATITUDE = -55.8831
  MINIMUM_LATITUDE = -63.0319
  POSITIVE_LONGITUDE_DIRECTION = EAST
  REFERENCE_LATITUDE = "N/A"
  REFERENCE_LONGITUDE = "N/A"
  SAMPLE_FIRST_PIXEL = 1
  SAMPLE_LAST_PIXEL = 2104
  SAMPLE_PROJECTION_OFFSET = 951.625
  SECOND_STANDARD_PARALLEL = "N/A"
  WESTERNMOST_LONGITUDE = 168.357
END_OBJECT = IMAGE_MAP_PROJECTION
/* The JPEG2000 image data file associated with this label. */
OBJECT = COMPRESSED_FILE
  FILE_NAME = "H2315_0000_P23.JP2"
  RECORD_TYPE = UNDEFINED
  FILE_RECORDS = UNK
  ENCODING_TYPE = "JP2"
  INTERCHANGE_FORMAT = BINARY
  UNCOMPRESSED_FILE_NAME = "H2315_0000_P23.IMG"
  REQUIRED_STORAGE_BYTES = "18107024"
  ^DESCRIPTION = "JP2INFO.TXT"
END_OBJECT = COMPRESSED_FILE
END
