PDS_VERSION_ID = PDS3
/* FILE DATA ELEMENTS */
RECORD_TYPE = STREAM
/* POINTERS TO DATA OBJECTS */
^COMPRESSED_FILE = "H2315_0000_S23.JP2"
/* IDENTIFICATION DATA ELEMENTS */
DATA_SET_ID = "MEX-M-HRSC-5-REFDR-MAPPROJECTED-V3.0"
DATA_SET_NAME = "MARS EXPRESS HRSC MAP PROJECTED REFDR V3.0"
DETECTOR_ID = MEX_HRSC_S2
EVENT_TYPE = "MARS-REGIONAL-MAPPING-Im-Eo"
INSTRUMENT_HOST_ID = MEX
INSTRUMENT_HOST_NAME = "MARS EXPRESS"
INSTRUMENT_ID = HRSC
INSTRUMENT_NAME = "HIGH RESOLUTION STEREO CAMERA"
MISSION_NAME = "MARS EXPRESS"
MISSION_PHASE_NAME = MR_Phase_8
PROCESSING_LEVEL_ID = 3
PRODUCT_CREATION_TIME = 2016-03-15T10:38:17.000Z
PRODUCT_ID = "H2315_0000_S23.JP2"
RELEASE_ID = 0029
REVISION_ID = 0000
/* QUALITY DATA ELEMENTS */
DATA_QUALITY_ID = 1
DATA_QUALITY_DESC = "Data calculated based on original SPICE kernels"
/* TIME DATA ELEMENTS */
SPACECRAFT_CLOCK_START_COUNT = "1/0078964607.56192"
SPACECRAFT_CLOCK_STOP_COUNT = "1/0078964774.24022"
START_TIME = 2005-11-01T22:37:53.449Z
STOP_TIME = 2005-11-01T22:39:39.316Z
/* ORBITAL DATA ELEMENTS */
ASCENDING_NODE_LONGITUDE = 179.65
MAXIMUM_RESOLUTION = 24.1
FOOTPRINT_POINT_LATITUDE = (-62.9266,-62.943,-62.9586,-62.9735, -62.9877,-63.0002,-63.0949,-62.9439, -62.7194,-62.5726,-62.4287,-62.2799, -62.1284,-61.9029,-61.6826,-61.5331, -61.3836,-61.2345,-61.0878,-60.9445, -60.8015,-60.6588,-60.5155,-60.3009, -60.1605,-59.9455,-59.8021,-59.6588, -59.5152,-59.3717,-59.2279,-59.0837, -58.9403,-58.7976,-58.59,-58.4518, -58.3138,-58.1752,-58.0372,-57.8985, -57.76,-57.6208,-57.4823,-57.3446, -57.206,-56.9984,-56.7254,-56.5874, -56.4492,-56.3085,-56.1697,-55.9257, -55.9164,-55.9081,-55.8987,-55.8854, -55.9399,-56.1455,-56.2827,-56.4196, -56.5573,-56.764,-56.9032,-57.114, -57.2531,-57.3906,-57.5273,-57.6625, -57.8724,-58.0123,-58.1501,-58.2868, -58.4227,-58.6903,-58.8284,-58.9732, -59.1884,-59.3311,-59.4741,-59.6164, -59.7588,-59.9717,-60.1137,-60.3272, -60.4697,-60.6825,-60.8245,-60.9671, -61.1092,-61.2536,-61.4776,-61.6283, -61.7759,-61.922,-62.0726,-62.296, -62.4441,-62.6655,-62.813,-62.9266)
FOOTPRINT_POINT_LONGITUDE = (168.567,168.926,169.285,169.643, 169.999,170.334,170.736,170.762,170.801 ,170.827,170.853,170.878,170.903, 170.939,170.975,170.999,171.022,171.044 ,171.066,171.087,171.109,171.13,171.152 ,171.183,171.204,171.234,171.254, 171.274,171.294,171.313,171.332,171.351 ,171.369,171.388,171.414,171.432, 171.449,171.466,171.483,171.499,171.516 ,171.532,171.548,171.564,171.58,171.604 ,171.635,171.65,171.666,171.68,171.695, 171.653,171.327,171.052,170.76,170.363, 169.928,169.893,169.87,169.846,169.822, 169.785,169.758,169.716,169.688,169.662 ,169.637,169.613,169.569,169.539, 169.511,169.484,169.458,169.408,169.381 ,169.348,169.301,169.269,169.237, 169.205,169.173,169.125,169.092,169.041 ,169.007,168.955,168.92,168.884,168.848 ,168.811,168.75,168.707,168.667,168.628 ,168.584,168.519,168.476,168.411, 168.367,168.567)
ORBIT_NUMBER = 2315
ORBITAL_ECCENTRICITY = 0.572
ORBITAL_INCLINATION = 86.64
ORBITAL_SEMIMAJOR_AXIS = 8567.34
PERIAPSIS_ALTITUDE = 277.74
PERIAPSIS_ARGUMENT_ANGLE = 311.24
PERIAPSIS_TIME = 2005-11-01T22:41:03.000Z
SPACECRAFT_ORIENTATION = (0.0,-1.0,0.0)
^MEX_ORIENTATION_DESC = "MEX_ORIENTATION_DESC.TXT"
SPACECRAFT_POINTING_MODE = ACROSSTRACK
^MEX_POINTING_DESC = "MEX_POINTING_DESC.TXT"
RIGHT_ASCENSION = -1e+32
DECLINATION = -1e+32
OFFSET_ANGLE = 0.2
SPACECRAFT_SOLAR_DISTANCE = 2.17584e+08
TARGET_NAME = MARS
/* CAMERA DATA ELEMENTS */
DETECTOR_TEMPERATURE = 18.5744
FOCAL_PLANE_TEMPERATURE = 7.7677
INST_CMPRS_NAME = "DISCRETE COSINE TRANSFORMATION (DCT)"
INST_CMPRS_RATIO = 11.1502
INST_CMPRS_QUALITY = 0
INST_CMPRS_QUANTZ_TBL_ID = 0
INSTRUMENT_TEMPERATURE = 11.0301
LENS_TEMPERATURE = 8.3794
MACROPIXEL_SIZE = 2
MISSING_FRAMES = 0
PIXEL_SUBSAMPLING_FLAG = N
SIGNAL_CHAIN_ID = 1
/* RADIOMETRIC DATA ELEMENTS */
BANDWIDTH = 178.0
CENTER_FILTER_WAVELENGTH = 679.0
RADIANCE_OFFSET = 4.46174
RADIANCE_SCALING_FACTOR = 0.0151781
REFLECTANCE_SCALING_FACTOR = 0.000380541
MEX:REFLECTANCE_OFFSET = 0.111863
/* IMAGE OBJECT DEFINITIONS */
OBJECT = IMAGE
  INTERCHANGE_FORMAT = BINARY
  LINES = 17191
  LINE_SAMPLES = 4208
  SAMPLE_TYPE = UNSIGNED_INTEGER
  SAMPLE_BITS = 8
  BANDS = 1
  BAND_STORAGE_TYPE = BAND_SEQUENTIAL
  MAXIMUM = 160
  MEAN = 126.686
  MINIMUM = 81
  STANDARD_DEVIATION = 9.50886
END_OBJECT = IMAGE
/* MAP OBJECT DEFINITIONS */
OBJECT = IMAGE_MAP_PROJECTION
  ^DATA_SET_MAP_PROJECTION_CATALOG= "DSMAP.CAT"
  A_AXIS_RADIUS = 3396.0
  B_AXIS_RADIUS = 3396.0
  C_AXIS_RADIUS = 3396.0
  CENTER_LATITUDE = 0.0
  CENTER_LONGITUDE = 170.0
  COORDINATE_SYSTEM_NAME = PLANETOGRAPHIC
  COORDINATE_SYSTEM_TYPE = "BODY-FIXED ROTATING"
  EASTERNMOST_LONGITUDE = 171.695
  FIRST_STANDARD_PARALLEL = "N/A"
  LINE_FIRST_PIXEL = 1
  LINE_LAST_PIXEL = 17191
  LINE_PROJECTION_OFFSET = -132472.25
  MAP_PROJECTION_ROTATION = 0.0
  MAP_PROJECTION_TYPE = SINUSOIDAL
  MAP_RESOLUTION = 2370.85521546667
  MAP_SCALE = 0.025
  MAXIMUM_LATITUDE = -55.8854
  MINIMUM_LATITUDE = -63.0949
  POSITIVE_LONGITUDE_DIRECTION = EAST
  REFERENCE_LATITUDE = "N/A"
  REFERENCE_LONGITUDE = "N/A"
  SAMPLE_FIRST_PIXEL = 1
  SAMPLE_LAST_PIXEL = 4208
  SAMPLE_PROJECTION_OFFSET = 1903.75
  SECOND_STANDARD_PARALLEL = "N/A"
  WESTERNMOST_LONGITUDE = 168.367
END_OBJECT = IMAGE_MAP_PROJECTION
/* The JPEG2000 image data file associated with this label. */
OBJECT = COMPRESSED_FILE
  FILE_NAME = "H2315_0000_S23.JP2"
  RECORD_TYPE = UNDEFINED
  FILE_RECORDS = UNK
  ENCODING_TYPE = "JP2"
  INTERCHANGE_FORMAT = BINARY
  UNCOMPRESSED_FILE_NAME = "H2315_0000_S23.IMG"
  REQUIRED_STORAGE_BYTES = "72364976"
  ^DESCRIPTION = "JP2INFO.TXT"
END_OBJECT = COMPRESSED_FILE
END
